BEGIN:VCALENDAR
VERSION:2.0
PRODID:PHP
METHOD:REQUEST
X-ORIGINAL-URL:https://kickern-hamburg.de/liga/aktuelle-partien?task=team_begegnungen_ical&id=4840
X-WR-CALNAME;VALUE=TEXT:Bergbarbaren
BEGIN:VEVENT
CLASS:PUBLIC
DTSTART:20230921T173000Z
DURATION:PT2H30M
STATUS:CONFIRMED
SUMMARY:Bolzen Edel vs. Bergbarbaren
DESCRIPTION:3.Liga, Gruppe B (2. Spieltag)\nErgebnis: 15:17 (72:74)
LOCATION:Sidekick, Winsener Straße 190, 21077 Hamburg-Harburg
UID:SM-B15116@kickern-hamburg.de
PRIORITY:5
SEQUENCE:1
CATEGORIES:SPORT
DTSTAMP:20260420T182153
END:VEVENT
BEGIN:VEVENT
CLASS:PUBLIC
DTSTART:20231005T170000Z
DURATION:PT2H30M
STATUS:CONFIRMED
SUMMARY:Buffplatzmafia TF vs. Bergbarbaren
DESCRIPTION:3.Liga, Gruppe B (3. Spieltag)\nErgebnis: 9:23 (61:82)
LOCATION:Inline-Zentrale (RAUCHER), Sachsenstraße 7, 20097 Hamburg-Hammerbrook
UID:SM-B15124@kickern-hamburg.de
PRIORITY:5
SEQUENCE:1
CATEGORIES:SPORT
DTSTAMP:20260420T182153
END:VEVENT
BEGIN:VEVENT
CLASS:PUBLIC
DTSTART:20231102T190000Z
DURATION:PT2H30M
STATUS:CONFIRMED
SUMMARY:Bergbarbaren vs. Dampframme Aalstars
DESCRIPTION:3.Liga, Gruppe B (4. Spieltag)\nErgebnis: 20:12 (77:61)
LOCATION:KIXX, Nobistor 38, 22767 Hamburg-Altona-Altstadt
UID:SM-B15132@kickern-hamburg.de
PRIORITY:5
SEQUENCE:1
CATEGORIES:SPORT
DTSTAMP:20260420T182153
END:VEVENT
BEGIN:VEVENT
CLASS:PUBLIC
DTSTART:20231123T190000Z
DURATION:PT2H30M
STATUS:CONFIRMED
SUMMARY:Die Ilohhminauten FC St. Pauli vs. Bergbarbaren
DESCRIPTION:3.Liga, Gruppe B (5. Spieltag)\nErgebnis: 16:16 (70:72)
LOCATION:Ilohh Bar (RAUCHER), Repsoldstraße 52, 20097 Hamburg-Hammerbrook
UID:SM-B15138@kickern-hamburg.de
PRIORITY:5
SEQUENCE:1
CATEGORIES:SPORT
DTSTAMP:20260420T182153
END:VEVENT
BEGIN:VEVENT
CLASS:PUBLIC
DTSTART:20231130T190000Z
DURATION:PT2H30M
STATUS:CONFIRMED
SUMMARY:Bergbarbaren vs. Kicksiders (NR)
DESCRIPTION:3.Liga, Gruppe B (6. Spieltag)\nErgebnis: 12:20 (64:82)
LOCATION:KIXX, Nobistor 38, 22767 Hamburg-Altona-Altstadt
UID:SM-B15146@kickern-hamburg.de
PRIORITY:5
SEQUENCE:1
CATEGORIES:SPORT
DTSTAMP:20260420T182153
END:VEVENT
BEGIN:VEVENT
CLASS:PUBLIC
DTSTART:20231212T190000Z
DURATION:PT2H30M
STATUS:CONFIRMED
SUMMARY:Bergbarbaren vs. FC St. Pauli Kneipenstyle
DESCRIPTION:Landespokal (3. Runde)\nErgebnis: 11:21 (66:82)
LOCATION:KIXX, Nobistor 38, 22767 Hamburg-Altona-Altstadt
UID:SM-B15724@kickern-hamburg.de
PRIORITY:5
SEQUENCE:1
CATEGORIES:SPORT
DTSTAMP:20260420T182153
END:VEVENT
BEGIN:VEVENT
CLASS:PUBLIC
DTSTART:20240118T190000Z
DURATION:PT2H30M
STATUS:CONFIRMED
SUMMARY:Bergbarbaren vs. Kickeronis (NR)
DESCRIPTION:Ligapokal 3. Liga (2. Runde)\nErgebnis: 28:4 (92:48)
LOCATION:KIXX, Nobistor 38, 22767 Hamburg-Altona-Altstadt
UID:SM-B15670@kickern-hamburg.de
PRIORITY:5
SEQUENCE:1
CATEGORIES:SPORT
DTSTAMP:20260420T182153
END:VEVENT
BEGIN:VEVENT
CLASS:PUBLIC
DTSTART:20240125T190000Z
DURATION:PT2H30M
STATUS:CONFIRMED
SUMMARY:Bergbarbaren vs. FC St. Pauli MiDDelDinger (NR)
DESCRIPTION:3.Liga, Gruppe B (8. Spieltag)\nErgebnis: 25:7 (88:59)
LOCATION:KIXX, Nobistor 38, 22767 Hamburg-Altona-Altstadt
UID:SM-B15162@kickern-hamburg.de
PRIORITY:5
SEQUENCE:1
CATEGORIES:SPORT
DTSTAMP:20260420T182153
END:VEVENT
BEGIN:VEVENT
CLASS:PUBLIC
DTSTART:20240201T190000Z
DURATION:PT2H30M
STATUS:CONFIRMED
SUMMARY:Rakshasa vs. Bergbarbaren
DESCRIPTION:Ligapokal 3. Liga (3. Runde)\nErgebnis: 18:14 (79:70)
LOCATION:Parzelle 15 (RAUCHER), Hamburger Berg 15, 20359 Hamburg-St. Pauli
UID:SM-B15743@kickern-hamburg.de
PRIORITY:5
SEQUENCE:1
CATEGORIES:SPORT
DTSTAMP:20260420T182153
END:VEVENT
BEGIN:VEVENT
CLASS:PUBLIC
DTSTART:20240208T190000Z
DURATION:PT2H30M
STATUS:CONFIRMED
SUMMARY:Torfabrik Silpion (NR) vs. Bergbarbaren
DESCRIPTION:3.Liga, Gruppe B (9. Spieltag)\nErgebnis: 17:15 (77:75)
LOCATION:Die Torfabrik, Zum Sportplatz 10, 21220 Seevetal
UID:SM-B15168@kickern-hamburg.de
PRIORITY:5
SEQUENCE:1
CATEGORIES:SPORT
DTSTAMP:20260420T182153
END:VEVENT
BEGIN:VEVENT
CLASS:PUBLIC
DTSTART:20240314T190000Z
DURATION:PT2H30M
STATUS:CONFIRMED
SUMMARY:Bergbarbaren vs. Bolzen Edel
DESCRIPTION:3.Liga, Gruppe B (11. Spieltag)\nErgebnis: 21:11 (83:63)
LOCATION:KIXX, Nobistor 38, 22767 Hamburg-Altona-Altstadt
UID:SM-B15117@kickern-hamburg.de
PRIORITY:5
SEQUENCE:1
CATEGORIES:SPORT
DTSTAMP:20260420T182153
END:VEVENT
BEGIN:VEVENT
CLASS:PUBLIC
DTSTART:20240411T180000Z
DURATION:PT2H30M
STATUS:CONFIRMED
SUMMARY:Bergbarbaren vs. Buffplatzmafia TF
DESCRIPTION:3.Liga, Gruppe B (12. Spieltag)\nErgebnis: 21:11 (83:62)
LOCATION:KIXX, Nobistor 38, 22767 Hamburg-Altona-Altstadt
UID:SM-B15125@kickern-hamburg.de
PRIORITY:5
SEQUENCE:1
CATEGORIES:SPORT
DTSTAMP:20260420T182153
END:VEVENT
BEGIN:VEVENT
CLASS:PUBLIC
DTSTART:20240425T180000Z
DURATION:PT2H30M
STATUS:CONFIRMED
SUMMARY:Dampframme Aalstars vs. Bergbarbaren
DESCRIPTION:3.Liga, Gruppe B (13. Spieltag)\nErgebnis: 7:25 (59:86)
LOCATION:KIXX, Nobistor 38, 22767 Hamburg-Altona-Altstadt
UID:SM-B15133@kickern-hamburg.de
PRIORITY:5
SEQUENCE:1
CATEGORIES:SPORT
DTSTAMP:20260420T182153
END:VEVENT
BEGIN:VEVENT
CLASS:PUBLIC
DTSTART:20240502T180000Z
DURATION:PT2H30M
STATUS:CONFIRMED
SUMMARY:Bergbarbaren vs. Die Ilohhminauten FC St. Pauli
DESCRIPTION:3.Liga, Gruppe B (14. Spieltag)\nErgebnis: 21:11 (80:62)
LOCATION:KIXX, Nobistor 38, 22767 Hamburg-Altona-Altstadt
UID:SM-B15139@kickern-hamburg.de
PRIORITY:5
SEQUENCE:1
CATEGORIES:SPORT
DTSTAMP:20260420T182153
END:VEVENT
BEGIN:VEVENT
CLASS:PUBLIC
DTSTART:20240516T180000Z
DURATION:PT2H30M
STATUS:CONFIRMED
SUMMARY:Kicksiders (NR) vs. Bergbarbaren
DESCRIPTION:3.Liga, Gruppe B (15. Spieltag)\nErgebnis: 20:12 (82:62)
LOCATION:Sidekick, Winsener Straße 190, 21077 Hamburg-Harburg
UID:SM-B15147@kickern-hamburg.de
PRIORITY:5
SEQUENCE:1
CATEGORIES:SPORT
DTSTAMP:20260420T182153
END:VEVENT
BEGIN:VEVENT
CLASS:PUBLIC
DTSTART:20240627T180000Z
DURATION:PT2H30M
STATUS:CONFIRMED
SUMMARY:FC St. Pauli MiDDelDinger (NR) vs. Bergbarbaren
DESCRIPTION:3.Liga, Gruppe B (17. Spieltag)\nErgebnis: 19:13 (78:68)
LOCATION:Hannes & Hanna Wohnzimmer (Raucher), Weidenallee 60, 20357 Hamburg-Eimsbüttel
UID:SM-B15163@kickern-hamburg.de
PRIORITY:5
SEQUENCE:1
CATEGORIES:SPORT
DTSTAMP:20260420T182153
END:VEVENT
BEGIN:VEVENT
CLASS:PUBLIC
DTSTART:20240704T180000Z
DURATION:PT2H30M
STATUS:CONFIRMED
SUMMARY:Bergbarbaren vs. Torfabrik Silpion (NR)
DESCRIPTION:3.Liga, Gruppe B (18. Spieltag)\nErgebnis: 17:15 (73:72)
LOCATION:KIXX, Nobistor 38, 22767 Hamburg-Altona-Altstadt
UID:SM-B15169@kickern-hamburg.de
PRIORITY:5
SEQUENCE:1
CATEGORIES:SPORT
DTSTAMP:20260420T182153
END:VEVENT
BEGIN:VEVENT
CLASS:PUBLIC
DTSTART:20240831T110000Z
DURATION:PT2H30M
STATUS:CONFIRMED
SUMMARY:Solaris vs. Bergbarbaren
DESCRIPTION:2. / 3. Liga Relegation (1. Spieltag)\nErgebnis: 21:11 (80:63)
LOCATION:KIXX, Nobistor 38, 22767 Hamburg-Altona-Altstadt
UID:SM-B15772@kickern-hamburg.de
PRIORITY:5
SEQUENCE:1
CATEGORIES:SPORT
DTSTAMP:20260420T182153
END:VEVENT
BEGIN:VEVENT
CLASS:PUBLIC
DTSTART:20240831T130000Z
DURATION:PT2H30M
STATUS:CONFIRMED
SUMMARY:Von der Stange vs. Bergbarbaren
DESCRIPTION:2. / 3. Liga Relegation (2. Spieltag)\nErgebnis: 17:15 (71:74)
LOCATION:Blitz Bar, Schulterblatt 110, 20357 Hamburg
UID:SM-B15774@kickern-hamburg.de
PRIORITY:5
SEQUENCE:1
CATEGORIES:SPORT
DTSTAMP:20260420T182153
END:VEVENT
BEGIN:VEVENT
CLASS:PUBLIC
DTSTART:20240831T150000Z
DURATION:PT2H30M
STATUS:CONFIRMED
SUMMARY:Partisan Pinshot (NR) vs. Bergbarbaren
DESCRIPTION:2. / 3. Liga Relegation (3. Spieltag)\nErgebnis: 15:17 (75:72)
LOCATION:KIXX, Nobistor 38, 22767 Hamburg-Altona-Altstadt
UID:SM-B15778@kickern-hamburg.de
PRIORITY:5
SEQUENCE:1
CATEGORIES:SPORT
DTSTAMP:20260420T182153
END:VEVENT
BEGIN:VEVENT
CLASS:PUBLIC
DTSTART:20240831T170000Z
DURATION:PT2H30M
STATUS:CONFIRMED
SUMMARY:Bergbarbaren vs. FC St. Pauli from dusk till dawn
DESCRIPTION:2. / 3. Liga Relegation (4. Spieltag)\nErgebnis: 11:21 (64:81)
LOCATION:KIXX, Nobistor 38, 22767 Hamburg-Altona-Altstadt
UID:SM-B15783@kickern-hamburg.de
PRIORITY:5
SEQUENCE:1
CATEGORIES:SPORT
DTSTAMP:20260420T182153
END:VEVENT
END:VCALENDAR
