BEGIN:VCALENDAR
VERSION:2.0
PRODID:PHP
METHOD:REQUEST
X-ORIGINAL-URL:https://kickern-hamburg.de/liga/aktuelle-partien?task=team_begegnungen_ical&id=4836
X-WR-CALNAME;VALUE=TEXT:Anboard
BEGIN:VEVENT
CLASS:PUBLIC
DTSTART:20230912T180000Z
DURATION:PT2H30M
STATUS:CONFIRMED
SUMMARY:FC St. Pauli from dusk till dawn vs. Anboard
DESCRIPTION:2.Liga, Gruppe A (1. Spieltag)\nErgebnis: 13:19 (74:77)
LOCATION:KIXX, Nobistor 38, 22767 Hamburg-Altona-Altstadt
UID:SM-B15020@kickern-hamburg.de
PRIORITY:5
SEQUENCE:1
CATEGORIES:SPORT
DTSTAMP:20260420T182139
END:VEVENT
BEGIN:VEVENT
CLASS:PUBLIC
DTSTART:20230928T173000Z
DURATION:PT2H30M
STATUS:CONFIRMED
SUMMARY:Anboard vs. Flying Circus
DESCRIPTION:2.Liga, Gruppe A (2. Spieltag)\nErgebnis: 22:10 (85:55)
LOCATION:Deutsche Seemannsmission Hamburg-Altona, Große Elbstraße 132, 22767 Hamburg-Altona
UID:SM-B15030@kickern-hamburg.de
PRIORITY:5
SEQUENCE:1
CATEGORIES:SPORT
DTSTAMP:20260420T182139
END:VEVENT
BEGIN:VEVENT
CLASS:PUBLIC
DTSTART:20231012T180000Z
DURATION:PT2H30M
STATUS:CONFIRMED
SUMMARY:Hamburg Privateers 08 (NR) vs. Anboard
DESCRIPTION:2.Liga, Gruppe A (3. Spieltag)\nErgebnis: 8:24 (59:85)
LOCATION:KIXX, Nobistor 38, 22767 Hamburg-Altona-Altstadt
UID:SM-B15038@kickern-hamburg.de
PRIORITY:5
SEQUENCE:1
CATEGORIES:SPORT
DTSTAMP:20260420T182139
END:VEVENT
BEGIN:VEVENT
CLASS:PUBLIC
DTSTART:20231018T180000Z
DURATION:PT2H30M
STATUS:CONFIRMED
SUMMARY:Schorsch vs. Anboard
DESCRIPTION:Landespokal (1. Runde)\nErgebnis: 1:1 (1:1)
LOCATION:Ilohh Bar (RAUCHER), Repsoldstraße 52, 20097 Hamburg-Hammerbrook
UID:SM-B15266@kickern-hamburg.de
PRIORITY:5
SEQUENCE:1
CATEGORIES:SPORT
DTSTAMP:20260420T182139
END:VEVENT
BEGIN:VEVENT
CLASS:PUBLIC
DTSTART:20231109T190000Z
DURATION:PT2H30M
STATUS:CONFIRMED
SUMMARY:Anboard vs. Hamburg Likedeelers
DESCRIPTION:2.Liga, Gruppe A (4. Spieltag)\nErgebnis: 23:9 (86:55)
LOCATION:Deutsche Seemannsmission Hamburg-Altona, Große Elbstraße 132, 22767 Hamburg-Altona
UID:SM-B15048@kickern-hamburg.de
PRIORITY:5
SEQUENCE:1
CATEGORIES:SPORT
DTSTAMP:20260420T182139
END:VEVENT
BEGIN:VEVENT
CLASS:PUBLIC
DTSTART:20231121T183000Z
DURATION:PT2H30M
STATUS:CONFIRMED
SUMMARY:Goalzillas 2 (NR) vs. Anboard
DESCRIPTION:2.Liga, Gruppe A (5. Spieltag)\nErgebnis: 19:13 (82:72)
LOCATION:KIXX, Nobistor 38, 22767 Hamburg-Altona-Altstadt
UID:SM-B15058@kickern-hamburg.de
PRIORITY:5
SEQUENCE:1
CATEGORIES:SPORT
DTSTAMP:20260420T182139
END:VEVENT
BEGIN:VEVENT
CLASS:PUBLIC
DTSTART:20231207T183000Z
DURATION:PT2H30M
STATUS:CONFIRMED
SUMMARY:Anboard vs. Kickertrupp (NR)
DESCRIPTION:2.Liga, Gruppe A (6. Spieltag)\nErgebnis: 25:7 (86:67)
LOCATION:Deutsche Seemannsmission Hamburg-Altona, Große Elbstraße 132, 22767 Hamburg-Altona
UID:SM-B15068@kickern-hamburg.de
PRIORITY:5
SEQUENCE:1
CATEGORIES:SPORT
DTSTAMP:20260420T182139
END:VEVENT
BEGIN:VEVENT
CLASS:PUBLIC
DTSTART:20240116T190000Z
DURATION:PT2H30M
STATUS:CONFIRMED
SUMMARY:Phoenix (NR) vs. Anboard
DESCRIPTION:2.Liga, Gruppe A (7. Spieltag)\nErgebnis: 11:21 (65:82)
LOCATION:Jugendleistungszentrum HdJ Lattenkamp, Bebelallee 22, 22299 Hamburg-Winterhude
UID:SM-B15078@kickern-hamburg.de
PRIORITY:5
SEQUENCE:1
CATEGORIES:SPORT
DTSTAMP:20260420T182139
END:VEVENT
BEGIN:VEVENT
CLASS:PUBLIC
DTSTART:20240201T190000Z
DURATION:PT2H30M
STATUS:CONFIRMED
SUMMARY:Anboard vs. Altonaer Kickerkraken
DESCRIPTION:2.Liga, Gruppe A (8. Spieltag)\nErgebnis: 21:11 (82:63)
LOCATION:Deutsche Seemannsmission Hamburg-Altona, Große Elbstraße 132, 22767 Hamburg-Altona
UID:SM-B15088@kickern-hamburg.de
PRIORITY:5
SEQUENCE:1
CATEGORIES:SPORT
DTSTAMP:20260420T182139
END:VEVENT
BEGIN:VEVENT
CLASS:PUBLIC
DTSTART:20240213T183000Z
DURATION:PT2H30M
STATUS:CONFIRMED
SUMMARY:Kickerbande (NR) vs. Anboard
DESCRIPTION:2.Liga, Gruppe A (9. Spieltag)\nErgebnis: 10:22 (57:80)
LOCATION:HBT Hamburger Berater Team, Stadthausbrücke 3, 20355 Hamburg-Neustadt
UID:SM-B15100@kickern-hamburg.de
PRIORITY:5
SEQUENCE:1
CATEGORIES:SPORT
DTSTAMP:20260420T182139
END:VEVENT
BEGIN:VEVENT
CLASS:PUBLIC
DTSTART:20240229T190000Z
DURATION:PT2H30M
STATUS:CONFIRMED
SUMMARY:Anboard vs. FC St. Pauli from dusk till dawn
DESCRIPTION:2.Liga, Gruppe A (10. Spieltag)\nErgebnis: 21:11 (84:67)
LOCATION:Deutsche Seemannsmission Hamburg-Altona, Große Elbstraße 132, 22767 Hamburg-Altona
UID:SM-B15021@kickern-hamburg.de
PRIORITY:5
SEQUENCE:1
CATEGORIES:SPORT
DTSTAMP:20260420T182139
END:VEVENT
BEGIN:VEVENT
CLASS:PUBLIC
DTSTART:20240312T190000Z
DURATION:PT2H30M
STATUS:CONFIRMED
SUMMARY:Flying Circus vs. Anboard
DESCRIPTION:2.Liga, Gruppe A (11. Spieltag)\nErgebnis: 11:21 (65:84)
LOCATION:KIXX, Nobistor 38, 22767 Hamburg-Altona-Altstadt
UID:SM-B15031@kickern-hamburg.de
PRIORITY:5
SEQUENCE:1
CATEGORIES:SPORT
DTSTAMP:20260420T182139
END:VEVENT
BEGIN:VEVENT
CLASS:PUBLIC
DTSTART:20240411T180000Z
DURATION:PT2H30M
STATUS:CONFIRMED
SUMMARY:Anboard vs. Hamburg Privateers 08 (NR)
DESCRIPTION:2.Liga, Gruppe A (12. Spieltag)\nErgebnis: 31:1 (95:51)
LOCATION:Deutsche Seemannsmission Hamburg-Altona, Große Elbstraße 132, 22767 Hamburg-Altona
UID:SM-B15039@kickern-hamburg.de
PRIORITY:5
SEQUENCE:1
CATEGORIES:SPORT
DTSTAMP:20260420T182139
END:VEVENT
BEGIN:VEVENT
CLASS:PUBLIC
DTSTART:20240426T180000Z
DURATION:PT2H30M
STATUS:CONFIRMED
SUMMARY:Hamburg Likedeelers vs. Anboard
DESCRIPTION:2.Liga, Gruppe A (13. Spieltag)\nErgebnis: 9:23 (58:85)
LOCATION:KIXX, Nobistor 38, 22767 Hamburg-Altona-Altstadt
UID:SM-B15049@kickern-hamburg.de
PRIORITY:5
SEQUENCE:1
CATEGORIES:SPORT
DTSTAMP:20260420T182139
END:VEVENT
BEGIN:VEVENT
CLASS:PUBLIC
DTSTART:20240509T173000Z
DURATION:PT2H30M
STATUS:CONFIRMED
SUMMARY:Anboard vs. Goalzillas 2 (NR)
DESCRIPTION:2.Liga, Gruppe A (14. Spieltag)\nErgebnis: 14:18 (74:79)
LOCATION:Deutsche Seemannsmission Hamburg-Altona, Große Elbstraße 132, 22767 Hamburg-Altona
UID:SM-B15059@kickern-hamburg.de
PRIORITY:5
SEQUENCE:1
CATEGORIES:SPORT
DTSTAMP:20260420T182139
END:VEVENT
BEGIN:VEVENT
CLASS:PUBLIC
DTSTART:20240523T180000Z
DURATION:PT2H30M
STATUS:CONFIRMED
SUMMARY:Kickertrupp (NR) vs. Anboard
DESCRIPTION:2.Liga, Gruppe A (15. Spieltag)\nErgebnis: 17:15 (74:70)
LOCATION:CloudSeeds GmbH, Wendenstraße 377, 20537 Hamburg
UID:SM-B15069@kickern-hamburg.de
PRIORITY:5
SEQUENCE:1
CATEGORIES:SPORT
DTSTAMP:20260420T182139
END:VEVENT
BEGIN:VEVENT
CLASS:PUBLIC
DTSTART:20240613T180000Z
DURATION:PT2H30M
STATUS:CONFIRMED
SUMMARY:Anboard vs. Phoenix (NR)
DESCRIPTION:2.Liga, Gruppe A (16. Spieltag)\nErgebnis: 14:18 (68:78)
LOCATION:Deutsche Seemannsmission Hamburg-Altona, Große Elbstraße 132, 22767 Hamburg-Altona
UID:SM-B15079@kickern-hamburg.de
PRIORITY:5
SEQUENCE:1
CATEGORIES:SPORT
DTSTAMP:20260420T182139
END:VEVENT
BEGIN:VEVENT
CLASS:PUBLIC
DTSTART:20240625T180000Z
DURATION:PT2H30M
STATUS:CONFIRMED
SUMMARY:Altonaer Kickerkraken vs. Anboard
DESCRIPTION:2.Liga, Gruppe A (17. Spieltag)\nErgebnis: 19:13 (82:76)
LOCATION:Deutsche Seemannsmission Hamburg-Altona, Große Elbstraße 132, 22767 Hamburg-Altona
UID:SM-B15089@kickern-hamburg.de
PRIORITY:5
SEQUENCE:1
CATEGORIES:SPORT
DTSTAMP:20260420T182139
END:VEVENT
BEGIN:VEVENT
CLASS:PUBLIC
DTSTART:20240711T180000Z
DURATION:PT2H30M
STATUS:CONFIRMED
SUMMARY:Anboard vs. Kickerbande (NR)
DESCRIPTION:2.Liga, Gruppe A (18. Spieltag)\nErgebnis: 15:17 (75:77)
LOCATION:Deutsche Seemannsmission Hamburg-Altona, Große Elbstraße 132, 22767 Hamburg-Altona
UID:SM-B15101@kickern-hamburg.de
PRIORITY:5
SEQUENCE:1
CATEGORIES:SPORT
DTSTAMP:20260420T182139
END:VEVENT
BEGIN:VEVENT
CLASS:PUBLIC
DTSTART:20240831T110000Z
DURATION:PT2H30M
STATUS:CONFIRMED
SUMMARY:JLZ NortHHunters (NR) vs. Anboard
DESCRIPTION:1. / 2. Liga Relegation\nErgebnis: 24:8 (87:55)
LOCATION:KIXX, Nobistor 38, 22767 Hamburg-Altona-Altstadt
UID:SM-B15770@kickern-hamburg.de
PRIORITY:5
SEQUENCE:1
CATEGORIES:SPORT
DTSTAMP:20260420T182139
END:VEVENT
END:VCALENDAR
