BEGIN:VCALENDAR
VERSION:2.0
PRODID:PHP
METHOD:REQUEST
X-ORIGINAL-URL:https://kickern-hamburg.de/liga/aktuelle-partien?task=team_begegnungen_ical&id=4813
X-WR-CALNAME;VALUE=TEXT:Sidekickstarters (NR)
BEGIN:VEVENT
CLASS:PUBLIC
DTSTART:20230907T180000Z
DURATION:PT2H30M
STATUS:CONFIRMED
SUMMARY:Sidekickstarters (NR) vs. WPS
DESCRIPTION:4.Liga, Gruppe C (1. Spieltag)\nErgebnis: 16:16 (75:77)
LOCATION:Sidekick, Winsener Straße 190, 21077 Hamburg-Harburg
UID:SM-B15465@kickern-hamburg.de
PRIORITY:5
SEQUENCE:1
CATEGORIES:SPORT
DTSTAMP:20260420T182228
END:VEVENT
BEGIN:VEVENT
CLASS:PUBLIC
DTSTART:20230927T180000Z
DURATION:PT2H30M
STATUS:CONFIRMED
SUMMARY:Likedeeler FC St. Pauli vs. Sidekickstarters (NR)
DESCRIPTION:4.Liga, Gruppe C (2. Spieltag)\nErgebnis: 17:15 (76:71)
LOCATION:St. Pauli Wohnzimmer(Raucher) Ahoi, Hafenstr. 122, 20359 Hamburg-Hamburg
UID:SM-B15473@kickern-hamburg.de
PRIORITY:5
SEQUENCE:1
CATEGORIES:SPORT
DTSTAMP:20260420T182228
END:VEVENT
BEGIN:VEVENT
CLASS:PUBLIC
DTSTART:20231003T180000Z
DURATION:PT2H30M
STATUS:CONFIRMED
SUMMARY:Sidekickstarters (NR) vs. JLZ Kaderschmiede
DESCRIPTION:4.Liga, Gruppe C (3. Spieltag)\nErgebnis: 22:10 (85:55)
LOCATION:Sidekick, Winsener Straße 190, 21077 Hamburg-Harburg
UID:SM-B15483@kickern-hamburg.de
PRIORITY:5
SEQUENCE:1
CATEGORIES:SPORT
DTSTAMP:20260420T182228
END:VEVENT
BEGIN:VEVENT
CLASS:PUBLIC
DTSTART:20231017T180000Z
DURATION:PT2H30M
STATUS:CONFIRMED
SUMMARY:Sidekickstarters (NR) vs. HSV BAMbole (NR)
DESCRIPTION:Landespokal (1. Runde)\nErgebnis: 2:30 (32:94)
LOCATION:Sidekick, Winsener Straße 190, 21077 Hamburg-Harburg
UID:SM-B15248@kickern-hamburg.de
PRIORITY:5
SEQUENCE:1
CATEGORIES:SPORT
DTSTAMP:20260420T182228
END:VEVENT
BEGIN:VEVENT
CLASS:PUBLIC
DTSTART:20231024T180000Z
DURATION:PT2H30M
STATUS:CONFIRMED
SUMMARY:Sidekickstarters (NR) vs. WPS
DESCRIPTION:Ligapokal 4. Liga (1. Runde)\nErgebnis: 20:12 (81:70)
LOCATION:Sidekick, Winsener Straße 190, 21077 Hamburg-Harburg
UID:SM-B15651@kickern-hamburg.de
PRIORITY:5
SEQUENCE:1
CATEGORIES:SPORT
DTSTAMP:20260420T182228
END:VEVENT
BEGIN:VEVENT
CLASS:PUBLIC
DTSTART:20231109T190000Z
DURATION:PT2H30M
STATUS:CONFIRMED
SUMMARY:Mauzis vs. Sidekickstarters (NR)
DESCRIPTION:4.Liga, Gruppe C (4. Spieltag)\nErgebnis: 23:9 (87:60)
LOCATION:KIXX, Nobistor 38, 22767 Hamburg-Altona-Altstadt
UID:SM-B15491@kickern-hamburg.de
PRIORITY:5
SEQUENCE:1
CATEGORIES:SPORT
DTSTAMP:20260420T182228
END:VEVENT
BEGIN:VEVENT
CLASS:PUBLIC
DTSTART:20231114T180000Z
DURATION:PT2H30M
STATUS:CONFIRMED
SUMMARY:Roter Stern Kickers 2 (NR) vs. Sidekickstarters (NR)
DESCRIPTION:4.Liga, Gruppe C (5. Spieltag)\nErgebnis: 14:18 (64:77)
LOCATION:JuKI 42, An der Reitbahn 2, 22926 Ahrensburg
UID:SM-B15509@kickern-hamburg.de
PRIORITY:5
SEQUENCE:1
CATEGORIES:SPORT
DTSTAMP:20260420T182228
END:VEVENT
BEGIN:VEVENT
CLASS:PUBLIC
DTSTART:20231128T190000Z
DURATION:PT2H30M
STATUS:CONFIRMED
SUMMARY:Sidekickstarters (NR) vs. Dynamo & Durchstarters Grete Hamburg
DESCRIPTION:4.Liga, Gruppe C (6. Spieltag)\nErgebnis: 15:17 (71:73)
LOCATION:Sidekick, Winsener Straße 190, 21077 Hamburg-Harburg
UID:SM-B15519@kickern-hamburg.de
PRIORITY:5
SEQUENCE:1
CATEGORIES:SPORT
DTSTAMP:20260420T182228
END:VEVENT
BEGIN:VEVENT
CLASS:PUBLIC
DTSTART:20231212T190000Z
DURATION:PT2H30M
STATUS:CONFIRMED
SUMMARY:Ex Orbit Ants (NR) vs. Sidekickstarters (NR)
DESCRIPTION:Ligapokal 4. Liga (2. Runde)\nErgebnis: 27:5 (91:48)
LOCATION:Joy, Winterhuder Weg 69, 22085 Hamburg-Uhlenhorst
UID:SM-B15705@kickern-hamburg.de
PRIORITY:5
SEQUENCE:1
CATEGORIES:SPORT
DTSTAMP:20260420T182228
END:VEVENT
BEGIN:VEVENT
CLASS:PUBLIC
DTSTART:20240116T190000Z
DURATION:PT2H30M
STATUS:CONFIRMED
SUMMARY:Sidekickstarters (NR) vs. Exorbitante Eskalation
DESCRIPTION:4.Liga, Gruppe C (7. Spieltag)\nErgebnis: 26:6 (90:51)
LOCATION:Sidekick, Winsener Straße 190, 21077 Hamburg-Harburg
UID:SM-B15525@kickern-hamburg.de
PRIORITY:5
SEQUENCE:1
CATEGORIES:SPORT
DTSTAMP:20260420T182228
END:VEVENT
BEGIN:VEVENT
CLASS:PUBLIC
DTSTART:20240131T190000Z
DURATION:PT2H30M
STATUS:CONFIRMED
SUMMARY:TishING for Compliments vs. Sidekickstarters (NR)
DESCRIPTION:4.Liga, Gruppe C (8. Spieltag)\nErgebnis: 19:13 (76:64)
LOCATION:TUHH Hauptgebäude A, Am Schwarzenberg-Campus 1, 21073 Hamburg
UID:SM-B15533@kickern-hamburg.de
PRIORITY:5
SEQUENCE:1
CATEGORIES:SPORT
DTSTAMP:20260420T182228
END:VEVENT
BEGIN:VEVENT
CLASS:PUBLIC
DTSTART:20240213T190000Z
DURATION:PT2H30M
STATUS:CONFIRMED
SUMMARY:Sidekickstarters (NR) vs. Wohnzimmer Kapeiken
DESCRIPTION:4.Liga, Gruppe C (9. Spieltag)\nErgebnis: 27:5 (89:44)
LOCATION:Sidekick, Winsener Straße 190, 21077 Hamburg-Harburg
UID:SM-B15549@kickern-hamburg.de
PRIORITY:5
SEQUENCE:1
CATEGORIES:SPORT
DTSTAMP:20260420T182228
END:VEVENT
BEGIN:VEVENT
CLASS:PUBLIC
DTSTART:20240220T190000Z
DURATION:PT2H30M
STATUS:CONFIRMED
SUMMARY:WPS vs. Sidekickstarters (NR)
DESCRIPTION:4.Liga, Gruppe C (10. Spieltag)\nErgebnis: 19:13 (77:70)
LOCATION:Workplace Solutions GmbH, Dorotheenstraße 60, 22301 Hamburg
UID:SM-B15466@kickern-hamburg.de
PRIORITY:5
SEQUENCE:1
CATEGORIES:SPORT
DTSTAMP:20260420T182228
END:VEVENT
BEGIN:VEVENT
CLASS:PUBLIC
DTSTART:20240305T190000Z
DURATION:PT2H30M
STATUS:CONFIRMED
SUMMARY:Sidekickstarters (NR) vs. Likedeeler FC St. Pauli
DESCRIPTION:4.Liga, Gruppe C (11. Spieltag)\nErgebnis: 17:15 (73:72)
LOCATION:Sidekick, Winsener Straße 190, 21077 Hamburg-Harburg
UID:SM-B15474@kickern-hamburg.de
PRIORITY:5
SEQUENCE:1
CATEGORIES:SPORT
DTSTAMP:20260420T182228
END:VEVENT
BEGIN:VEVENT
CLASS:PUBLIC
DTSTART:20240403T173000Z
DURATION:PT2H30M
STATUS:CONFIRMED
SUMMARY:JLZ Kaderschmiede vs. Sidekickstarters (NR)
DESCRIPTION:4.Liga, Gruppe C (12. Spieltag)\nErgebnis: 9:23 (61:81)
LOCATION:Jugendleistungszentrum HdJ Lattenkamp, Bebelallee 22, 22299 Hamburg-Winterhude
UID:SM-B15484@kickern-hamburg.de
PRIORITY:5
SEQUENCE:1
CATEGORIES:SPORT
DTSTAMP:20260420T182228
END:VEVENT
BEGIN:VEVENT
CLASS:PUBLIC
DTSTART:20240416T180000Z
DURATION:PT2H30M
STATUS:CONFIRMED
SUMMARY:Sidekickstarters (NR) vs. Mauzis
DESCRIPTION:4.Liga, Gruppe C (13. Spieltag)\nErgebnis: 11:21 (64:82)
LOCATION:Sidekick, Winsener Straße 190, 21077 Hamburg-Harburg
UID:SM-B15492@kickern-hamburg.de
PRIORITY:5
SEQUENCE:1
CATEGORIES:SPORT
DTSTAMP:20260420T182228
END:VEVENT
BEGIN:VEVENT
CLASS:PUBLIC
DTSTART:20240430T170000Z
DURATION:PT2H30M
STATUS:CONFIRMED
SUMMARY:Sidekickstarters (NR) vs. Roter Stern Kickers 2 (NR)
DESCRIPTION:4.Liga, Gruppe C (14. Spieltag)\nErgebnis: 15:17 (70:73)
LOCATION:Sidekick, Winsener Straße 190, 21077 Hamburg-Harburg
UID:SM-B15510@kickern-hamburg.de
PRIORITY:5
SEQUENCE:1
CATEGORIES:SPORT
DTSTAMP:20260420T182228
END:VEVENT
BEGIN:VEVENT
CLASS:PUBLIC
DTSTART:20240516T180000Z
DURATION:PT2H30M
STATUS:CONFIRMED
SUMMARY:Dynamo & Durchstarters Grete Hamburg vs. Sidekickstarters (NR)
DESCRIPTION:4.Liga, Gruppe C (15. Spieltag)\nErgebnis: 23:9 (84:56)
LOCATION:Grete (Kulturverein), Margaretenstraße 33, 20357 Hamburg
UID:SM-B15520@kickern-hamburg.de
PRIORITY:5
SEQUENCE:1
CATEGORIES:SPORT
DTSTAMP:20260420T182228
END:VEVENT
BEGIN:VEVENT
CLASS:PUBLIC
DTSTART:20240612T180000Z
DURATION:PT2H30M
STATUS:CONFIRMED
SUMMARY:Exorbitante Eskalation vs. Sidekickstarters (NR)
DESCRIPTION:4.Liga, Gruppe C (16. Spieltag)\nErgebnis: 7:25 (52:85)
LOCATION:Joy, Winterhuder Weg 69, 22085 Hamburg-Uhlenhorst
UID:SM-B15526@kickern-hamburg.de
PRIORITY:5
SEQUENCE:1
CATEGORIES:SPORT
DTSTAMP:20260420T182228
END:VEVENT
BEGIN:VEVENT
CLASS:PUBLIC
DTSTART:20240618T180000Z
DURATION:PT2H30M
STATUS:CONFIRMED
SUMMARY:Sidekickstarters (NR) vs. TishING for Compliments
DESCRIPTION:4.Liga, Gruppe C (17. Spieltag)\nErgebnis: 11:21 (58:80)
LOCATION:Sidekick, Winsener Straße 190, 21077 Hamburg-Harburg
UID:SM-B15534@kickern-hamburg.de
PRIORITY:5
SEQUENCE:1
CATEGORIES:SPORT
DTSTAMP:20260420T182228
END:VEVENT
BEGIN:VEVENT
CLASS:PUBLIC
DTSTART:20240710T180000Z
DURATION:PT2H30M
STATUS:CONFIRMED
SUMMARY:Wohnzimmer Kapeiken vs. Sidekickstarters (NR)
DESCRIPTION:4.Liga, Gruppe C (18. Spieltag)\nErgebnis: 12:20 (68:79)
LOCATION:Hannes & Hanna Wohnzimmer (Raucher), Weidenallee 60, 20357 Hamburg-Eimsbüttel
UID:SM-B15550@kickern-hamburg.de
PRIORITY:5
SEQUENCE:1
CATEGORIES:SPORT
DTSTAMP:20260420T182228
END:VEVENT
END:VCALENDAR
