BEGIN:VCALENDAR
VERSION:2.0
PRODID:PHP
METHOD:REQUEST
X-ORIGINAL-URL:https://kickern-hamburg.de/liga/aktuelle-partien?task=team_begegnungen_ical&id=4793
X-WR-CALNAME;VALUE=TEXT:Kickericki
BEGIN:VEVENT
CLASS:PUBLIC
DTSTART:20230905T173000Z
DURATION:PT2H30M
STATUS:CONFIRMED
SUMMARY:HSV Norderstedt (NR) vs. Kickericki
DESCRIPTION:4.Liga, Gruppe A (1. Spieltag)\nErgebnis: 24:8 (88:61)
LOCATION:HSV Tischfußball Sportzentrum, Ulzburger Strasse 94, 22850 Norderstedt
UID:SM-B15553@kickern-hamburg.de
PRIORITY:5
SEQUENCE:1
CATEGORIES:SPORT
DTSTAMP:20260420T182316
END:VEVENT
BEGIN:VEVENT
CLASS:PUBLIC
DTSTART:20230919T180000Z
DURATION:PT2H30M
STATUS:CONFIRMED
SUMMARY:Kickericki vs. Foosball Club FC St. Pauli
DESCRIPTION:Landespokal (1. Runde)\nErgebnis: 3:29 (43:90)
LOCATION:Parzelle 15 (RAUCHER), Hamburger Berg 15, 20359 Hamburg-St. Pauli
UID:SM-B15249@kickern-hamburg.de
PRIORITY:5
SEQUENCE:1
CATEGORIES:SPORT
DTSTAMP:20260420T182316
END:VEVENT
BEGIN:VEVENT
CLASS:PUBLIC
DTSTART:20230921T180000Z
DURATION:PT2H30M
STATUS:CONFIRMED
SUMMARY:Kickericki vs. Exorbitanter Mumpitz
DESCRIPTION:4.Liga, Gruppe A (2. Spieltag)\nErgebnis: 13:19 (66:75)
LOCATION:Parzelle 15 (RAUCHER), Hamburger Berg 15, 20359 Hamburg-St. Pauli
UID:SM-B15563@kickern-hamburg.de
PRIORITY:5
SEQUENCE:1
CATEGORIES:SPORT
DTSTAMP:20260420T182316
END:VEVENT
BEGIN:VEVENT
CLASS:PUBLIC
DTSTART:20231005T180000Z
DURATION:PT2H30M
STATUS:CONFIRMED
SUMMARY:Dampframme St. Pauli vs. Kickericki
DESCRIPTION:4.Liga, Gruppe A (3. Spieltag)\nErgebnis: 18:14 (76:64)
LOCATION:KIXX, Nobistor 38, 22767 Hamburg-Altona-Altstadt
UID:SM-B15575@kickern-hamburg.de
PRIORITY:5
SEQUENCE:1
CATEGORIES:SPORT
DTSTAMP:20260420T182316
END:VEVENT
BEGIN:VEVENT
CLASS:PUBLIC
DTSTART:20231026T180000Z
DURATION:PT2H30M
STATUS:CONFIRMED
SUMMARY:Kickericki vs. Kellerkicker Bergedorf
DESCRIPTION:Ligapokal 4. Liga (1. Runde)\nErgebnis: 17:15 (65:70)
LOCATION:Parzelle 15 (RAUCHER), Hamburger Berg 15, 20359 Hamburg-St. Pauli
UID:SM-B15656@kickern-hamburg.de
PRIORITY:5
SEQUENCE:1
CATEGORIES:SPORT
DTSTAMP:20260420T182316
END:VEVENT
BEGIN:VEVENT
CLASS:PUBLIC
DTSTART:20231109T190000Z
DURATION:PT2H30M
STATUS:CONFIRMED
SUMMARY:Kickericki vs. Old School
DESCRIPTION:4.Liga, Gruppe A (4. Spieltag)\nErgebnis: 12:20 (65:79)
LOCATION:Parzelle 15 (RAUCHER), Hamburger Berg 15, 20359 Hamburg-St. Pauli
UID:SM-B15585@kickern-hamburg.de
PRIORITY:5
SEQUENCE:1
CATEGORIES:SPORT
DTSTAMP:20260420T182316
END:VEVENT
BEGIN:VEVENT
CLASS:PUBLIC
DTSTART:20231128T183000Z
DURATION:PT2H30M
STATUS:CONFIRMED
SUMMARY:FC St. Pauli Die Anfänger vs. Kickericki
DESCRIPTION:4.Liga, Gruppe A (5. Spieltag)\nErgebnis: 15:17 (72:69)
LOCATION:FC St. Pauli Clubheim, Harald-Stender-Platz 1, 20359 Hamburg-St. Pauli
UID:SM-B15591@kickern-hamburg.de
PRIORITY:5
SEQUENCE:1
CATEGORIES:SPORT
DTSTAMP:20260420T182316
END:VEVENT
BEGIN:VEVENT
CLASS:PUBLIC
DTSTART:20231130T190000Z
DURATION:PT2H30M
STATUS:CONFIRMED
SUMMARY:Kickericki vs. Ex Orbit Ants (NR)
DESCRIPTION:4.Liga, Gruppe A (6. Spieltag)\nErgebnis: 4:28 (45:92)
LOCATION:Parzelle 15 (RAUCHER), Hamburger Berg 15, 20359 Hamburg-St. Pauli
UID:SM-B15601@kickern-hamburg.de
PRIORITY:5
SEQUENCE:1
CATEGORIES:SPORT
DTSTAMP:20260420T182316
END:VEVENT
BEGIN:VEVENT
CLASS:PUBLIC
DTSTART:20231214T190000Z
DURATION:PT2H30M
STATUS:CONFIRMED
SUMMARY:Dynamo & Durchstarters Grete Hamburg vs. Kickericki
DESCRIPTION:Ligapokal 4. Liga (2. Runde)\nErgebnis: 25:7 (89:57)
LOCATION:Grete (Kulturverein), Margaretenstraße 33, 20357 Hamburg
UID:SM-B15707@kickern-hamburg.de
PRIORITY:5
SEQUENCE:1
CATEGORIES:SPORT
DTSTAMP:20260420T182316
END:VEVENT
BEGIN:VEVENT
CLASS:PUBLIC
DTSTART:20240110T190000Z
DURATION:PT2H30M
STATUS:CONFIRMED
SUMMARY:FC St. Pauli LMB Zwo vs. Kickericki
DESCRIPTION:4.Liga, Gruppe A (7. Spieltag)\nErgebnis: 11:21 (64:80)
LOCATION:FC St. Pauli Clubheim, Harald-Stender-Platz 1, 20359 Hamburg-St. Pauli
UID:SM-B15617@kickern-hamburg.de
PRIORITY:5
SEQUENCE:1
CATEGORIES:SPORT
DTSTAMP:20260420T182316
END:VEVENT
BEGIN:VEVENT
CLASS:PUBLIC
DTSTART:20240125T190000Z
DURATION:PT2H30M
STATUS:CONFIRMED
SUMMARY:The Walking Dead vs. Kickericki
DESCRIPTION:4.Liga, Gruppe A (8. Spieltag)\nErgebnis: 23:9 (85:54)
LOCATION:Parzelle 15 (RAUCHER), Hamburger Berg 15, 20359 Hamburg-St. Pauli
UID:SM-B15625@kickern-hamburg.de
PRIORITY:5
SEQUENCE:1
CATEGORIES:SPORT
DTSTAMP:20260420T182316
END:VEVENT
BEGIN:VEVENT
CLASS:PUBLIC
DTSTART:20240208T190000Z
DURATION:PT2H30M
STATUS:CONFIRMED
SUMMARY:Kickericki vs. Torfabrik 2. Silpion (NR)
DESCRIPTION:4.Liga, Gruppe A (9. Spieltag)\nErgebnis: 18:14 (75:71)
LOCATION:Parzelle 15 (RAUCHER), Hamburger Berg 15, 20359 Hamburg-St. Pauli
UID:SM-B15637@kickern-hamburg.de
PRIORITY:5
SEQUENCE:1
CATEGORIES:SPORT
DTSTAMP:20260420T182316
END:VEVENT
BEGIN:VEVENT
CLASS:PUBLIC
DTSTART:20240222T190000Z
DURATION:PT2H30M
STATUS:CONFIRMED
SUMMARY:Kickericki vs. HSV Norderstedt (NR)
DESCRIPTION:4.Liga, Gruppe A (10. Spieltag)\nErgebnis: 11:21 (59:78)
LOCATION:Parzelle 15 (RAUCHER), Hamburger Berg 15, 20359 Hamburg-St. Pauli
UID:SM-B15554@kickern-hamburg.de
PRIORITY:5
SEQUENCE:1
CATEGORIES:SPORT
DTSTAMP:20260420T182316
END:VEVENT
BEGIN:VEVENT
CLASS:PUBLIC
DTSTART:20240307T190000Z
DURATION:PT2H30M
STATUS:CONFIRMED
SUMMARY:Exorbitanter Mumpitz vs. Kickericki
DESCRIPTION:4.Liga, Gruppe A (11. Spieltag)\nErgebnis: 20:12 (83:62)
LOCATION:Joy, Winterhuder Weg 69, 22085 Hamburg-Uhlenhorst
UID:SM-B15564@kickern-hamburg.de
PRIORITY:5
SEQUENCE:1
CATEGORIES:SPORT
DTSTAMP:20260420T182316
END:VEVENT
BEGIN:VEVENT
CLASS:PUBLIC
DTSTART:20240404T180000Z
DURATION:PT2H30M
STATUS:CONFIRMED
SUMMARY:Kickericki vs. Dampframme St. Pauli
DESCRIPTION:4.Liga, Gruppe A (12. Spieltag)\nErgebnis: 23:9 (84:58)
LOCATION:Parzelle 15 (RAUCHER), Hamburger Berg 15, 20359 Hamburg-St. Pauli
UID:SM-B15576@kickern-hamburg.de
PRIORITY:5
SEQUENCE:1
CATEGORIES:SPORT
DTSTAMP:20260420T182316
END:VEVENT
BEGIN:VEVENT
CLASS:PUBLIC
DTSTART:20240416T180000Z
DURATION:PT2H30M
STATUS:CONFIRMED
SUMMARY:Old School vs. Kickericki
DESCRIPTION:4.Liga, Gruppe A (13. Spieltag)\nErgebnis: 21:11 (83:65)
LOCATION:Hannes & Hanna Wohnzimmer (Raucher), Weidenallee 60, 20357 Hamburg-Eimsbüttel
UID:SM-B15586@kickern-hamburg.de
PRIORITY:5
SEQUENCE:1
CATEGORIES:SPORT
DTSTAMP:20260420T182316
END:VEVENT
BEGIN:VEVENT
CLASS:PUBLIC
DTSTART:20240502T180000Z
DURATION:PT2H30M
STATUS:CONFIRMED
SUMMARY:Kickericki vs. FC St. Pauli Die Anfänger
DESCRIPTION:4.Liga, Gruppe A (14. Spieltag)\nErgebnis: 20:12 (76:62)
LOCATION:Parzelle 15 (RAUCHER), Hamburger Berg 15, 20359 Hamburg-St. Pauli
UID:SM-B15592@kickern-hamburg.de
PRIORITY:5
SEQUENCE:1
CATEGORIES:SPORT
DTSTAMP:20260420T182316
END:VEVENT
BEGIN:VEVENT
CLASS:PUBLIC
DTSTART:20240514T180000Z
DURATION:PT2H30M
STATUS:CONFIRMED
SUMMARY:Ex Orbit Ants (NR) vs. Kickericki
DESCRIPTION:4.Liga, Gruppe A (15. Spieltag)\nErgebnis: 20:12 (81:60)
LOCATION:Joy, Winterhuder Weg 69, 22085 Hamburg-Uhlenhorst
UID:SM-B15602@kickern-hamburg.de
PRIORITY:5
SEQUENCE:1
CATEGORIES:SPORT
DTSTAMP:20260420T182316
END:VEVENT
BEGIN:VEVENT
CLASS:PUBLIC
DTSTART:20240605T180000Z
DURATION:PT2H30M
STATUS:CONFIRMED
SUMMARY:FC St. Pauli LMB Zwo vs. Kickericki
DESCRIPTION:4.Liga, Gruppe A (16. Spieltag)\nErgebnis: 13:19 (65:67)
LOCATION:FC St. Pauli Clubheim, Harald-Stender-Platz 1, 20359 Hamburg-St. Pauli
UID:SM-B15618@kickern-hamburg.de
PRIORITY:5
SEQUENCE:1
CATEGORIES:SPORT
DTSTAMP:20260420T182316
END:VEVENT
BEGIN:VEVENT
CLASS:PUBLIC
DTSTART:20240627T180000Z
DURATION:PT2H30M
STATUS:CONFIRMED
SUMMARY:Kickericki vs. The Walking Dead
DESCRIPTION:4.Liga, Gruppe A (17. Spieltag)\nErgebnis: 14:18 (65:75)
LOCATION:Parzelle 15 (RAUCHER), Hamburger Berg 15, 20359 Hamburg-St. Pauli
UID:SM-B15626@kickern-hamburg.de
PRIORITY:5
SEQUENCE:1
CATEGORIES:SPORT
DTSTAMP:20260420T182316
END:VEVENT
BEGIN:VEVENT
CLASS:PUBLIC
DTSTART:20240704T180000Z
DURATION:PT2H30M
STATUS:CONFIRMED
SUMMARY:Torfabrik 2. Silpion (NR) vs. Kickericki
DESCRIPTION:4.Liga, Gruppe A (18. Spieltag)\nErgebnis: 20:12 (82:69)
LOCATION:Die Torfabrik, Zum Sportplatz 10, 21220 Seevetal
UID:SM-B15638@kickern-hamburg.de
PRIORITY:5
SEQUENCE:1
CATEGORIES:SPORT
DTSTAMP:20260420T182316
END:VEVENT
END:VCALENDAR
