BEGIN:VCALENDAR
VERSION:2.0
PRODID:PHP
METHOD:REQUEST
X-ORIGINAL-URL:https://kickern-hamburg.de/liga/aktuelle-partien?task=team_begegnungen_ical&id=4774
X-WR-CALNAME;VALUE=TEXT:JLZ Kaderschmiede
BEGIN:VEVENT
CLASS:PUBLIC
DTSTART:20230906T173000Z
DURATION:PT2H30M
STATUS:CONFIRMED
SUMMARY:JLZ Kaderschmiede vs. FC St. Pauli from dusk till dawn
DESCRIPTION:Landespokal (1. Runde)\nErgebnis: 1:31 (29:95)
LOCATION:Jugendleistungszentrum HdJ Lattenkamp, Bebelallee 22, 22299 Hamburg-Winterhude
UID:SM-B15279@kickern-hamburg.de
PRIORITY:5
SEQUENCE:1
CATEGORIES:SPORT
DTSTAMP:20260420T182352
END:VEVENT
BEGIN:VEVENT
CLASS:PUBLIC
DTSTART:20230913T173000Z
DURATION:PT2H30M
STATUS:CONFIRMED
SUMMARY:JLZ Kaderschmiede vs. TishING for Compliments
DESCRIPTION:4.Liga, Gruppe C (1. Spieltag)\nErgebnis: 5:27 (46:91)
LOCATION:Jugendleistungszentrum HdJ Lattenkamp, Bebelallee 22, 22299 Hamburg-Winterhude
UID:SM-B15467@kickern-hamburg.de
PRIORITY:5
SEQUENCE:1
CATEGORIES:SPORT
DTSTAMP:20260420T182352
END:VEVENT
BEGIN:VEVENT
CLASS:PUBLIC
DTSTART:20230926T170000Z
DURATION:PT2H30M
STATUS:CONFIRMED
SUMMARY:WPS vs. JLZ Kaderschmiede
DESCRIPTION:4.Liga, Gruppe C (2. Spieltag)\nErgebnis: 23:9 (80:56)
LOCATION:Workplace Solutions GmbH, Dorotheenstraße 60, 22301 Hamburg
UID:SM-B15475@kickern-hamburg.de
PRIORITY:5
SEQUENCE:1
CATEGORIES:SPORT
DTSTAMP:20260420T182352
END:VEVENT
BEGIN:VEVENT
CLASS:PUBLIC
DTSTART:20231003T180000Z
DURATION:PT2H30M
STATUS:CONFIRMED
SUMMARY:Sidekickstarters (NR) vs. JLZ Kaderschmiede
DESCRIPTION:4.Liga, Gruppe C (3. Spieltag)\nErgebnis: 22:10 (85:55)
LOCATION:Sidekick, Winsener Straße 190, 21077 Hamburg-Harburg
UID:SM-B15483@kickern-hamburg.de
PRIORITY:5
SEQUENCE:1
CATEGORIES:SPORT
DTSTAMP:20260420T182352
END:VEVENT
BEGIN:VEVENT
CLASS:PUBLIC
DTSTART:20231026T180000Z
DURATION:PT2H30M
STATUS:CONFIRMED
SUMMARY:Trash N' Talk vs. JLZ Kaderschmiede
DESCRIPTION:Ligapokal 4. Liga (1. Runde)\nErgebnis: 2:0 (2:0)
LOCATION:Ilohh Bar (RAUCHER), Repsoldstraße 52, 20097 Hamburg-Hammerbrook
UID:SM-B15653@kickern-hamburg.de
PRIORITY:5
SEQUENCE:1
CATEGORIES:SPORT
DTSTAMP:20260420T182352
END:VEVENT
BEGIN:VEVENT
CLASS:PUBLIC
DTSTART:20231101T183000Z
DURATION:PT2H30M
STATUS:CONFIRMED
SUMMARY:JLZ Kaderschmiede vs. Roter Stern Kickers 2 (NR)
DESCRIPTION:4.Liga, Gruppe C (4. Spieltag)\nErgebnis: 8:24 (56:85)
LOCATION:Jugendleistungszentrum HdJ Lattenkamp, Bebelallee 22, 22299 Hamburg-Winterhude
UID:SM-B15493@kickern-hamburg.de
PRIORITY:5
SEQUENCE:1
CATEGORIES:SPORT
DTSTAMP:20260420T182352
END:VEVENT
BEGIN:VEVENT
CLASS:PUBLIC
DTSTART:20231115T183000Z
DURATION:PT2H30M
STATUS:CONFIRMED
SUMMARY:JLZ Kaderschmiede vs. Wohnzimmer Kapeiken
DESCRIPTION:4.Liga, Gruppe C (5. Spieltag)\nErgebnis: 17:15 (73:68)
LOCATION:Jugendleistungszentrum HdJ Lattenkamp, Bebelallee 22, 22299 Hamburg-Winterhude
UID:SM-B15507@kickern-hamburg.de
PRIORITY:5
SEQUENCE:1
CATEGORIES:SPORT
DTSTAMP:20260420T182352
END:VEVENT
BEGIN:VEVENT
CLASS:PUBLIC
DTSTART:20231206T190000Z
DURATION:PT2H30M
STATUS:CONFIRMED
SUMMARY:Exorbitante Eskalation vs. JLZ Kaderschmiede
DESCRIPTION:4.Liga, Gruppe C (6. Spieltag)\nErgebnis: 2:0 (2:0)
LOCATION:Joy, Winterhuder Weg 69, 22085 Hamburg-Uhlenhorst
UID:SM-B15515@kickern-hamburg.de
PRIORITY:5
SEQUENCE:1
CATEGORIES:SPORT
DTSTAMP:20260420T182352
END:VEVENT
BEGIN:VEVENT
CLASS:PUBLIC
DTSTART:20240116T190000Z
DURATION:PT2H30M
STATUS:CONFIRMED
SUMMARY:Mauzis vs. JLZ Kaderschmiede
DESCRIPTION:4.Liga, Gruppe C (7. Spieltag)\nErgebnis: 25:7 (87:49)
LOCATION:KIXX, Nobistor 38, 22767 Hamburg-Altona-Altstadt
UID:SM-B15529@kickern-hamburg.de
PRIORITY:5
SEQUENCE:1
CATEGORIES:SPORT
DTSTAMP:20260420T182352
END:VEVENT
BEGIN:VEVENT
CLASS:PUBLIC
DTSTART:20240129T183000Z
DURATION:PT2H30M
STATUS:CONFIRMED
SUMMARY:JLZ Kaderschmiede vs. Dynamo & Durchstarters Grete Hamburg
DESCRIPTION:4.Liga, Gruppe C (8. Spieltag)\nErgebnis: 5:27 (47:89)
LOCATION:Jugendleistungszentrum HdJ Lattenkamp, Bebelallee 22, 22299 Hamburg-Winterhude
UID:SM-B15539@kickern-hamburg.de
PRIORITY:5
SEQUENCE:1
CATEGORIES:SPORT
DTSTAMP:20260420T182352
END:VEVENT
BEGIN:VEVENT
CLASS:PUBLIC
DTSTART:20240207T190000Z
DURATION:PT2H30M
STATUS:CONFIRMED
SUMMARY:Likedeeler FC St. Pauli vs. JLZ Kaderschmiede
DESCRIPTION:4.Liga, Gruppe C (9. Spieltag)\nErgebnis: 25:7 (82:49)
LOCATION:St. Pauli Wohnzimmer(Raucher) Ahoi, Hafenstr. 122, 20359 Hamburg-Hamburg
UID:SM-B15547@kickern-hamburg.de
PRIORITY:5
SEQUENCE:1
CATEGORIES:SPORT
DTSTAMP:20260420T182352
END:VEVENT
BEGIN:VEVENT
CLASS:PUBLIC
DTSTART:20240228T190000Z
DURATION:PT2H30M
STATUS:CONFIRMED
SUMMARY:TishING for Compliments vs. JLZ Kaderschmiede
DESCRIPTION:4.Liga, Gruppe C (10. Spieltag)\nErgebnis: 23:9 (71:29)
LOCATION:TUHH Hauptgebäude A, Am Schwarzenberg-Campus 1, 21073 Hamburg
UID:SM-B15468@kickern-hamburg.de
PRIORITY:5
SEQUENCE:1
CATEGORIES:SPORT
DTSTAMP:20260420T182352
END:VEVENT
BEGIN:VEVENT
CLASS:PUBLIC
DTSTART:20240306T183000Z
DURATION:PT2H30M
STATUS:CONFIRMED
SUMMARY:JLZ Kaderschmiede vs. WPS
DESCRIPTION:4.Liga, Gruppe C (11. Spieltag)\nErgebnis: 7:25 (49:88)
LOCATION:Jugendleistungszentrum HdJ Lattenkamp, Bebelallee 22, 22299 Hamburg-Winterhude
UID:SM-B15476@kickern-hamburg.de
PRIORITY:5
SEQUENCE:1
CATEGORIES:SPORT
DTSTAMP:20260420T182352
END:VEVENT
BEGIN:VEVENT
CLASS:PUBLIC
DTSTART:20240403T173000Z
DURATION:PT2H30M
STATUS:CONFIRMED
SUMMARY:JLZ Kaderschmiede vs. Sidekickstarters (NR)
DESCRIPTION:4.Liga, Gruppe C (12. Spieltag)\nErgebnis: 9:23 (61:81)
LOCATION:Jugendleistungszentrum HdJ Lattenkamp, Bebelallee 22, 22299 Hamburg-Winterhude
UID:SM-B15484@kickern-hamburg.de
PRIORITY:5
SEQUENCE:1
CATEGORIES:SPORT
DTSTAMP:20260420T182352
END:VEVENT
BEGIN:VEVENT
CLASS:PUBLIC
DTSTART:20240423T170000Z
DURATION:PT2H30M
STATUS:CONFIRMED
SUMMARY:Roter Stern Kickers 2 (NR) vs. JLZ Kaderschmiede
DESCRIPTION:4.Liga, Gruppe C (13. Spieltag)\nErgebnis: 22:10 (80:47)
LOCATION:JuKI 42, An der Reitbahn 2, 22926 Ahrensburg
UID:SM-B15494@kickern-hamburg.de
PRIORITY:5
SEQUENCE:1
CATEGORIES:SPORT
DTSTAMP:20260420T182352
END:VEVENT
BEGIN:VEVENT
CLASS:PUBLIC
DTSTART:20240508T173000Z
DURATION:PT2H30M
STATUS:CONFIRMED
SUMMARY:Wohnzimmer Kapeiken vs. JLZ Kaderschmiede
DESCRIPTION:4.Liga, Gruppe C (14. Spieltag)\nErgebnis: 0:32 (0:96)
LOCATION:Hannes & Hanna Wohnzimmer (Raucher), Weidenallee 60, 20357 Hamburg-Eimsbüttel
UID:SM-B15508@kickern-hamburg.de
PRIORITY:5
SEQUENCE:1
CATEGORIES:SPORT
DTSTAMP:20260420T182352
END:VEVENT
BEGIN:VEVENT
CLASS:PUBLIC
DTSTART:20240522T173000Z
DURATION:PT2H30M
STATUS:CONFIRMED
SUMMARY:JLZ Kaderschmiede vs. Exorbitante Eskalation
DESCRIPTION:4.Liga, Gruppe C (15. Spieltag)\nErgebnis: 1:31 (37:95)
LOCATION:Jugendleistungszentrum HdJ Lattenkamp, Bebelallee 22, 22299 Hamburg-Winterhude
UID:SM-B15516@kickern-hamburg.de
PRIORITY:5
SEQUENCE:1
CATEGORIES:SPORT
DTSTAMP:20260420T182352
END:VEVENT
BEGIN:VEVENT
CLASS:PUBLIC
DTSTART:20240605T173000Z
DURATION:PT2H30M
STATUS:CONFIRMED
SUMMARY:JLZ Kaderschmiede vs. Mauzis
DESCRIPTION:4.Liga, Gruppe C (16. Spieltag)\nErgebnis: 8:24 (24:72)
LOCATION:Jugendleistungszentrum HdJ Lattenkamp, Bebelallee 22, 22299 Hamburg-Winterhude
UID:SM-B15530@kickern-hamburg.de
PRIORITY:5
SEQUENCE:1
CATEGORIES:SPORT
DTSTAMP:20260420T182352
END:VEVENT
BEGIN:VEVENT
CLASS:PUBLIC
DTSTART:20240620T180000Z
DURATION:PT2H30M
STATUS:CONFIRMED
SUMMARY:Dynamo & Durchstarters Grete Hamburg vs. JLZ Kaderschmiede
DESCRIPTION:4.Liga, Gruppe C (17. Spieltag)\nErgebnis: 2:0 (2:0)
LOCATION:Grete (Kulturverein), Margaretenstraße 33, 20357 Hamburg
UID:SM-B15540@kickern-hamburg.de
PRIORITY:5
SEQUENCE:1
CATEGORIES:SPORT
DTSTAMP:20260420T182352
END:VEVENT
BEGIN:VEVENT
CLASS:PUBLIC
DTSTART:20240710T173000Z
DURATION:PT2H30M
STATUS:CONFIRMED
SUMMARY:JLZ Kaderschmiede vs. Likedeeler FC St. Pauli
DESCRIPTION:4.Liga, Gruppe C (18. Spieltag)\nErgebnis: 9:23 (57:81)
LOCATION:Jugendleistungszentrum HdJ Lattenkamp, Bebelallee 22, 22299 Hamburg-Winterhude
UID:SM-B15548@kickern-hamburg.de
PRIORITY:5
SEQUENCE:1
CATEGORIES:SPORT
DTSTAMP:20260420T182352
END:VEVENT
END:VCALENDAR
