BEGIN:VCALENDAR
VERSION:2.0
PRODID:PHP
METHOD:REQUEST
X-ORIGINAL-URL:https://kickern-hamburg.de/liga/aktuelle-partien?task=team_begegnungen_ical&id=4763
X-WR-CALNAME;VALUE=TEXT:FC St. Pauli Shooting Stars
BEGIN:VEVENT
CLASS:PUBLIC
DTSTART:20230913T180000Z
DURATION:PT2H30M
STATUS:CONFIRMED
SUMMARY:FC St. Pauli Shooting Stars vs. Patron Sauna Club
DESCRIPTION:2.Liga, Gruppe B (1. Spieltag)\nErgebnis: 7:25 (54:83)
LOCATION:FC St. Pauli Clubheim, Harald-Stender-Platz 1, 20359 Hamburg-St. Pauli
UID:SM-B14928@kickern-hamburg.de
PRIORITY:5
SEQUENCE:1
CATEGORIES:SPORT
DTSTAMP:20260420T182352
END:VEVENT
BEGIN:VEVENT
CLASS:PUBLIC
DTSTART:20230928T180000Z
DURATION:PT2H30M
STATUS:CONFIRMED
SUMMARY:Monkey Inferno vs. FC St. Pauli Shooting Stars
DESCRIPTION:2.Liga, Gruppe B (2. Spieltag)\nErgebnis: 19:13 (78:69)
LOCATION:KIXX, Nobistor 38, 22767 Hamburg-Altona-Altstadt
UID:SM-B14936@kickern-hamburg.de
PRIORITY:5
SEQUENCE:1
CATEGORIES:SPORT
DTSTAMP:20260420T182352
END:VEVENT
BEGIN:VEVENT
CLASS:PUBLIC
DTSTART:20231010T180000Z
DURATION:PT2H30M
STATUS:CONFIRMED
SUMMARY:FC St. Pauli Kneipenstyle vs. FC St. Pauli Shooting Stars
DESCRIPTION:2.Liga, Gruppe B (3. Spieltag)\nErgebnis: 18:14 (79:72)
LOCATION:KIXX, Nobistor 38, 22767 Hamburg-Altona-Altstadt
UID:SM-B14944@kickern-hamburg.de
PRIORITY:5
SEQUENCE:1
CATEGORIES:SPORT
DTSTAMP:20260420T182352
END:VEVENT
BEGIN:VEVENT
CLASS:PUBLIC
DTSTART:20231013T180000Z
DURATION:PT2H30M
STATUS:CONFIRMED
SUMMARY:Tingeltangel FC St. Pauli vs. FC St. Pauli Shooting Stars
DESCRIPTION:Landespokal (1. Runde)\nErgebnis: 18:14 (68:72)
LOCATION:FC St. Pauli Clubheim, Harald-Stender-Platz 1, 20359 Hamburg-St. Pauli
UID:SM-B15275@kickern-hamburg.de
PRIORITY:5
SEQUENCE:1
CATEGORIES:SPORT
DTSTAMP:20260420T182352
END:VEVENT
BEGIN:VEVENT
CLASS:PUBLIC
DTSTART:20231108T190000Z
DURATION:PT2H30M
STATUS:CONFIRMED
SUMMARY:FC St. Pauli Shooting Stars vs. HSV BAMbole (NR)
DESCRIPTION:2.Liga, Gruppe B (4. Spieltag)\nErgebnis: 12:20 (67:79)
LOCATION:FC St. Pauli Clubheim, Harald-Stender-Platz 1, 20359 Hamburg-St. Pauli
UID:SM-B14954@kickern-hamburg.de
PRIORITY:5
SEQUENCE:1
CATEGORIES:SPORT
DTSTAMP:20260420T182352
END:VEVENT
BEGIN:VEVENT
CLASS:PUBLIC
DTSTART:20231122T190000Z
DURATION:PT2H30M
STATUS:CONFIRMED
SUMMARY:FC St. Pauli Shooting Stars vs. Sidekickers (NR)
DESCRIPTION:2.Liga, Gruppe B (5. Spieltag)\nErgebnis: 19:13 (76:56)
LOCATION:FC St. Pauli Clubheim, Harald-Stender-Platz 1, 20359 Hamburg-St. Pauli
UID:SM-B14968@kickern-hamburg.de
PRIORITY:5
SEQUENCE:1
CATEGORIES:SPORT
DTSTAMP:20260420T182352
END:VEVENT
BEGIN:VEVENT
CLASS:PUBLIC
DTSTART:20231206T190000Z
DURATION:PT2H30M
STATUS:CONFIRMED
SUMMARY:Foosball Club FC St. Pauli vs. FC St. Pauli Shooting Stars
DESCRIPTION:2.Liga, Gruppe B (6. Spieltag)\nErgebnis: 18:14 (65:69)
LOCATION:The Pub formerly known as Froggys (RAUCH, Eimbütteler Chaussee 29, 20259 Hamburg-Eimsbüttel
UID:SM-B14976@kickern-hamburg.de
PRIORITY:5
SEQUENCE:1
CATEGORIES:SPORT
DTSTAMP:20260420T182352
END:VEVENT
BEGIN:VEVENT
CLASS:PUBLIC
DTSTART:20240109T190000Z
DURATION:PT2H30M
STATUS:CONFIRMED
SUMMARY:Exorbitanter HäkMäk (NR) vs. FC St. Pauli Shooting Stars
DESCRIPTION:2.Liga, Gruppe B (7. Spieltag)\nErgebnis: 21:11 (81:62)
LOCATION:Joy, Winterhuder Weg 69, 22085 Hamburg-Uhlenhorst
UID:SM-B14990@kickern-hamburg.de
PRIORITY:5
SEQUENCE:1
CATEGORIES:SPORT
DTSTAMP:20260420T182352
END:VEVENT
BEGIN:VEVENT
CLASS:PUBLIC
DTSTART:20240131T190000Z
DURATION:PT2H30M
STATUS:CONFIRMED
SUMMARY:FC St. Pauli Shooting Stars vs. 253 (NR)
DESCRIPTION:2.Liga, Gruppe B (8. Spieltag)\nErgebnis: 8:24 (59:86)
LOCATION:FC St. Pauli Clubheim, Harald-Stender-Platz 1, 20359 Hamburg-St. Pauli
UID:SM-B15000@kickern-hamburg.de
PRIORITY:5
SEQUENCE:1
CATEGORIES:SPORT
DTSTAMP:20260420T182352
END:VEVENT
BEGIN:VEVENT
CLASS:PUBLIC
DTSTART:20240215T190000Z
DURATION:PT2H30M
STATUS:CONFIRMED
SUMMARY:Kickerholixx (NR) vs. FC St. Pauli Shooting Stars
DESCRIPTION:2.Liga, Gruppe B (9. Spieltag)\nErgebnis: 27:5 (89:51)
LOCATION:KIXX, Nobistor 38, 22767 Hamburg-Altona-Altstadt
UID:SM-B15008@kickern-hamburg.de
PRIORITY:5
SEQUENCE:1
CATEGORIES:SPORT
DTSTAMP:20260420T182352
END:VEVENT
BEGIN:VEVENT
CLASS:PUBLIC
DTSTART:20240220T190000Z
DURATION:PT2H30M
STATUS:CONFIRMED
SUMMARY:Patron Sauna Club vs. FC St. Pauli Shooting Stars
DESCRIPTION:2.Liga, Gruppe B (10. Spieltag)\nErgebnis: 21:11 (81:70)
LOCATION:KIXX, Nobistor 38, 22767 Hamburg-Altona-Altstadt
UID:SM-B14929@kickern-hamburg.de
PRIORITY:5
SEQUENCE:1
CATEGORIES:SPORT
DTSTAMP:20260420T182352
END:VEVENT
BEGIN:VEVENT
CLASS:PUBLIC
DTSTART:20240306T190000Z
DURATION:PT2H30M
STATUS:CONFIRMED
SUMMARY:FC St. Pauli Shooting Stars vs. Monkey Inferno
DESCRIPTION:2.Liga, Gruppe B (11. Spieltag)\nErgebnis: 8:24 (60:85)
LOCATION:FC St. Pauli Clubheim, Harald-Stender-Platz 1, 20359 Hamburg-St. Pauli
UID:SM-B14937@kickern-hamburg.de
PRIORITY:5
SEQUENCE:1
CATEGORIES:SPORT
DTSTAMP:20260420T182352
END:VEVENT
BEGIN:VEVENT
CLASS:PUBLIC
DTSTART:20240410T180000Z
DURATION:PT2H30M
STATUS:CONFIRMED
SUMMARY:FC St. Pauli Shooting Stars vs. FC St. Pauli Kneipenstyle
DESCRIPTION:2.Liga, Gruppe B (12. Spieltag)\nErgebnis: 13:19 (68:80)
LOCATION:FC St. Pauli Clubheim, Harald-Stender-Platz 1, 20359 Hamburg-St. Pauli
UID:SM-B14945@kickern-hamburg.de
PRIORITY:5
SEQUENCE:1
CATEGORIES:SPORT
DTSTAMP:20260420T182352
END:VEVENT
BEGIN:VEVENT
CLASS:PUBLIC
DTSTART:20240423T180000Z
DURATION:PT2H30M
STATUS:CONFIRMED
SUMMARY:HSV BAMbole (NR) vs. FC St. Pauli Shooting Stars
DESCRIPTION:2.Liga, Gruppe B (13. Spieltag)\nErgebnis: 18:14 (75:72)
LOCATION:KIXX, Nobistor 38, 22767 Hamburg-Altona-Altstadt
UID:SM-B14955@kickern-hamburg.de
PRIORITY:5
SEQUENCE:1
CATEGORIES:SPORT
DTSTAMP:20260420T182352
END:VEVENT
BEGIN:VEVENT
CLASS:PUBLIC
DTSTART:20240507T170000Z
DURATION:PT2H30M
STATUS:CONFIRMED
SUMMARY:Sidekickers (NR) vs. FC St. Pauli Shooting Stars
DESCRIPTION:2.Liga, Gruppe B (14. Spieltag)\nErgebnis: 23:9 (84:57)
LOCATION:Sidekick, Winsener Straße 190, 21077 Hamburg-Harburg
UID:SM-B14969@kickern-hamburg.de
PRIORITY:5
SEQUENCE:1
CATEGORIES:SPORT
DTSTAMP:20260420T182352
END:VEVENT
BEGIN:VEVENT
CLASS:PUBLIC
DTSTART:20240522T180000Z
DURATION:PT2H30M
STATUS:CONFIRMED
SUMMARY:FC St. Pauli Shooting Stars vs. Foosball Club FC St. Pauli
DESCRIPTION:2.Liga, Gruppe B (15. Spieltag)\nErgebnis: 11:21 (59:79)
LOCATION:FC St. Pauli Clubheim, Harald-Stender-Platz 1, 20359 Hamburg-St. Pauli
UID:SM-B14977@kickern-hamburg.de
PRIORITY:5
SEQUENCE:1
CATEGORIES:SPORT
DTSTAMP:20260420T182352
END:VEVENT
BEGIN:VEVENT
CLASS:PUBLIC
DTSTART:20240612T180000Z
DURATION:PT2H30M
STATUS:CONFIRMED
SUMMARY:FC St. Pauli Shooting Stars vs. Exorbitanter HäkMäk (NR)
DESCRIPTION:2.Liga, Gruppe B (16. Spieltag)\nErgebnis: 14:18 (67:78)
LOCATION:FC St. Pauli Clubheim, Harald-Stender-Platz 1, 20359 Hamburg-St. Pauli
UID:SM-B14991@kickern-hamburg.de
PRIORITY:5
SEQUENCE:1
CATEGORIES:SPORT
DTSTAMP:20260420T182352
END:VEVENT
BEGIN:VEVENT
CLASS:PUBLIC
DTSTART:20240625T180000Z
DURATION:PT2H30M
STATUS:CONFIRMED
SUMMARY:253 (NR) vs. FC St. Pauli Shooting Stars
DESCRIPTION:2.Liga, Gruppe B (17. Spieltag)\nErgebnis: 24:8 (85:63)
LOCATION:KIXX, Nobistor 38, 22767 Hamburg-Altona-Altstadt
UID:SM-B15001@kickern-hamburg.de
PRIORITY:5
SEQUENCE:1
CATEGORIES:SPORT
DTSTAMP:20260420T182352
END:VEVENT
BEGIN:VEVENT
CLASS:PUBLIC
DTSTART:20240703T180000Z
DURATION:PT2H30M
STATUS:CONFIRMED
SUMMARY:FC St. Pauli Shooting Stars vs. Kickerholixx (NR)
DESCRIPTION:2.Liga, Gruppe B (18. Spieltag)\nErgebnis: 10:22 (68:84)
LOCATION:FC St. Pauli Clubheim, Harald-Stender-Platz 1, 20359 Hamburg-St. Pauli
UID:SM-B15009@kickern-hamburg.de
PRIORITY:5
SEQUENCE:1
CATEGORIES:SPORT
DTSTAMP:20260420T182352
END:VEVENT
END:VCALENDAR
