BEGIN:VCALENDAR
VERSION:2.0
PRODID:PHP
METHOD:REQUEST
X-ORIGINAL-URL:https://kickern-hamburg.de/liga/aktuelle-partien?task=team_begegnungen_ical&id=4756
X-WR-CALNAME;VALUE=TEXT:Fivebar II
BEGIN:VEVENT
CLASS:PUBLIC
DTSTART:20230914T180000Z
DURATION:PT2H30M
STATUS:CONFIRMED
SUMMARY:BSC Überbande II vs. Fivebar II
DESCRIPTION:1.Liga (1. Spieltag)\nErgebnis: 15:17 (76:78)
LOCATION:KIXX, Nobistor 38, 22767 Hamburg-Altona-Altstadt
UID:SM-B14742@kickern-hamburg.de
PRIORITY:5
SEQUENCE:1
CATEGORIES:SPORT
DTSTAMP:20260420T182415
END:VEVENT
BEGIN:VEVENT
CLASS:PUBLIC
DTSTART:20230926T173000Z
DURATION:PT2H30M
STATUS:CONFIRMED
SUMMARY:Fivebar II vs. Chupacabras
DESCRIPTION:1.Liga (2. Spieltag)\nErgebnis: 18:14 (78:64)
LOCATION:KIXX, Nobistor 38, 22767 Hamburg-Altona-Altstadt
UID:SM-B14752@kickern-hamburg.de
PRIORITY:5
SEQUENCE:1
CATEGORIES:SPORT
DTSTAMP:20260420T182415
END:VEVENT
BEGIN:VEVENT
CLASS:PUBLIC
DTSTART:20231010T173000Z
DURATION:PT2H30M
STATUS:CONFIRMED
SUMMARY:Fivebar II vs. Gadgettos II (NR)
DESCRIPTION:1.Liga (3. Spieltag)\nErgebnis: 15:17 (72:74)
LOCATION:KIXX, Nobistor 38, 22767 Hamburg-Altona-Altstadt
UID:SM-B14766@kickern-hamburg.de
PRIORITY:5
SEQUENCE:1
CATEGORIES:SPORT
DTSTAMP:20260420T182415
END:VEVENT
BEGIN:VEVENT
CLASS:PUBLIC
DTSTART:20231031T190000Z
DURATION:PT2H30M
STATUS:CONFIRMED
SUMMARY:Die Maschinerie II vs. Fivebar II
DESCRIPTION:1.Liga (4. Spieltag)\nErgebnis: 18:14 (77:73)
LOCATION:KIXX, Nobistor 38, 22767 Hamburg-Altona-Altstadt
UID:SM-B14774@kickern-hamburg.de
PRIORITY:5
SEQUENCE:1
CATEGORIES:SPORT
DTSTAMP:20260420T182415
END:VEVENT
BEGIN:VEVENT
CLASS:PUBLIC
DTSTART:20231121T183000Z
DURATION:PT2H30M
STATUS:CONFIRMED
SUMMARY:Fivebar II vs. Cim Bom Bom II (NR)
DESCRIPTION:1.Liga (5. Spieltag)\nErgebnis: 12:20 (71:80)
LOCATION:KIXX, Nobistor 38, 22767 Hamburg-Altona-Altstadt
UID:SM-B14790@kickern-hamburg.de
PRIORITY:5
SEQUENCE:1
CATEGORIES:SPORT
DTSTAMP:20260420T182415
END:VEVENT
BEGIN:VEVENT
CLASS:PUBLIC
DTSTART:20231128T190000Z
DURATION:PT2H30M
STATUS:CONFIRMED
SUMMARY:253 (NR) vs. Fivebar II
DESCRIPTION:Landespokal (2. Runde)\nErgebnis: 8:24 (59:88)
LOCATION:KIXX, Nobistor 38, 22767 Hamburg-Altona-Altstadt
UID:SM-B15706@kickern-hamburg.de
PRIORITY:5
SEQUENCE:1
CATEGORIES:SPORT
DTSTAMP:20260420T182415
END:VEVENT
BEGIN:VEVENT
CLASS:PUBLIC
DTSTART:20231207T190000Z
DURATION:PT2H30M
STATUS:CONFIRMED
SUMMARY:Lotterie (NR) vs. Fivebar II
DESCRIPTION:1.Liga (6. Spieltag)\nErgebnis: 20:12 (81:71)
LOCATION:Deutsche Seemannsmission Hamburg-Altona, Große Elbstraße 132, 22767 Hamburg-Altona
UID:SM-B14798@kickern-hamburg.de
PRIORITY:5
SEQUENCE:1
CATEGORIES:SPORT
DTSTAMP:20260420T182415
END:VEVENT
BEGIN:VEVENT
CLASS:PUBLIC
DTSTART:20240109T183000Z
DURATION:PT2H30M
STATUS:CONFIRMED
SUMMARY:Fivebar II vs. Die Maschinerie II
DESCRIPTION:Landespokal (3. Runde)\nErgebnis: 18:20 (86:90)
LOCATION:KIXX, Nobistor 38, 22767 Hamburg-Altona-Altstadt
UID:SM-B15727@kickern-hamburg.de
PRIORITY:5
SEQUENCE:1
CATEGORIES:SPORT
DTSTAMP:20260420T182415
END:VEVENT
BEGIN:VEVENT
CLASS:PUBLIC
DTSTART:20240116T183000Z
DURATION:PT2H30M
STATUS:CONFIRMED
SUMMARY:Fivebar II vs. JLZ NortHHunters (NR)
DESCRIPTION:1.Liga (7. Spieltag)\nErgebnis: 22:10 (85:67)
LOCATION:KIXX, Nobistor 38, 22767 Hamburg-Altona-Altstadt
UID:SM-B14804@kickern-hamburg.de
PRIORITY:5
SEQUENCE:1
CATEGORIES:SPORT
DTSTAMP:20260420T182415
END:VEVENT
BEGIN:VEVENT
CLASS:PUBLIC
DTSTART:20240130T180000Z
DURATION:PT2H30M
STATUS:CONFIRMED
SUMMARY:HSV II Kurbelkraft (NR) vs. Fivebar II
DESCRIPTION:1.Liga (8. Spieltag)\nErgebnis: 22:10 (83:65)
LOCATION:KIXX, Nobistor 38, 22767 Hamburg-Altona-Altstadt
UID:SM-B14812@kickern-hamburg.de
PRIORITY:5
SEQUENCE:1
CATEGORIES:SPORT
DTSTAMP:20260420T182415
END:VEVENT
BEGIN:VEVENT
CLASS:PUBLIC
DTSTART:20240213T183000Z
DURATION:PT2H30M
STATUS:CONFIRMED
SUMMARY:Fivebar II vs. Fightclub FC St. Pauli II
DESCRIPTION:1.Liga (9. Spieltag)\nErgebnis: 15:17 (72:77)
LOCATION:KIXX, Nobistor 38, 22767 Hamburg-Altona-Altstadt
UID:SM-B14824@kickern-hamburg.de
PRIORITY:5
SEQUENCE:1
CATEGORIES:SPORT
DTSTAMP:20260420T182415
END:VEVENT
BEGIN:VEVENT
CLASS:PUBLIC
DTSTART:20240227T183000Z
DURATION:PT2H30M
STATUS:CONFIRMED
SUMMARY:Fivebar II vs. BSC Überbande II
DESCRIPTION:1.Liga (10. Spieltag)\nErgebnis: 19:13 (80:65)
LOCATION:KIXX, Nobistor 38, 22767 Hamburg-Altona-Altstadt
UID:SM-B14743@kickern-hamburg.de
PRIORITY:5
SEQUENCE:1
CATEGORIES:SPORT
DTSTAMP:20260420T182415
END:VEVENT
BEGIN:VEVENT
CLASS:PUBLIC
DTSTART:20240312T190000Z
DURATION:PT2H30M
STATUS:CONFIRMED
SUMMARY:Chupacabras vs. Fivebar II
DESCRIPTION:1.Liga (11. Spieltag)\nErgebnis: 11:21 (61:82)
LOCATION:KIXX, Nobistor 38, 22767 Hamburg-Altona-Altstadt
UID:SM-B14753@kickern-hamburg.de
PRIORITY:5
SEQUENCE:1
CATEGORIES:SPORT
DTSTAMP:20260420T182415
END:VEVENT
BEGIN:VEVENT
CLASS:PUBLIC
DTSTART:20240411T173000Z
DURATION:PT2H30M
STATUS:CONFIRMED
SUMMARY:Gadgettos II (NR) vs. Fivebar II
DESCRIPTION:1.Liga (12. Spieltag)\nErgebnis: 11:21 (63:81)
LOCATION:KIXX, Nobistor 38, 22767 Hamburg-Altona-Altstadt
UID:SM-B14767@kickern-hamburg.de
PRIORITY:5
SEQUENCE:1
CATEGORIES:SPORT
DTSTAMP:20260420T182415
END:VEVENT
BEGIN:VEVENT
CLASS:PUBLIC
DTSTART:20240418T173000Z
DURATION:PT2H30M
STATUS:CONFIRMED
SUMMARY:Fivebar II vs. Die Maschinerie II
DESCRIPTION:1.Liga (13. Spieltag)\nErgebnis: 17:15 (76:73)
LOCATION:KIXX, Nobistor 38, 22767 Hamburg-Altona-Altstadt
UID:SM-B14775@kickern-hamburg.de
PRIORITY:5
SEQUENCE:1
CATEGORIES:SPORT
DTSTAMP:20260420T182415
END:VEVENT
BEGIN:VEVENT
CLASS:PUBLIC
DTSTART:20240507T173000Z
DURATION:PT2H30M
STATUS:CONFIRMED
SUMMARY:Cim Bom Bom II (NR) vs. Fivebar II
DESCRIPTION:1.Liga (14. Spieltag)\nErgebnis: 18:14 (75:75)
LOCATION:KIXX, Nobistor 38, 22767 Hamburg-Altona-Altstadt
UID:SM-B14791@kickern-hamburg.de
PRIORITY:5
SEQUENCE:1
CATEGORIES:SPORT
DTSTAMP:20260420T182415
END:VEVENT
BEGIN:VEVENT
CLASS:PUBLIC
DTSTART:20240521T174500Z
DURATION:PT2H30M
STATUS:CONFIRMED
SUMMARY:Fivebar II vs. Lotterie (NR)
DESCRIPTION:1.Liga (15. Spieltag)\nErgebnis: 17:15 (78:74)
LOCATION:KIXX, Nobistor 38, 22767 Hamburg-Altona-Altstadt
UID:SM-B14799@kickern-hamburg.de
PRIORITY:5
SEQUENCE:1
CATEGORIES:SPORT
DTSTAMP:20260420T182415
END:VEVENT
BEGIN:VEVENT
CLASS:PUBLIC
DTSTART:20240604T180000Z
DURATION:PT2H30M
STATUS:CONFIRMED
SUMMARY:JLZ NortHHunters (NR) vs. Fivebar II
DESCRIPTION:1.Liga (16. Spieltag)\nErgebnis: 17:15 (77:73)
LOCATION:Jugendleistungszentrum HdJ Lattenkamp, Bebelallee 22, 22299 Hamburg-Winterhude
UID:SM-B14805@kickern-hamburg.de
PRIORITY:5
SEQUENCE:1
CATEGORIES:SPORT
DTSTAMP:20260420T182415
END:VEVENT
BEGIN:VEVENT
CLASS:PUBLIC
DTSTART:20240625T173000Z
DURATION:PT2H30M
STATUS:CONFIRMED
SUMMARY:Fivebar II vs. HSV II Kurbelkraft (NR)
DESCRIPTION:1.Liga (17. Spieltag)\nErgebnis: 10:22 (64:86)
LOCATION:KIXX, Nobistor 38, 22767 Hamburg-Altona-Altstadt
UID:SM-B14813@kickern-hamburg.de
PRIORITY:5
SEQUENCE:1
CATEGORIES:SPORT
DTSTAMP:20260420T182415
END:VEVENT
BEGIN:VEVENT
CLASS:PUBLIC
DTSTART:20240712T180000Z
DURATION:PT2H30M
STATUS:CONFIRMED
SUMMARY:Fightclub FC St. Pauli II vs. Fivebar II
DESCRIPTION:1.Liga (18. Spieltag)\nErgebnis: 19:13 (80:69)
LOCATION:FC St. Pauli Clubheim, Harald-Stender-Platz 1, 20359 Hamburg-St. Pauli
UID:SM-B14825@kickern-hamburg.de
PRIORITY:5
SEQUENCE:1
CATEGORIES:SPORT
DTSTAMP:20260420T182415
END:VEVENT
END:VCALENDAR
