BEGIN:VCALENDAR
VERSION:2.0
PRODID:PHP
METHOD:REQUEST
X-ORIGINAL-URL:https://kickern-hamburg.de/liga/aktuelle-partien?task=team_begegnungen_ical&id=4755
X-WR-CALNAME;VALUE=TEXT:WPS
BEGIN:VEVENT
CLASS:PUBLIC
DTSTART:20230907T180000Z
DURATION:PT2H30M
STATUS:CONFIRMED
SUMMARY:Sidekickstarters (NR) vs. WPS
DESCRIPTION:4.Liga, Gruppe C (1. Spieltag)\nErgebnis: 16:16 (75:77)
LOCATION:Sidekick, Winsener Straße 190, 21077 Hamburg-Harburg
UID:SM-B15465@kickern-hamburg.de
PRIORITY:5
SEQUENCE:1
CATEGORIES:SPORT
DTSTAMP:20260420T195036
END:VEVENT
BEGIN:VEVENT
CLASS:PUBLIC
DTSTART:20230926T170000Z
DURATION:PT2H30M
STATUS:CONFIRMED
SUMMARY:WPS vs. JLZ Kaderschmiede
DESCRIPTION:4.Liga, Gruppe C (2. Spieltag)\nErgebnis: 23:9 (80:56)
LOCATION:Workplace Solutions GmbH, Dorotheenstraße 60, 22301 Hamburg
UID:SM-B15475@kickern-hamburg.de
PRIORITY:5
SEQUENCE:1
CATEGORIES:SPORT
DTSTAMP:20260420T195036
END:VEVENT
BEGIN:VEVENT
CLASS:PUBLIC
DTSTART:20230929T170000Z
DURATION:PT2H30M
STATUS:CONFIRMED
SUMMARY:Kellerkicker Bergedorf vs. WPS
DESCRIPTION:Landespokal (1. Runde)\nErgebnis: 14:18 (67:67)
LOCATION:„Kickerkeller“ Stadtteilschule Richard-L, Richard-Linde-Weg 49, 21033 Hamburg-Lohbrügge
UID:SM-B15276@kickern-hamburg.de
PRIORITY:5
SEQUENCE:1
CATEGORIES:SPORT
DTSTAMP:20260420T195036
END:VEVENT
BEGIN:VEVENT
CLASS:PUBLIC
DTSTART:20231010T170000Z
DURATION:PT2H30M
STATUS:CONFIRMED
SUMMARY:WPS vs. Exorbitante Eskalation
DESCRIPTION:4.Liga, Gruppe C (3. Spieltag)\nErgebnis: 9:23 (58:83)
LOCATION:Workplace Solutions GmbH, Dorotheenstraße 60, 22301 Hamburg
UID:SM-B15489@kickern-hamburg.de
PRIORITY:5
SEQUENCE:1
CATEGORIES:SPORT
DTSTAMP:20260420T195036
END:VEVENT
BEGIN:VEVENT
CLASS:PUBLIC
DTSTART:20231024T180000Z
DURATION:PT2H30M
STATUS:CONFIRMED
SUMMARY:Sidekickstarters (NR) vs. WPS
DESCRIPTION:Ligapokal 4. Liga (1. Runde)\nErgebnis: 20:12 (81:70)
LOCATION:Sidekick, Winsener Straße 190, 21077 Hamburg-Harburg
UID:SM-B15651@kickern-hamburg.de
PRIORITY:5
SEQUENCE:1
CATEGORIES:SPORT
DTSTAMP:20260420T195036
END:VEVENT
BEGIN:VEVENT
CLASS:PUBLIC
DTSTART:20231101T190000Z
DURATION:PT2H30M
STATUS:CONFIRMED
SUMMARY:Wohnzimmer Kapeiken vs. WPS
DESCRIPTION:4.Liga, Gruppe C (4. Spieltag)\nErgebnis: 8:24 (46:79)
LOCATION:Hannes & Hanna Wohnzimmer (Raucher), Weidenallee 60, 20357 Hamburg-Eimsbüttel
UID:SM-B15497@kickern-hamburg.de
PRIORITY:5
SEQUENCE:1
CATEGORIES:SPORT
DTSTAMP:20260420T195036
END:VEVENT
BEGIN:VEVENT
CLASS:PUBLIC
DTSTART:20231109T190000Z
DURATION:PT2H30M
STATUS:CONFIRMED
SUMMARY:Exorbitanter Mumpitz vs. WPS
DESCRIPTION:Landespokal (2. Runde)\nErgebnis: 29:3 (92:39)
LOCATION:Joy, Winterhuder Weg 69, 22085 Hamburg-Uhlenhorst
UID:SM-B15691@kickern-hamburg.de
PRIORITY:5
SEQUENCE:1
CATEGORIES:SPORT
DTSTAMP:20260420T195036
END:VEVENT
BEGIN:VEVENT
CLASS:PUBLIC
DTSTART:20231121T180000Z
DURATION:PT2H30M
STATUS:CONFIRMED
SUMMARY:WPS vs. TishING for Compliments
DESCRIPTION:4.Liga, Gruppe C (5. Spieltag)\nErgebnis: 14:18 (67:75)
LOCATION:Workplace Solutions GmbH, Dorotheenstraße 60, 22301 Hamburg
UID:SM-B15503@kickern-hamburg.de
PRIORITY:5
SEQUENCE:1
CATEGORIES:SPORT
DTSTAMP:20260420T195036
END:VEVENT
BEGIN:VEVENT
CLASS:PUBLIC
DTSTART:20231129T190000Z
DURATION:PT2H30M
STATUS:CONFIRMED
SUMMARY:Likedeeler FC St. Pauli vs. WPS
DESCRIPTION:4.Liga, Gruppe C (6. Spieltag)\nErgebnis: 16:16 (73:73)
LOCATION:St. Pauli Wohnzimmer(Raucher) Ahoi, Hafenstr. 122, 20359 Hamburg-Hamburg
UID:SM-B15511@kickern-hamburg.de
PRIORITY:5
SEQUENCE:1
CATEGORIES:SPORT
DTSTAMP:20260420T195036
END:VEVENT
BEGIN:VEVENT
CLASS:PUBLIC
DTSTART:20240118T190000Z
DURATION:PT2H30M
STATUS:CONFIRMED
SUMMARY:Dynamo & Durchstarters Grete Hamburg vs. WPS
DESCRIPTION:4.Liga, Gruppe C (7. Spieltag)\nErgebnis: 20:12 (78:63)
LOCATION:Grete (Kulturverein), Margaretenstraße 33, 20357 Hamburg
UID:SM-B15521@kickern-hamburg.de
PRIORITY:5
SEQUENCE:1
CATEGORIES:SPORT
DTSTAMP:20260420T195036
END:VEVENT
BEGIN:VEVENT
CLASS:PUBLIC
DTSTART:20240123T180000Z
DURATION:PT2H30M
STATUS:CONFIRMED
SUMMARY:WPS vs. Roter Stern Kickers 2 (NR)
DESCRIPTION:4.Liga, Gruppe C (8. Spieltag)\nErgebnis: 18:14 (73:66)
LOCATION:Workplace Solutions GmbH, Dorotheenstraße 60, 22301 Hamburg
UID:SM-B15531@kickern-hamburg.de
PRIORITY:5
SEQUENCE:1
CATEGORIES:SPORT
DTSTAMP:20260420T195036
END:VEVENT
BEGIN:VEVENT
CLASS:PUBLIC
DTSTART:20240208T190000Z
DURATION:PT2H30M
STATUS:CONFIRMED
SUMMARY:Mauzis vs. WPS
DESCRIPTION:4.Liga, Gruppe C (9. Spieltag)\nErgebnis: 21:11 (77:55)
LOCATION:KIXX, Nobistor 38, 22767 Hamburg-Altona-Altstadt
UID:SM-B15545@kickern-hamburg.de
PRIORITY:5
SEQUENCE:1
CATEGORIES:SPORT
DTSTAMP:20260420T195036
END:VEVENT
BEGIN:VEVENT
CLASS:PUBLIC
DTSTART:20240220T190000Z
DURATION:PT2H30M
STATUS:CONFIRMED
SUMMARY:WPS vs. Sidekickstarters (NR)
DESCRIPTION:4.Liga, Gruppe C (10. Spieltag)\nErgebnis: 19:13 (77:70)
LOCATION:Workplace Solutions GmbH, Dorotheenstraße 60, 22301 Hamburg
UID:SM-B15466@kickern-hamburg.de
PRIORITY:5
SEQUENCE:1
CATEGORIES:SPORT
DTSTAMP:20260420T195036
END:VEVENT
BEGIN:VEVENT
CLASS:PUBLIC
DTSTART:20240306T183000Z
DURATION:PT2H30M
STATUS:CONFIRMED
SUMMARY:JLZ Kaderschmiede vs. WPS
DESCRIPTION:4.Liga, Gruppe C (11. Spieltag)\nErgebnis: 7:25 (49:88)
LOCATION:Jugendleistungszentrum HdJ Lattenkamp, Bebelallee 22, 22299 Hamburg-Winterhude
UID:SM-B15476@kickern-hamburg.de
PRIORITY:5
SEQUENCE:1
CATEGORIES:SPORT
DTSTAMP:20260420T195036
END:VEVENT
BEGIN:VEVENT
CLASS:PUBLIC
DTSTART:20240410T180000Z
DURATION:PT2H30M
STATUS:CONFIRMED
SUMMARY:Exorbitante Eskalation vs. WPS
DESCRIPTION:4.Liga, Gruppe C (12. Spieltag)\nErgebnis: 10:22 (67:82)
LOCATION:Joy, Winterhuder Weg 69, 22085 Hamburg-Uhlenhorst
UID:SM-B15490@kickern-hamburg.de
PRIORITY:5
SEQUENCE:1
CATEGORIES:SPORT
DTSTAMP:20260420T195036
END:VEVENT
BEGIN:VEVENT
CLASS:PUBLIC
DTSTART:20240416T170000Z
DURATION:PT2H30M
STATUS:CONFIRMED
SUMMARY:WPS vs. Wohnzimmer Kapeiken
DESCRIPTION:4.Liga, Gruppe C (13. Spieltag)\nErgebnis: 28:4 (92:33)
LOCATION:Workplace Solutions GmbH, Dorotheenstraße 60, 22301 Hamburg
UID:SM-B15498@kickern-hamburg.de
PRIORITY:5
SEQUENCE:1
CATEGORIES:SPORT
DTSTAMP:20260420T195036
END:VEVENT
BEGIN:VEVENT
CLASS:PUBLIC
DTSTART:20240508T180000Z
DURATION:PT2H30M
STATUS:CONFIRMED
SUMMARY:TishING for Compliments vs. WPS
DESCRIPTION:4.Liga, Gruppe C (14. Spieltag)\nErgebnis: 23:9 (71:29)
LOCATION:TUHH Hauptgebäude A, Am Schwarzenberg-Campus 1, 21073 Hamburg
UID:SM-B15504@kickern-hamburg.de
PRIORITY:5
SEQUENCE:1
CATEGORIES:SPORT
DTSTAMP:20260420T195036
END:VEVENT
BEGIN:VEVENT
CLASS:PUBLIC
DTSTART:20240514T170000Z
DURATION:PT2H30M
STATUS:CONFIRMED
SUMMARY:WPS vs. Likedeeler FC St. Pauli
DESCRIPTION:4.Liga, Gruppe C (15. Spieltag)\nErgebnis: 11:21 (65:81)
LOCATION:Workplace Solutions GmbH, Dorotheenstraße 60, 22301 Hamburg
UID:SM-B15512@kickern-hamburg.de
PRIORITY:5
SEQUENCE:1
CATEGORIES:SPORT
DTSTAMP:20260420T195036
END:VEVENT
BEGIN:VEVENT
CLASS:PUBLIC
DTSTART:20240604T170000Z
DURATION:PT2H30M
STATUS:CONFIRMED
SUMMARY:WPS vs. Dynamo & Durchstarters Grete Hamburg
DESCRIPTION:4.Liga, Gruppe C (16. Spieltag)\nErgebnis: 15:17 (72:62)
LOCATION:Workplace Solutions GmbH, Dorotheenstraße 60, 22301 Hamburg
UID:SM-B15522@kickern-hamburg.de
PRIORITY:5
SEQUENCE:1
CATEGORIES:SPORT
DTSTAMP:20260420T195036
END:VEVENT
BEGIN:VEVENT
CLASS:PUBLIC
DTSTART:20240618T170000Z
DURATION:PT2H30M
STATUS:CONFIRMED
SUMMARY:Roter Stern Kickers 2 (NR) vs. WPS
DESCRIPTION:4.Liga, Gruppe C (17. Spieltag)\nErgebnis: 22:10 (78:64)
LOCATION:JuKI 42, An der Reitbahn 2, 22926 Ahrensburg
UID:SM-B15532@kickern-hamburg.de
PRIORITY:5
SEQUENCE:1
CATEGORIES:SPORT
DTSTAMP:20260420T195036
END:VEVENT
BEGIN:VEVENT
CLASS:PUBLIC
DTSTART:20240702T170000Z
DURATION:PT2H30M
STATUS:CONFIRMED
SUMMARY:WPS vs. Mauzis
DESCRIPTION:4.Liga, Gruppe C (18. Spieltag)\nErgebnis: 16:16 (68:70)
LOCATION:Workplace Solutions GmbH, Dorotheenstraße 60, 22301 Hamburg
UID:SM-B15546@kickern-hamburg.de
PRIORITY:5
SEQUENCE:1
CATEGORIES:SPORT
DTSTAMP:20260420T195036
END:VEVENT
END:VCALENDAR
