BEGIN:VCALENDAR
VERSION:2.0
PRODID:PHP
METHOD:REQUEST
X-ORIGINAL-URL:https://kickern-hamburg.de/liga/aktuelle-partien?task=team_begegnungen_ical&id=4749
X-WR-CALNAME;VALUE=TEXT:Spaceshots Hamburg
BEGIN:VEVENT
CLASS:PUBLIC
DTSTART:20230906T180000Z
DURATION:PT2H30M
STATUS:CONFIRMED
SUMMARY:Spaceshots Hamburg vs. Trash N' Talk
DESCRIPTION:4.Liga, Gruppe B (1. Spieltag)\nErgebnis: 10:22 (62:84)
LOCATION:KIXX, Nobistor 38, 22767 Hamburg-Altona-Altstadt
UID:SM-B15379@kickern-hamburg.de
PRIORITY:5
SEQUENCE:1
CATEGORIES:SPORT
DTSTAMP:20260420T194428
END:VEVENT
BEGIN:VEVENT
CLASS:PUBLIC
DTSTART:20230928T170000Z
DURATION:PT2H30M
STATUS:CONFIRMED
SUMMARY:Kellerkicker Bergedorf vs. Spaceshots Hamburg
DESCRIPTION:4.Liga, Gruppe B (2. Spieltag)\nErgebnis: 14:18 (69:73)
LOCATION:„Kickerkeller“ Stadtteilschule Richard-L, Richard-Linde-Weg 49, 21033 Hamburg-Lohbrügge
UID:SM-B15387@kickern-hamburg.de
PRIORITY:5
SEQUENCE:1
CATEGORIES:SPORT
DTSTAMP:20260420T194428
END:VEVENT
BEGIN:VEVENT
CLASS:PUBLIC
DTSTART:20231010T180000Z
DURATION:PT2H30M
STATUS:CONFIRMED
SUMMARY:Ex Orbit Ants (NR) vs. Spaceshots Hamburg
DESCRIPTION:Landespokal (1. Runde)\nErgebnis: 27:5 (88:42)
LOCATION:Joy, Winterhuder Weg 69, 22085 Hamburg-Uhlenhorst
UID:SM-B15251@kickern-hamburg.de
PRIORITY:5
SEQUENCE:1
CATEGORIES:SPORT
DTSTAMP:20260420T194428
END:VEVENT
BEGIN:VEVENT
CLASS:PUBLIC
DTSTART:20231011T180000Z
DURATION:PT2H30M
STATUS:CONFIRMED
SUMMARY:FC St. Pauli Kicker der Kokosnuss vs. Spaceshots Hamburg
DESCRIPTION:4.Liga, Gruppe B (3. Spieltag)\nErgebnis: 27:5 (87:49)
LOCATION:FC St. Pauli Clubheim, Harald-Stender-Platz 1, 20359 Hamburg-St. Pauli
UID:SM-B15399@kickern-hamburg.de
PRIORITY:5
SEQUENCE:1
CATEGORIES:SPORT
DTSTAMP:20260420T194428
END:VEVENT
BEGIN:VEVENT
CLASS:PUBLIC
DTSTART:20231025T180000Z
DURATION:PT2H30M
STATUS:CONFIRMED
SUMMARY:Spaceshots Hamburg vs. Old School
DESCRIPTION:Ligapokal 4. Liga (1. Runde)\nErgebnis: 12:20 (55:79)
LOCATION:KIXX, Nobistor 38, 22767 Hamburg-Altona-Altstadt
UID:SM-B15658@kickern-hamburg.de
PRIORITY:5
SEQUENCE:1
CATEGORIES:SPORT
DTSTAMP:20260420T194428
END:VEVENT
BEGIN:VEVENT
CLASS:PUBLIC
DTSTART:20231101T190000Z
DURATION:PT2H30M
STATUS:CONFIRMED
SUMMARY:FC St. Pauli LMB vs. Spaceshots Hamburg
DESCRIPTION:4.Liga, Gruppe B (4. Spieltag)\nErgebnis: 6:26 (48:87)
LOCATION:FC St. Pauli Clubheim, Harald-Stender-Platz 1, 20359 Hamburg-St. Pauli
UID:SM-B15409@kickern-hamburg.de
PRIORITY:5
SEQUENCE:1
CATEGORIES:SPORT
DTSTAMP:20260420T194428
END:VEVENT
BEGIN:VEVENT
CLASS:PUBLIC
DTSTART:20231115T190000Z
DURATION:PT2H30M
STATUS:CONFIRMED
SUMMARY:Kicking Me Softly vs. Spaceshots Hamburg
DESCRIPTION:4.Liga, Gruppe B (5. Spieltag)\nErgebnis: 25:7 (86:54)
LOCATION:The Pub formerly known as Froggys (RAUCH, Eimbütteler Chaussee 29, 20259 Hamburg-Eimsbüttel
UID:SM-B15415@kickern-hamburg.de
PRIORITY:5
SEQUENCE:1
CATEGORIES:SPORT
DTSTAMP:20260420T194428
END:VEVENT
BEGIN:VEVENT
CLASS:PUBLIC
DTSTART:20231206T190000Z
DURATION:PT2H30M
STATUS:CONFIRMED
SUMMARY:Spaceshots Hamburg vs. Fellow Unicorns
DESCRIPTION:4.Liga, Gruppe B (6. Spieltag)\nErgebnis: 0:2 (0:2)
LOCATION:KIXX, Nobistor 38, 22767 Hamburg-Altona-Altstadt
UID:SM-B15425@kickern-hamburg.de
PRIORITY:5
SEQUENCE:1
CATEGORIES:SPORT
DTSTAMP:20260420T194428
END:VEVENT
BEGIN:VEVENT
CLASS:PUBLIC
DTSTART:20240109T190000Z
DURATION:PT2H30M
STATUS:CONFIRMED
SUMMARY:Glashoch Rangers Hamburg vs. Spaceshots Hamburg
DESCRIPTION:4.Liga, Gruppe B (7. Spieltag)\nErgebnis: 20:12 (78:59)
LOCATION:KIXX, Nobistor 38, 22767 Hamburg-Altona-Altstadt
UID:SM-B15435@kickern-hamburg.de
PRIORITY:5
SEQUENCE:1
CATEGORIES:SPORT
DTSTAMP:20260420T194428
END:VEVENT
BEGIN:VEVENT
CLASS:PUBLIC
DTSTART:20240131T190000Z
DURATION:PT2H30M
STATUS:CONFIRMED
SUMMARY:Spaceshots Hamburg vs. FC St. Pauli Waldmeisterin
DESCRIPTION:4.Liga, Gruppe B (8. Spieltag)\nErgebnis: 13:19 (58:76)
LOCATION:KIXX, Nobistor 38, 22767 Hamburg-Altona-Altstadt
UID:SM-B15445@kickern-hamburg.de
PRIORITY:5
SEQUENCE:1
CATEGORIES:SPORT
DTSTAMP:20260420T194428
END:VEVENT
BEGIN:VEVENT
CLASS:PUBLIC
DTSTART:20240215T190000Z
DURATION:PT2H30M
STATUS:CONFIRMED
SUMMARY:TischING für Kühlschränke vs. Spaceshots Hamburg
DESCRIPTION:4.Liga, Gruppe B (9. Spieltag)\nErgebnis: 20:12 (81:67)
LOCATION:TUHH Hauptgebäude A, Am Schwarzenberg-Campus 1, 21073 Hamburg
UID:SM-B15453@kickern-hamburg.de
PRIORITY:5
SEQUENCE:1
CATEGORIES:SPORT
DTSTAMP:20260420T194428
END:VEVENT
BEGIN:VEVENT
CLASS:PUBLIC
DTSTART:20240229T190000Z
DURATION:PT2H30M
STATUS:CONFIRMED
SUMMARY:Trash N' Talk vs. Spaceshots Hamburg
DESCRIPTION:4.Liga, Gruppe B (10. Spieltag)\nErgebnis: 25:7 (88:51)
LOCATION:Ilohh Bar (RAUCHER), Repsoldstraße 52, 20097 Hamburg-Hammerbrook
UID:SM-B15380@kickern-hamburg.de
PRIORITY:5
SEQUENCE:1
CATEGORIES:SPORT
DTSTAMP:20260420T194428
END:VEVENT
BEGIN:VEVENT
CLASS:PUBLIC
DTSTART:20240306T190000Z
DURATION:PT2H30M
STATUS:CONFIRMED
SUMMARY:Spaceshots Hamburg vs. Kellerkicker Bergedorf
DESCRIPTION:4.Liga, Gruppe B (11. Spieltag)\nErgebnis: 14:18 (67:76)
LOCATION:KIXX, Nobistor 38, 22767 Hamburg-Altona-Altstadt
UID:SM-B15388@kickern-hamburg.de
PRIORITY:5
SEQUENCE:1
CATEGORIES:SPORT
DTSTAMP:20260420T194428
END:VEVENT
BEGIN:VEVENT
CLASS:PUBLIC
DTSTART:20240403T180000Z
DURATION:PT2H30M
STATUS:CONFIRMED
SUMMARY:Spaceshots Hamburg vs. FC St. Pauli Kicker der Kokosnuss
DESCRIPTION:4.Liga, Gruppe B (12. Spieltag)\nErgebnis: 8:24 (52:81)
LOCATION:KIXX, Nobistor 38, 22767 Hamburg-Altona-Altstadt
UID:SM-B15400@kickern-hamburg.de
PRIORITY:5
SEQUENCE:1
CATEGORIES:SPORT
DTSTAMP:20260420T194428
END:VEVENT
BEGIN:VEVENT
CLASS:PUBLIC
DTSTART:20240424T180000Z
DURATION:PT2H30M
STATUS:CONFIRMED
SUMMARY:FC St. Pauli LMB vs. Spaceshots Hamburg
DESCRIPTION:4.Liga, Gruppe B (13. Spieltag)\nErgebnis: 8:24 (53:85)
LOCATION:FC St. Pauli Clubheim, Harald-Stender-Platz 1, 20359 Hamburg-St. Pauli
UID:SM-B15410@kickern-hamburg.de
PRIORITY:5
SEQUENCE:1
CATEGORIES:SPORT
DTSTAMP:20260420T194428
END:VEVENT
BEGIN:VEVENT
CLASS:PUBLIC
DTSTART:20240501T180000Z
DURATION:PT2H30M
STATUS:CONFIRMED
SUMMARY:Spaceshots Hamburg vs. Kicking Me Softly
DESCRIPTION:4.Liga, Gruppe B (14. Spieltag)\nErgebnis: 0:2 (0:2)
LOCATION:KIXX, Nobistor 38, 22767 Hamburg-Altona-Altstadt
UID:SM-B15416@kickern-hamburg.de
PRIORITY:5
SEQUENCE:1
CATEGORIES:SPORT
DTSTAMP:20260420T194428
END:VEVENT
BEGIN:VEVENT
CLASS:PUBLIC
DTSTART:20240521T170000Z
DURATION:PT2H30M
STATUS:CONFIRMED
SUMMARY:Fellow Unicorns vs. Spaceshots Hamburg
DESCRIPTION:4.Liga, Gruppe B (15. Spieltag)\nErgebnis: 2:0 (2:0)
LOCATION:KIXX, Nobistor 38, 22767 Hamburg-Altona-Altstadt
UID:SM-B15426@kickern-hamburg.de
PRIORITY:5
SEQUENCE:1
CATEGORIES:SPORT
DTSTAMP:20260420T194428
END:VEVENT
BEGIN:VEVENT
CLASS:PUBLIC
DTSTART:20240605T180000Z
DURATION:PT2H30M
STATUS:CONFIRMED
SUMMARY:Spaceshots Hamburg vs. Glashoch Rangers Hamburg
DESCRIPTION:4.Liga, Gruppe B (16. Spieltag)\nErgebnis: 8:24 (58:87)
LOCATION:KIXX, Nobistor 38, 22767 Hamburg-Altona-Altstadt
UID:SM-B15436@kickern-hamburg.de
PRIORITY:5
SEQUENCE:1
CATEGORIES:SPORT
DTSTAMP:20260420T194428
END:VEVENT
BEGIN:VEVENT
CLASS:PUBLIC
DTSTART:20240619T180000Z
DURATION:PT2H30M
STATUS:CONFIRMED
SUMMARY:FC St. Pauli Waldmeisterin vs. Spaceshots Hamburg
DESCRIPTION:4.Liga, Gruppe B (17. Spieltag)\nErgebnis: 2:0 (2:0)
LOCATION:FC St. Pauli Clubheim, Harald-Stender-Platz 1, 20359 Hamburg-St. Pauli
UID:SM-B15446@kickern-hamburg.de
PRIORITY:5
SEQUENCE:1
CATEGORIES:SPORT
DTSTAMP:20260420T194428
END:VEVENT
BEGIN:VEVENT
CLASS:PUBLIC
DTSTART:20240710T180000Z
DURATION:PT2H30M
STATUS:CONFIRMED
SUMMARY:Spaceshots Hamburg vs. TischING für Kühlschränke
DESCRIPTION:4.Liga, Gruppe B (18. Spieltag)\nErgebnis: 11:21 (62:81)
LOCATION:KIXX, Nobistor 38, 22767 Hamburg-Altona-Altstadt
UID:SM-B15454@kickern-hamburg.de
PRIORITY:5
SEQUENCE:1
CATEGORIES:SPORT
DTSTAMP:20260420T194428
END:VEVENT
END:VCALENDAR
