BEGIN:VCALENDAR
VERSION:2.0
PRODID:PHP
METHOD:REQUEST
X-ORIGINAL-URL:https://kickern-hamburg.de/liga/aktuelle-partien?task=team_begegnungen_ical&id=4735
X-WR-CALNAME;VALUE=TEXT:FC St. Pauli Die Anfänger
BEGIN:VEVENT
CLASS:PUBLIC
DTSTART:20230906T180000Z
DURATION:PT2H30M
STATUS:CONFIRMED
SUMMARY:FC St. Pauli Die Anfänger vs. Dampframme St. Pauli
DESCRIPTION:4.Liga, Gruppe A (1. Spieltag)\nErgebnis: 25:7 (87:55)
LOCATION:FC St. Pauli Clubheim, Harald-Stender-Platz 1, 20359 Hamburg-St. Pauli
UID:SM-B15551@kickern-hamburg.de
PRIORITY:5
SEQUENCE:1
CATEGORIES:SPORT
DTSTAMP:20260420T194428
END:VEVENT
BEGIN:VEVENT
CLASS:PUBLIC
DTSTART:20230912T180000Z
DURATION:PT2H30M
STATUS:CONFIRMED
SUMMARY:FC St. Pauli Die Anfänger vs. JLZ NortHHunters (NR)
DESCRIPTION:Landespokal (1. Runde)\nErgebnis: 3:29 (35:92)
LOCATION:FC St. Pauli Clubheim, Harald-Stender-Platz 1, 20359 Hamburg-St. Pauli
UID:SM-B15260@kickern-hamburg.de
PRIORITY:5
SEQUENCE:1
CATEGORIES:SPORT
DTSTAMP:20260420T194428
END:VEVENT
BEGIN:VEVENT
CLASS:PUBLIC
DTSTART:20230927T180000Z
DURATION:PT2H30M
STATUS:CONFIRMED
SUMMARY:FC St. Pauli LMB Zwo vs. FC St. Pauli Die Anfänger
DESCRIPTION:4.Liga, Gruppe A (2. Spieltag)\nErgebnis: 2:30 (39:92)
LOCATION:FC St. Pauli Clubheim, Harald-Stender-Platz 1, 20359 Hamburg-St. Pauli
UID:SM-B15569@kickern-hamburg.de
PRIORITY:5
SEQUENCE:1
CATEGORIES:SPORT
DTSTAMP:20260420T194428
END:VEVENT
BEGIN:VEVENT
CLASS:PUBLIC
DTSTART:20231006T173000Z
DURATION:PT2H30M
STATUS:CONFIRMED
SUMMARY:FC St. Pauli Die Anfänger vs. HSV Norderstedt (NR)
DESCRIPTION:4.Liga, Gruppe A (3. Spieltag)\nErgebnis: 14:18 (64:80)
LOCATION:FC St. Pauli Clubheim, Harald-Stender-Platz 1, 20359 Hamburg-St. Pauli
UID:SM-B15571@kickern-hamburg.de
PRIORITY:5
SEQUENCE:1
CATEGORIES:SPORT
DTSTAMP:20260420T194428
END:VEVENT
BEGIN:VEVENT
CLASS:PUBLIC
DTSTART:20231102T190000Z
DURATION:PT2H30M
STATUS:CONFIRMED
SUMMARY:The Walking Dead vs. FC St. Pauli Die Anfänger
DESCRIPTION:4.Liga, Gruppe A (4. Spieltag)\nErgebnis: 16:16 (71:75)
LOCATION:Parzelle 15 (RAUCHER), Hamburger Berg 15, 20359 Hamburg-St. Pauli
UID:SM-B15589@kickern-hamburg.de
PRIORITY:5
SEQUENCE:1
CATEGORIES:SPORT
DTSTAMP:20260420T194428
END:VEVENT
BEGIN:VEVENT
CLASS:PUBLIC
DTSTART:20231110T183000Z
DURATION:PT2H30M
STATUS:CONFIRMED
SUMMARY:FC St. Pauli Die Anfänger vs. Exorbitante Eskalation
DESCRIPTION:Ligapokal 4. Liga (1. Runde)\nErgebnis: 21:11 (79:59)
LOCATION:FC St. Pauli Clubheim, Harald-Stender-Platz 1, 20359 Hamburg-St. Pauli
UID:SM-B15657@kickern-hamburg.de
PRIORITY:5
SEQUENCE:1
CATEGORIES:SPORT
DTSTAMP:20260420T194428
END:VEVENT
BEGIN:VEVENT
CLASS:PUBLIC
DTSTART:20231128T183000Z
DURATION:PT2H30M
STATUS:CONFIRMED
SUMMARY:FC St. Pauli Die Anfänger vs. Kickericki
DESCRIPTION:4.Liga, Gruppe A (5. Spieltag)\nErgebnis: 15:17 (72:69)
LOCATION:FC St. Pauli Clubheim, Harald-Stender-Platz 1, 20359 Hamburg-St. Pauli
UID:SM-B15591@kickern-hamburg.de
PRIORITY:5
SEQUENCE:1
CATEGORIES:SPORT
DTSTAMP:20260420T194428
END:VEVENT
BEGIN:VEVENT
CLASS:PUBLIC
DTSTART:20231130T190000Z
DURATION:PT2H30M
STATUS:CONFIRMED
SUMMARY:Exorbitanter Mumpitz vs. FC St. Pauli Die Anfänger
DESCRIPTION:4.Liga, Gruppe A (6. Spieltag)\nErgebnis: 24:8 (84:47)
LOCATION:Joy, Winterhuder Weg 69, 22085 Hamburg-Uhlenhorst
UID:SM-B15609@kickern-hamburg.de
PRIORITY:5
SEQUENCE:1
CATEGORIES:SPORT
DTSTAMP:20260420T194428
END:VEVENT
BEGIN:VEVENT
CLASS:PUBLIC
DTSTART:20240116T183000Z
DURATION:PT2H30M
STATUS:CONFIRMED
SUMMARY:FC St. Pauli Die Anfänger vs. Old School
DESCRIPTION:Ligapokal 4. Liga (2. Runde)\nErgebnis: 25:7 (85:61)
LOCATION:FC St. Pauli Clubheim, Harald-Stender-Platz 1, 20359 Hamburg-St. Pauli
UID:SM-B15708@kickern-hamburg.de
PRIORITY:5
SEQUENCE:1
CATEGORIES:SPORT
DTSTAMP:20260420T194428
END:VEVENT
BEGIN:VEVENT
CLASS:PUBLIC
DTSTART:20240118T183000Z
DURATION:PT2H30M
STATUS:CONFIRMED
SUMMARY:FC St. Pauli Die Anfänger vs. Ex Orbit Ants (NR)
DESCRIPTION:4.Liga, Gruppe A (7. Spieltag)\nErgebnis: 11:21 (58:83)
LOCATION:FC St. Pauli Clubheim, Harald-Stender-Platz 1, 20359 Hamburg-St. Pauli
UID:SM-B15611@kickern-hamburg.de
PRIORITY:5
SEQUENCE:1
CATEGORIES:SPORT
DTSTAMP:20260420T194428
END:VEVENT
BEGIN:VEVENT
CLASS:PUBLIC
DTSTART:20240125T190000Z
DURATION:PT2H30M
STATUS:CONFIRMED
SUMMARY:Torfabrik 2. Silpion (NR) vs. FC St. Pauli Die Anfänger
DESCRIPTION:4.Liga, Gruppe A (8. Spieltag)\nErgebnis: 18:14 (78:67)
LOCATION:Die Torfabrik, Zum Sportplatz 10, 21220 Seevetal
UID:SM-B15629@kickern-hamburg.de
PRIORITY:5
SEQUENCE:1
CATEGORIES:SPORT
DTSTAMP:20260420T194428
END:VEVENT
BEGIN:VEVENT
CLASS:PUBLIC
DTSTART:20240209T183000Z
DURATION:PT2H30M
STATUS:CONFIRMED
SUMMARY:FC St. Pauli Die Anfänger vs. Old School
DESCRIPTION:4.Liga, Gruppe A (9. Spieltag)\nErgebnis: 18:14 (67:65)
LOCATION:FC St. Pauli Clubheim, Harald-Stender-Platz 1, 20359 Hamburg-St. Pauli
UID:SM-B15631@kickern-hamburg.de
PRIORITY:5
SEQUENCE:1
CATEGORIES:SPORT
DTSTAMP:20260420T194428
END:VEVENT
BEGIN:VEVENT
CLASS:PUBLIC
DTSTART:20240215T190000Z
DURATION:PT2H30M
STATUS:CONFIRMED
SUMMARY:FC St. Pauli Die Anfänger vs. Exorbitanter Mumpitz
DESCRIPTION:Ligapokal 4. Liga (3. Runde)\nErgebnis: 11:21 (63:85)
LOCATION:FC St. Pauli Clubheim, Harald-Stender-Platz 1, 20359 Hamburg-St. Pauli
UID:SM-B15746@kickern-hamburg.de
PRIORITY:5
SEQUENCE:1
CATEGORIES:SPORT
DTSTAMP:20260420T194428
END:VEVENT
BEGIN:VEVENT
CLASS:PUBLIC
DTSTART:20240222T190000Z
DURATION:PT2H30M
STATUS:CONFIRMED
SUMMARY:Dampframme St. Pauli vs. FC St. Pauli Die Anfänger
DESCRIPTION:4.Liga, Gruppe A (10. Spieltag)\nErgebnis: 13:19 (68:79)
LOCATION:KIXX, Nobistor 38, 22767 Hamburg-Altona-Altstadt
UID:SM-B15552@kickern-hamburg.de
PRIORITY:5
SEQUENCE:1
CATEGORIES:SPORT
DTSTAMP:20260420T194428
END:VEVENT
BEGIN:VEVENT
CLASS:PUBLIC
DTSTART:20240306T190000Z
DURATION:PT2H30M
STATUS:CONFIRMED
SUMMARY:FC St. Pauli LMB Zwo vs. FC St. Pauli Die Anfänger
DESCRIPTION:4.Liga, Gruppe A (11. Spieltag)\nErgebnis: 19:13 (75:63)
LOCATION:FC St. Pauli Clubheim, Harald-Stender-Platz 1, 20359 Hamburg-St. Pauli
UID:SM-B15570@kickern-hamburg.de
PRIORITY:5
SEQUENCE:1
CATEGORIES:SPORT
DTSTAMP:20260420T194428
END:VEVENT
BEGIN:VEVENT
CLASS:PUBLIC
DTSTART:20240402T173000Z
DURATION:PT2H30M
STATUS:CONFIRMED
SUMMARY:HSV Norderstedt (NR) vs. FC St. Pauli Die Anfänger
DESCRIPTION:4.Liga, Gruppe A (12. Spieltag)\nErgebnis: 15:17 (74:77)
LOCATION:HSV Tischfußball Sportzentrum, Ulzburger Strasse 94, 22850 Norderstedt
UID:SM-B15572@kickern-hamburg.de
PRIORITY:5
SEQUENCE:1
CATEGORIES:SPORT
DTSTAMP:20260420T194428
END:VEVENT
BEGIN:VEVENT
CLASS:PUBLIC
DTSTART:20240419T173000Z
DURATION:PT2H30M
STATUS:CONFIRMED
SUMMARY:FC St. Pauli Die Anfänger vs. The Walking Dead
DESCRIPTION:4.Liga, Gruppe A (13. Spieltag)\nErgebnis: 12:20 (64:76)
LOCATION:FC St. Pauli Clubheim, Harald-Stender-Platz 1, 20359 Hamburg-St. Pauli
UID:SM-B15590@kickern-hamburg.de
PRIORITY:5
SEQUENCE:1
CATEGORIES:SPORT
DTSTAMP:20260420T194428
END:VEVENT
BEGIN:VEVENT
CLASS:PUBLIC
DTSTART:20240502T180000Z
DURATION:PT2H30M
STATUS:CONFIRMED
SUMMARY:Kickericki vs. FC St. Pauli Die Anfänger
DESCRIPTION:4.Liga, Gruppe A (14. Spieltag)\nErgebnis: 20:12 (76:62)
LOCATION:Parzelle 15 (RAUCHER), Hamburger Berg 15, 20359 Hamburg-St. Pauli
UID:SM-B15592@kickern-hamburg.de
PRIORITY:5
SEQUENCE:1
CATEGORIES:SPORT
DTSTAMP:20260420T194428
END:VEVENT
BEGIN:VEVENT
CLASS:PUBLIC
DTSTART:20240517T173000Z
DURATION:PT2H30M
STATUS:CONFIRMED
SUMMARY:FC St. Pauli Die Anfänger vs. Exorbitanter Mumpitz
DESCRIPTION:4.Liga, Gruppe A (15. Spieltag)\nErgebnis: 14:18 (65:81)
LOCATION:FC St. Pauli Clubheim, Harald-Stender-Platz 1, 20359 Hamburg-St. Pauli
UID:SM-B15610@kickern-hamburg.de
PRIORITY:5
SEQUENCE:1
CATEGORIES:SPORT
DTSTAMP:20260420T194428
END:VEVENT
BEGIN:VEVENT
CLASS:PUBLIC
DTSTART:20240611T180000Z
DURATION:PT2H30M
STATUS:CONFIRMED
SUMMARY:Ex Orbit Ants (NR) vs. FC St. Pauli Die Anfänger
DESCRIPTION:4.Liga, Gruppe A (16. Spieltag)\nErgebnis: 24:8 (85:50)
LOCATION:Joy, Winterhuder Weg 69, 22085 Hamburg-Uhlenhorst
UID:SM-B15612@kickern-hamburg.de
PRIORITY:5
SEQUENCE:1
CATEGORIES:SPORT
DTSTAMP:20260420T194428
END:VEVENT
BEGIN:VEVENT
CLASS:PUBLIC
DTSTART:20240621T173000Z
DURATION:PT2H30M
STATUS:CONFIRMED
SUMMARY:FC St. Pauli Die Anfänger vs. Torfabrik 2. Silpion (NR)
DESCRIPTION:4.Liga, Gruppe A (17. Spieltag)\nErgebnis: 13:19 (47:77)
LOCATION:FC St. Pauli Clubheim, Harald-Stender-Platz 1, 20359 Hamburg-St. Pauli
UID:SM-B15630@kickern-hamburg.de
PRIORITY:5
SEQUENCE:1
CATEGORIES:SPORT
DTSTAMP:20260420T194428
END:VEVENT
BEGIN:VEVENT
CLASS:PUBLIC
DTSTART:20240702T180000Z
DURATION:PT2H30M
STATUS:CONFIRMED
SUMMARY:Old School vs. FC St. Pauli Die Anfänger
DESCRIPTION:4.Liga, Gruppe A (18. Spieltag)\nErgebnis: 19:13 (76:70)
LOCATION:Hannes & Hanna Wohnzimmer (Raucher), Weidenallee 60, 20357 Hamburg-Eimsbüttel
UID:SM-B15632@kickern-hamburg.de
PRIORITY:5
SEQUENCE:1
CATEGORIES:SPORT
DTSTAMP:20260420T194428
END:VEVENT
END:VCALENDAR
