BEGIN:VCALENDAR
VERSION:2.0
PRODID:PHP
METHOD:REQUEST
X-ORIGINAL-URL:https://kickern-hamburg.de/liga/aktuelle-partien?task=team_begegnungen_ical&id=4700
X-WR-CALNAME;VALUE=TEXT:Team St. Pauli 05
BEGIN:VEVENT
CLASS:PUBLIC
DTSTART:20230914T180000Z
DURATION:PT2H30M
STATUS:CONFIRMED
SUMMARY:Partisan Pinshot (NR) vs. Team St. Pauli 05
DESCRIPTION:3.Liga, Gruppe D (1. Spieltag)\nErgebnis: 21:11 (81:68)
LOCATION:KIXX, Nobistor 38, 22767 Hamburg-Altona-Altstadt
UID:SM-B14660@kickern-hamburg.de
PRIORITY:5
SEQUENCE:1
CATEGORIES:SPORT
DTSTAMP:20260420T182237
END:VEVENT
BEGIN:VEVENT
CLASS:PUBLIC
DTSTART:20230922T180000Z
DURATION:PT2H30M
STATUS:CONFIRMED
SUMMARY:Team St. Pauli 05 vs. Deine Mudda (NR)
DESCRIPTION:3.Liga, Gruppe D (2. Spieltag)\nErgebnis: 15:17 (75:78)
LOCATION:Roschinsky's (RAUCHER), Hamburger Berg 19, 20359 Hamburg-St. Pauli
UID:SM-B14670@kickern-hamburg.de
PRIORITY:5
SEQUENCE:1
CATEGORIES:SPORT
DTSTAMP:20260420T182237
END:VEVENT
BEGIN:VEVENT
CLASS:PUBLIC
DTSTART:20231004T180000Z
DURATION:PT2H30M
STATUS:CONFIRMED
SUMMARY:Substanz P vs. Team St. Pauli 05
DESCRIPTION:3.Liga, Gruppe D (3. Spieltag)\nErgebnis: 19:13 (81:68)
LOCATION:Ilohh Bar (RAUCHER), Repsoldstraße 52, 20097 Hamburg-Hammerbrook
UID:SM-B14678@kickern-hamburg.de
PRIORITY:5
SEQUENCE:1
CATEGORIES:SPORT
DTSTAMP:20260420T182237
END:VEVENT
BEGIN:VEVENT
CLASS:PUBLIC
DTSTART:20231013T180000Z
DURATION:PT2H30M
STATUS:CONFIRMED
SUMMARY:Team St. Pauli 05 vs. Gadgettos II (NR)
DESCRIPTION:Landespokal (1. Runde)\nErgebnis: 0:2 (0:2)
LOCATION:Roschinsky's (RAUCHER), Hamburger Berg 19, 20359 Hamburg-St. Pauli
UID:SM-B15268@kickern-hamburg.de
PRIORITY:5
SEQUENCE:1
CATEGORIES:SPORT
DTSTAMP:20260420T182237
END:VEVENT
BEGIN:VEVENT
CLASS:PUBLIC
DTSTART:20231108T183000Z
DURATION:PT2H30M
STATUS:CONFIRMED
SUMMARY:Hermanns treue Riege vs. Team St. Pauli 05
DESCRIPTION:Ligapokal 3. Liga (1. Runde)\nErgebnis: 12:20 (69:80)
LOCATION:Hermann (RAUCHER), Friedrichstraße 7b, 20359 Hamburg-St. Pauli
UID:SM-B15644@kickern-hamburg.de
PRIORITY:5
SEQUENCE:1
CATEGORIES:SPORT
DTSTAMP:20260420T182237
END:VEVENT
BEGIN:VEVENT
CLASS:PUBLIC
DTSTART:20231110T190000Z
DURATION:PT2H30M
STATUS:CONFIRMED
SUMMARY:Team St. Pauli 05 vs. Schorsch
DESCRIPTION:3.Liga, Gruppe D (4. Spieltag)\nErgebnis: 18:14 (72:67)
LOCATION:Roschinsky's (RAUCHER), Hamburger Berg 19, 20359 Hamburg-St. Pauli
UID:SM-B14688@kickern-hamburg.de
PRIORITY:5
SEQUENCE:1
CATEGORIES:SPORT
DTSTAMP:20260420T182237
END:VEVENT
BEGIN:VEVENT
CLASS:PUBLIC
DTSTART:20231116T190000Z
DURATION:PT2H30M
STATUS:CONFIRMED
SUMMARY:Kicker Club Lüneburg vs. Team St. Pauli 05
DESCRIPTION:3.Liga, Gruppe D (5. Spieltag)\nErgebnis: 22:10 (78:64)
LOCATION:KIXX, Nobistor 38, 22767 Hamburg-Altona-Altstadt
UID:SM-B14698@kickern-hamburg.de
PRIORITY:5
SEQUENCE:1
CATEGORIES:SPORT
DTSTAMP:20260420T182237
END:VEVENT
BEGIN:VEVENT
CLASS:PUBLIC
DTSTART:20231207T190000Z
DURATION:PT2H30M
STATUS:CONFIRMED
SUMMARY:Team St. Pauli 05 vs. Rakshasa
DESCRIPTION:3.Liga, Gruppe D (6. Spieltag)\nErgebnis: 15:17 (74:69)
LOCATION:Roschinsky's (RAUCHER), Hamburger Berg 19, 20359 Hamburg-St. Pauli
UID:SM-B14708@kickern-hamburg.de
PRIORITY:5
SEQUENCE:1
CATEGORIES:SPORT
DTSTAMP:20260420T182237
END:VEVENT
BEGIN:VEVENT
CLASS:PUBLIC
DTSTART:20240104T180000Z
DURATION:PT2H30M
STATUS:CONFIRMED
SUMMARY:Team St. Pauli 05 vs. Von der Stange
DESCRIPTION:Ligapokal 3. Liga (2. Runde)\nErgebnis: 12:20 (65:81)
LOCATION:Roschinsky's (RAUCHER), Hamburger Berg 19, 20359 Hamburg-St. Pauli
UID:SM-B15709@kickern-hamburg.de
PRIORITY:5
SEQUENCE:1
CATEGORIES:SPORT
DTSTAMP:20260420T182237
END:VEVENT
BEGIN:VEVENT
CLASS:PUBLIC
DTSTART:20240109T190000Z
DURATION:PT2H30M
STATUS:CONFIRMED
SUMMARY:Roter Stern Kickers 1 (NR) vs. Team St. Pauli 05
DESCRIPTION:3.Liga, Gruppe D (7. Spieltag)\nErgebnis: 19:13 (75:67)
LOCATION:JuKI 42, An der Reitbahn 2, 22926 Ahrensburg
UID:SM-B14718@kickern-hamburg.de
PRIORITY:5
SEQUENCE:1
CATEGORIES:SPORT
DTSTAMP:20260420T182237
END:VEVENT
BEGIN:VEVENT
CLASS:PUBLIC
DTSTART:20240126T190000Z
DURATION:PT2H30M
STATUS:CONFIRMED
SUMMARY:Team St. Pauli 05 vs. FC St. Pauli Sekt und pöbeln
DESCRIPTION:3.Liga, Gruppe D (8. Spieltag)\nErgebnis: 20:12 (79:67)
LOCATION:Roschinsky's (RAUCHER), Hamburger Berg 19, 20359 Hamburg-St. Pauli
UID:SM-B14728@kickern-hamburg.de
PRIORITY:5
SEQUENCE:1
CATEGORIES:SPORT
DTSTAMP:20260420T182237
END:VEVENT
BEGIN:VEVENT
CLASS:PUBLIC
DTSTART:20240208T183000Z
DURATION:PT2H30M
STATUS:CONFIRMED
SUMMARY:Hermanns treue Riege vs. Team St. Pauli 05
DESCRIPTION:3.Liga, Gruppe D (9. Spieltag)\nErgebnis: 12:20 (69:79)
LOCATION:Hermann (RAUCHER), Friedrichstraße 7b, 20359 Hamburg-St. Pauli
UID:SM-B14740@kickern-hamburg.de
PRIORITY:5
SEQUENCE:1
CATEGORIES:SPORT
DTSTAMP:20260420T182237
END:VEVENT
BEGIN:VEVENT
CLASS:PUBLIC
DTSTART:20240227T190000Z
DURATION:PT2H30M
STATUS:CONFIRMED
SUMMARY:Team St. Pauli 05 vs. Partisan Pinshot (NR)
DESCRIPTION:3.Liga, Gruppe D (10. Spieltag)\nErgebnis: 12:20 (66:83)
LOCATION:Roschinsky's (RAUCHER), Hamburger Berg 19, 20359 Hamburg-St. Pauli
UID:SM-B14661@kickern-hamburg.de
PRIORITY:5
SEQUENCE:1
CATEGORIES:SPORT
DTSTAMP:20260420T182237
END:VEVENT
BEGIN:VEVENT
CLASS:PUBLIC
DTSTART:20240307T193000Z
DURATION:PT2H30M
STATUS:CONFIRMED
SUMMARY:Deine Mudda (NR) vs. Team St. Pauli 05
DESCRIPTION:3.Liga, Gruppe D (11. Spieltag)\nErgebnis: 11:21 (52:81)
LOCATION:Phatikan, Nobistor 10, 22767 Hamburg-Altona-Altstadt
UID:SM-B14671@kickern-hamburg.de
PRIORITY:5
SEQUENCE:1
CATEGORIES:SPORT
DTSTAMP:20260420T182237
END:VEVENT
BEGIN:VEVENT
CLASS:PUBLIC
DTSTART:20240412T183000Z
DURATION:PT2H30M
STATUS:CONFIRMED
SUMMARY:Team St. Pauli 05 vs. Substanz P
DESCRIPTION:3.Liga, Gruppe D (12. Spieltag)\nErgebnis: 13:19 (67:80)
LOCATION:Roschinsky's (RAUCHER), Hamburger Berg 19, 20359 Hamburg-St. Pauli
UID:SM-B14679@kickern-hamburg.de
PRIORITY:5
SEQUENCE:1
CATEGORIES:SPORT
DTSTAMP:20260420T182237
END:VEVENT
BEGIN:VEVENT
CLASS:PUBLIC
DTSTART:20240425T180000Z
DURATION:PT2H30M
STATUS:CONFIRMED
SUMMARY:Schorsch vs. Team St. Pauli 05
DESCRIPTION:3.Liga, Gruppe D (13. Spieltag)\nErgebnis: 14:18 (73:78)
LOCATION:Ilohh Bar (RAUCHER), Repsoldstraße 52, 20097 Hamburg-Hammerbrook
UID:SM-B14689@kickern-hamburg.de
PRIORITY:5
SEQUENCE:1
CATEGORIES:SPORT
DTSTAMP:20260420T182237
END:VEVENT
BEGIN:VEVENT
CLASS:PUBLIC
DTSTART:20240510T180000Z
DURATION:PT2H30M
STATUS:CONFIRMED
SUMMARY:Team St. Pauli 05 vs. Kicker Club Lüneburg
DESCRIPTION:3.Liga, Gruppe D (14. Spieltag)\nErgebnis: 14:18 (67:73)
LOCATION:Roschinsky's (RAUCHER), Hamburger Berg 19, 20359 Hamburg-St. Pauli
UID:SM-B14699@kickern-hamburg.de
PRIORITY:5
SEQUENCE:1
CATEGORIES:SPORT
DTSTAMP:20260420T182237
END:VEVENT
BEGIN:VEVENT
CLASS:PUBLIC
DTSTART:20240514T180000Z
DURATION:PT2H30M
STATUS:CONFIRMED
SUMMARY:Rakshasa vs. Team St. Pauli 05
DESCRIPTION:3.Liga, Gruppe D (15. Spieltag)\nErgebnis: 19:13 (78:63)
LOCATION:Parzelle 15 (RAUCHER), Hamburger Berg 15, 20359 Hamburg-St. Pauli
UID:SM-B14709@kickern-hamburg.de
PRIORITY:5
SEQUENCE:1
CATEGORIES:SPORT
DTSTAMP:20260420T182237
END:VEVENT
BEGIN:VEVENT
CLASS:PUBLIC
DTSTART:20240607T180000Z
DURATION:PT2H30M
STATUS:CONFIRMED
SUMMARY:Team St. Pauli 05 vs. Roter Stern Kickers 1 (NR)
DESCRIPTION:3.Liga, Gruppe D (16. Spieltag)\nErgebnis: 4:28 (46:92)
LOCATION:Roschinsky's (RAUCHER), Hamburger Berg 19, 20359 Hamburg-St. Pauli
UID:SM-B14719@kickern-hamburg.de
PRIORITY:5
SEQUENCE:1
CATEGORIES:SPORT
DTSTAMP:20260420T182237
END:VEVENT
BEGIN:VEVENT
CLASS:PUBLIC
DTSTART:20240619T180000Z
DURATION:PT2H30M
STATUS:CONFIRMED
SUMMARY:FC St. Pauli Sekt und pöbeln vs. Team St. Pauli 05
DESCRIPTION:3.Liga, Gruppe D (17. Spieltag)\nErgebnis: 11:21 (63:82)
LOCATION:FC St. Pauli Clubheim, Harald-Stender-Platz 1, 20359 Hamburg-St. Pauli
UID:SM-B14729@kickern-hamburg.de
PRIORITY:5
SEQUENCE:1
CATEGORIES:SPORT
DTSTAMP:20260420T182237
END:VEVENT
BEGIN:VEVENT
CLASS:PUBLIC
DTSTART:20240711T180000Z
DURATION:PT2H30M
STATUS:CONFIRMED
SUMMARY:Team St. Pauli 05 vs. Hermanns treue Riege
DESCRIPTION:3.Liga, Gruppe D (18. Spieltag)\nErgebnis: 18:14 (79:66)
LOCATION:Roschinsky's (RAUCHER), Hamburger Berg 19, 20359 Hamburg-St. Pauli
UID:SM-B14741@kickern-hamburg.de
PRIORITY:5
SEQUENCE:1
CATEGORIES:SPORT
DTSTAMP:20260420T182237
END:VEVENT
END:VCALENDAR
