BEGIN:VCALENDAR
VERSION:2.0
PRODID:PHP
METHOD:REQUEST
X-ORIGINAL-URL:https://kickern-hamburg.de/liga/aktuelle-partien?task=team_begegnungen_ical&id=4696
X-WR-CALNAME;VALUE=TEXT:Roter Stern Kickers 1 (NR)
BEGIN:VEVENT
CLASS:PUBLIC
DTSTART:20230905T180000Z
DURATION:PT2H30M
STATUS:CONFIRMED
SUMMARY:Roter Stern Kickers 1 (NR) vs. Hamburg Privateers 08 (NR)
DESCRIPTION:Landespokal (1. Runde)\nErgebnis: 12:20 (71:79)
LOCATION:JuKI 42, An der Reitbahn 2, 22926 Ahrensburg
UID:SM-B15250@kickern-hamburg.de
PRIORITY:5
SEQUENCE:1
CATEGORIES:SPORT
DTSTAMP:20260420T154523
END:VEVENT
BEGIN:VEVENT
CLASS:PUBLIC
DTSTART:20230906T180000Z
DURATION:PT2H30M
STATUS:CONFIRMED
SUMMARY:FC St. Pauli Sekt und pöbeln vs. Roter Stern Kickers 1 (NR)
DESCRIPTION:3.Liga, Gruppe D (1. Spieltag)\nErgebnis: 4:28 (43:92)
LOCATION:FC St. Pauli Clubheim, Harald-Stender-Platz 1, 20359 Hamburg-St. Pauli
UID:SM-B14654@kickern-hamburg.de
PRIORITY:5
SEQUENCE:1
CATEGORIES:SPORT
DTSTAMP:20260420T154523
END:VEVENT
BEGIN:VEVENT
CLASS:PUBLIC
DTSTART:20230927T173000Z
DURATION:PT2H30M
STATUS:CONFIRMED
SUMMARY:Roter Stern Kickers 1 (NR) vs. Hermanns treue Riege
DESCRIPTION:3.Liga, Gruppe D (2. Spieltag)\nErgebnis: 28:4 (92:44)
LOCATION:JuKI 42, An der Reitbahn 2, 22926 Ahrensburg
UID:SM-B14664@kickern-hamburg.de
PRIORITY:5
SEQUENCE:1
CATEGORIES:SPORT
DTSTAMP:20260420T154523
END:VEVENT
BEGIN:VEVENT
CLASS:PUBLIC
DTSTART:20231010T180000Z
DURATION:PT2H30M
STATUS:CONFIRMED
SUMMARY:Rakshasa vs. Roter Stern Kickers 1 (NR)
DESCRIPTION:3.Liga, Gruppe D (3. Spieltag)\nErgebnis: 11:21 (55:81)
LOCATION:Parzelle 15 (RAUCHER), Hamburger Berg 15, 20359 Hamburg-St. Pauli
UID:SM-B14676@kickern-hamburg.de
PRIORITY:5
SEQUENCE:1
CATEGORIES:SPORT
DTSTAMP:20260420T154523
END:VEVENT
BEGIN:VEVENT
CLASS:PUBLIC
DTSTART:20231107T190000Z
DURATION:PT2H30M
STATUS:CONFIRMED
SUMMARY:Roter Stern Kickers 1 (NR) vs. Substanz P
DESCRIPTION:3.Liga, Gruppe D (4. Spieltag)\nErgebnis: 24:8 (87:64)
LOCATION:JuKI 42, An der Reitbahn 2, 22926 Ahrensburg
UID:SM-B14686@kickern-hamburg.de
PRIORITY:5
SEQUENCE:1
CATEGORIES:SPORT
DTSTAMP:20260420T154523
END:VEVENT
BEGIN:VEVENT
CLASS:PUBLIC
DTSTART:20231123T190000Z
DURATION:PT2H30M
STATUS:CONFIRMED
SUMMARY:Deine Mudda (NR) vs. Roter Stern Kickers 1 (NR)
DESCRIPTION:3.Liga, Gruppe D (5. Spieltag)\nErgebnis: 19:13 (75:73)
LOCATION:Phatikan, Nobistor 10, 22767 Hamburg-Altona-Altstadt
UID:SM-B14692@kickern-hamburg.de
PRIORITY:5
SEQUENCE:1
CATEGORIES:SPORT
DTSTAMP:20260420T154523
END:VEVENT
BEGIN:VEVENT
CLASS:PUBLIC
DTSTART:20231205T190000Z
DURATION:PT2H30M
STATUS:CONFIRMED
SUMMARY:Roter Stern Kickers 1 (NR) vs. Schorsch
DESCRIPTION:3.Liga, Gruppe D (6. Spieltag)\nErgebnis: 2:0 (2:0)
LOCATION:JuKI 42, An der Reitbahn 2, 22926 Ahrensburg
UID:SM-B14702@kickern-hamburg.de
PRIORITY:5
SEQUENCE:1
CATEGORIES:SPORT
DTSTAMP:20260420T154523
END:VEVENT
BEGIN:VEVENT
CLASS:PUBLIC
DTSTART:20231221T190000Z
DURATION:PT2H30M
STATUS:CONFIRMED
SUMMARY:Torfabrik Silpion (NR) vs. Roter Stern Kickers 1 (NR)
DESCRIPTION:Ligapokal 3. Liga (2. Runde)\nErgebnis: 21:11 (83:70)
LOCATION:Die Torfabrik, Zum Sportplatz 10, 21220 Seevetal
UID:SM-B15664@kickern-hamburg.de
PRIORITY:5
SEQUENCE:1
CATEGORIES:SPORT
DTSTAMP:20260420T154523
END:VEVENT
BEGIN:VEVENT
CLASS:PUBLIC
DTSTART:20240109T190000Z
DURATION:PT2H30M
STATUS:CONFIRMED
SUMMARY:Roter Stern Kickers 1 (NR) vs. Team St. Pauli 05
DESCRIPTION:3.Liga, Gruppe D (7. Spieltag)\nErgebnis: 19:13 (75:67)
LOCATION:JuKI 42, An der Reitbahn 2, 22926 Ahrensburg
UID:SM-B14718@kickern-hamburg.de
PRIORITY:5
SEQUENCE:1
CATEGORIES:SPORT
DTSTAMP:20260420T154523
END:VEVENT
BEGIN:VEVENT
CLASS:PUBLIC
DTSTART:20240123T190000Z
DURATION:PT2H30M
STATUS:CONFIRMED
SUMMARY:Partisan Pinshot (NR) vs. Roter Stern Kickers 1 (NR)
DESCRIPTION:3.Liga, Gruppe D (8. Spieltag)\nErgebnis: 14:18 (67:79)
LOCATION:KIXX, Nobistor 38, 22767 Hamburg-Altona-Altstadt
UID:SM-B14726@kickern-hamburg.de
PRIORITY:5
SEQUENCE:1
CATEGORIES:SPORT
DTSTAMP:20260420T154523
END:VEVENT
BEGIN:VEVENT
CLASS:PUBLIC
DTSTART:20240214T190000Z
DURATION:PT2H30M
STATUS:CONFIRMED
SUMMARY:Roter Stern Kickers 1 (NR) vs. Kicker Club Lüneburg
DESCRIPTION:3.Liga, Gruppe D (9. Spieltag)\nErgebnis: 25:7 (88:52)
LOCATION:JuKI 42, An der Reitbahn 2, 22926 Ahrensburg
UID:SM-B14738@kickern-hamburg.de
PRIORITY:5
SEQUENCE:1
CATEGORIES:SPORT
DTSTAMP:20260420T154523
END:VEVENT
BEGIN:VEVENT
CLASS:PUBLIC
DTSTART:20240229T190000Z
DURATION:PT2H30M
STATUS:CONFIRMED
SUMMARY:Roter Stern Kickers 1 (NR) vs. FC St. Pauli Sekt und pöbeln
DESCRIPTION:3.Liga, Gruppe D (10. Spieltag)\nErgebnis: 28:4 (91:36)
LOCATION:JuKI 42, An der Reitbahn 2, 22926 Ahrensburg
UID:SM-B14655@kickern-hamburg.de
PRIORITY:5
SEQUENCE:1
CATEGORIES:SPORT
DTSTAMP:20260420T154523
END:VEVENT
BEGIN:VEVENT
CLASS:PUBLIC
DTSTART:20240307T183000Z
DURATION:PT2H30M
STATUS:CONFIRMED
SUMMARY:Hermanns treue Riege vs. Roter Stern Kickers 1 (NR)
DESCRIPTION:3.Liga, Gruppe D (11. Spieltag)\nErgebnis: 4:28 (43:91)
LOCATION:Hermann (RAUCHER), Friedrichstraße 7b, 20359 Hamburg-St. Pauli
UID:SM-B14665@kickern-hamburg.de
PRIORITY:5
SEQUENCE:1
CATEGORIES:SPORT
DTSTAMP:20260420T154523
END:VEVENT
BEGIN:VEVENT
CLASS:PUBLIC
DTSTART:20240409T180000Z
DURATION:PT2H30M
STATUS:CONFIRMED
SUMMARY:Roter Stern Kickers 1 (NR) vs. Rakshasa
DESCRIPTION:3.Liga, Gruppe D (12. Spieltag)\nErgebnis: 27:5 (88:52)
LOCATION:JuKI 42, An der Reitbahn 2, 22926 Ahrensburg
UID:SM-B14677@kickern-hamburg.de
PRIORITY:5
SEQUENCE:1
CATEGORIES:SPORT
DTSTAMP:20260420T154523
END:VEVENT
BEGIN:VEVENT
CLASS:PUBLIC
DTSTART:20240424T180000Z
DURATION:PT2H30M
STATUS:CONFIRMED
SUMMARY:Substanz P vs. Roter Stern Kickers 1 (NR)
DESCRIPTION:3.Liga, Gruppe D (13. Spieltag)\nErgebnis: 14:18 (71:76)
LOCATION:Ilohh Bar (RAUCHER), Repsoldstraße 52, 20097 Hamburg-Hammerbrook
UID:SM-B14687@kickern-hamburg.de
PRIORITY:5
SEQUENCE:1
CATEGORIES:SPORT
DTSTAMP:20260420T154523
END:VEVENT
BEGIN:VEVENT
CLASS:PUBLIC
DTSTART:20240430T180000Z
DURATION:PT2H30M
STATUS:CONFIRMED
SUMMARY:Roter Stern Kickers 1 (NR) vs. Deine Mudda (NR)
DESCRIPTION:3.Liga, Gruppe D (14. Spieltag)\nErgebnis: 2:0 (2:0)
LOCATION:JuKI 42, An der Reitbahn 2, 22926 Ahrensburg
UID:SM-B14693@kickern-hamburg.de
PRIORITY:5
SEQUENCE:1
CATEGORIES:SPORT
DTSTAMP:20260420T154523
END:VEVENT
BEGIN:VEVENT
CLASS:PUBLIC
DTSTART:20240516T180000Z
DURATION:PT2H30M
STATUS:CONFIRMED
SUMMARY:Schorsch vs. Roter Stern Kickers 1 (NR)
DESCRIPTION:3.Liga, Gruppe D (15. Spieltag)\nErgebnis: 13:19 (72:81)
LOCATION:Ilohh Bar (RAUCHER), Repsoldstraße 52, 20097 Hamburg-Hammerbrook
UID:SM-B14703@kickern-hamburg.de
PRIORITY:5
SEQUENCE:1
CATEGORIES:SPORT
DTSTAMP:20260420T154523
END:VEVENT
BEGIN:VEVENT
CLASS:PUBLIC
DTSTART:20240607T180000Z
DURATION:PT2H30M
STATUS:CONFIRMED
SUMMARY:Team St. Pauli 05 vs. Roter Stern Kickers 1 (NR)
DESCRIPTION:3.Liga, Gruppe D (16. Spieltag)\nErgebnis: 4:28 (46:92)
LOCATION:Roschinsky's (RAUCHER), Hamburger Berg 19, 20359 Hamburg-St. Pauli
UID:SM-B14719@kickern-hamburg.de
PRIORITY:5
SEQUENCE:1
CATEGORIES:SPORT
DTSTAMP:20260420T154523
END:VEVENT
BEGIN:VEVENT
CLASS:PUBLIC
DTSTART:20240618T180000Z
DURATION:PT2H30M
STATUS:CONFIRMED
SUMMARY:Roter Stern Kickers 1 (NR) vs. Partisan Pinshot (NR)
DESCRIPTION:3.Liga, Gruppe D (17. Spieltag)\nErgebnis: 19:13 (77:71)
LOCATION:JuKI 42, An der Reitbahn 2, 22926 Ahrensburg
UID:SM-B14727@kickern-hamburg.de
PRIORITY:5
SEQUENCE:1
CATEGORIES:SPORT
DTSTAMP:20260420T154523
END:VEVENT
BEGIN:VEVENT
CLASS:PUBLIC
DTSTART:20240704T180000Z
DURATION:PT2H30M
STATUS:CONFIRMED
SUMMARY:Kicker Club Lüneburg vs. Roter Stern Kickers 1 (NR)
DESCRIPTION:3.Liga, Gruppe D (18. Spieltag)\nErgebnis: 12:20 (65:80)
LOCATION:KIXX, Nobistor 38, 22767 Hamburg-Altona-Altstadt
UID:SM-B14739@kickern-hamburg.de
PRIORITY:5
SEQUENCE:1
CATEGORIES:SPORT
DTSTAMP:20260420T154523
END:VEVENT
END:VCALENDAR
