BEGIN:VCALENDAR
VERSION:2.0
PRODID:PHP
METHOD:REQUEST
X-ORIGINAL-URL:https://kickern-hamburg.de/liga/aktuelle-partien?task=team_begegnungen_ical&id=4689
X-WR-CALNAME;VALUE=TEXT:HSV Torschmuggler (NR)
BEGIN:VEVENT
CLASS:PUBLIC
DTSTART:20230912T180000Z
DURATION:PT2H30M
STATUS:CONFIRMED
SUMMARY:HSV Torschmuggler (NR) vs. Solaris
DESCRIPTION:3.Liga, Gruppe A (1. Spieltag)\nErgebnis: 11:21 (66:81)
LOCATION:HSV Tischfußball Sportzentrum, Ulzburger Strasse 94, 22850 Norderstedt
UID:SM-B14838@kickern-hamburg.de
PRIORITY:5
SEQUENCE:1
CATEGORIES:SPORT
DTSTAMP:20260420T170730
END:VEVENT
BEGIN:VEVENT
CLASS:PUBLIC
DTSTART:20230919T173000Z
DURATION:PT2H30M
STATUS:CONFIRMED
SUMMARY:Goalzillas 1 (NR) vs. HSV Torschmuggler (NR)
DESCRIPTION:3.Liga, Gruppe A (2. Spieltag)\nErgebnis: 17:15 (70:70)
LOCATION:KIXX, Nobistor 38, 22767 Hamburg-Altona-Altstadt
UID:SM-B14846@kickern-hamburg.de
PRIORITY:5
SEQUENCE:1
CATEGORIES:SPORT
DTSTAMP:20260420T170730
END:VEVENT
BEGIN:VEVENT
CLASS:PUBLIC
DTSTART:20231003T180000Z
DURATION:PT2H30M
STATUS:CONFIRMED
SUMMARY:Drehschieber Silpion vs. HSV Torschmuggler (NR)
DESCRIPTION:3.Liga, Gruppe A (3. Spieltag)\nErgebnis: 11:21 (58:78)
LOCATION:Wohnung Julian Krätzig, Reeperbahn 63, 20359 Hamburg-St. Pauli
UID:SM-B14854@kickern-hamburg.de
PRIORITY:5
SEQUENCE:1
CATEGORIES:SPORT
DTSTAMP:20260420T170730
END:VEVENT
BEGIN:VEVENT
CLASS:PUBLIC
DTSTART:20231017T180000Z
DURATION:PT2H30M
STATUS:CONFIRMED
SUMMARY:HSV Torschmuggler (NR) vs. Drehschieber Silpion
DESCRIPTION:Landespokal (1. Runde)\nErgebnis: 23:9 (85:55)
LOCATION:HSV Tischfußball Sportzentrum, Ulzburger Strasse 94, 22850 Norderstedt
UID:SM-B15254@kickern-hamburg.de
PRIORITY:5
SEQUENCE:1
CATEGORIES:SPORT
DTSTAMP:20260420T170730
END:VEVENT
BEGIN:VEVENT
CLASS:PUBLIC
DTSTART:20231107T190000Z
DURATION:PT2H30M
STATUS:CONFIRMED
SUMMARY:HSV Torschmuggler (NR) vs. Fuchs AG (NR)
DESCRIPTION:3.Liga, Gruppe A (4. Spieltag)\nErgebnis: 16:16 (75:72)
LOCATION:HSV Tischfußball Sportzentrum, Ulzburger Strasse 94, 22850 Norderstedt
UID:SM-B14864@kickern-hamburg.de
PRIORITY:5
SEQUENCE:1
CATEGORIES:SPORT
DTSTAMP:20260420T170730
END:VEVENT
BEGIN:VEVENT
CLASS:PUBLIC
DTSTART:20231114T190000Z
DURATION:PT2H30M
STATUS:CONFIRMED
SUMMARY:HSV Torschmuggler (NR) vs. TkC Rrraddauuuuuh!
DESCRIPTION:3.Liga, Gruppe A (5. Spieltag)\nErgebnis: 26:6 (90:61)
LOCATION:HSV Tischfußball Sportzentrum, Ulzburger Strasse 94, 22850 Norderstedt
UID:SM-B14878@kickern-hamburg.de
PRIORITY:5
SEQUENCE:1
CATEGORIES:SPORT
DTSTAMP:20260420T170730
END:VEVENT
BEGIN:VEVENT
CLASS:PUBLIC
DTSTART:20231129T190000Z
DURATION:PT2H30M
STATUS:CONFIRMED
SUMMARY:Die Tischler FC St.Pauli vs. HSV Torschmuggler (NR)
DESCRIPTION:Ligapokal 3. Liga (1. Runde)\nErgebnis: 5:27 (54:91)
LOCATION:FC St. Pauli Clubheim, Harald-Stender-Platz 1, 20359 Hamburg-St. Pauli
UID:SM-B15641@kickern-hamburg.de
PRIORITY:5
SEQUENCE:1
CATEGORIES:SPORT
DTSTAMP:20260420T170730
END:VEVENT
BEGIN:VEVENT
CLASS:PUBLIC
DTSTART:20231130T190000Z
DURATION:PT2H30M
STATUS:CONFIRMED
SUMMARY:Torfabrik Silpion (NR) vs. HSV Torschmuggler (NR)
DESCRIPTION:Landespokal (2. Runde)\nErgebnis: 19:13 (76:64)
LOCATION:Die Torfabrik, Zum Sportplatz 10, 21220 Seevetal
UID:SM-B15698@kickern-hamburg.de
PRIORITY:5
SEQUENCE:1
CATEGORIES:SPORT
DTSTAMP:20260420T170730
END:VEVENT
BEGIN:VEVENT
CLASS:PUBLIC
DTSTART:20231205T190000Z
DURATION:PT2H30M
STATUS:CONFIRMED
SUMMARY:Nen Rudel Gurken vs. HSV Torschmuggler (NR)
DESCRIPTION:3.Liga, Gruppe A (6. Spieltag)\nErgebnis: 9:23 (62:83)
LOCATION:Bambi Bar, Hamburger Berg 14, 20359 Hamburg
UID:SM-B14886@kickern-hamburg.de
PRIORITY:5
SEQUENCE:1
CATEGORIES:SPORT
DTSTAMP:20260420T170730
END:VEVENT
BEGIN:VEVENT
CLASS:PUBLIC
DTSTART:20240116T190000Z
DURATION:PT2H30M
STATUS:CONFIRMED
SUMMARY:Beginners (NR) vs. HSV Torschmuggler (NR)
DESCRIPTION:3.Liga, Gruppe A (7. Spieltag)\nErgebnis: 16:16 (75:71)
LOCATION:KIXX, Nobistor 38, 22767 Hamburg-Altona-Altstadt
UID:SM-B14900@kickern-hamburg.de
PRIORITY:5
SEQUENCE:1
CATEGORIES:SPORT
DTSTAMP:20260420T170730
END:VEVENT
BEGIN:VEVENT
CLASS:PUBLIC
DTSTART:20240117T191500Z
DURATION:PT2H30M
STATUS:CONFIRMED
SUMMARY:Tingeltangel FC St. Pauli vs. HSV Torschmuggler (NR)
DESCRIPTION:Ligapokal 3. Liga (2. Runde)\nErgebnis: 19:13 (79:70)
LOCATION:FC St. Pauli Clubheim, Harald-Stender-Platz 1, 20359 Hamburg-St. Pauli
UID:SM-B15722@kickern-hamburg.de
PRIORITY:5
SEQUENCE:1
CATEGORIES:SPORT
DTSTAMP:20260420T170730
END:VEVENT
BEGIN:VEVENT
CLASS:PUBLIC
DTSTART:20240123T190000Z
DURATION:PT2H30M
STATUS:CONFIRMED
SUMMARY:HSV Torschmuggler (NR) vs. 3. Herren Silpion (NR)
DESCRIPTION:3.Liga, Gruppe A (8. Spieltag)\nErgebnis: 7:25 (60:88)
LOCATION:HSV Tischfußball Sportzentrum, Ulzburger Strasse 94, 22850 Norderstedt
UID:SM-B14910@kickern-hamburg.de
PRIORITY:5
SEQUENCE:1
CATEGORIES:SPORT
DTSTAMP:20260420T170730
END:VEVENT
BEGIN:VEVENT
CLASS:PUBLIC
DTSTART:20240213T190000Z
DURATION:PT2H30M
STATUS:CONFIRMED
SUMMARY:Kickeronis (NR) vs. HSV Torschmuggler (NR)
DESCRIPTION:3.Liga, Gruppe A (9. Spieltag)\nErgebnis: 19:13 (76:69)
LOCATION:KIXX, Nobistor 38, 22767 Hamburg-Altona-Altstadt
UID:SM-B14918@kickern-hamburg.de
PRIORITY:5
SEQUENCE:1
CATEGORIES:SPORT
DTSTAMP:20260420T170730
END:VEVENT
BEGIN:VEVENT
CLASS:PUBLIC
DTSTART:20240220T190000Z
DURATION:PT2H30M
STATUS:CONFIRMED
SUMMARY:Solaris vs. HSV Torschmuggler (NR)
DESCRIPTION:3.Liga, Gruppe A (10. Spieltag)\nErgebnis: 17:15 (77:73)
LOCATION:Blitz Bar, Schulterblatt 110, 20357 Hamburg
UID:SM-B14839@kickern-hamburg.de
PRIORITY:5
SEQUENCE:1
CATEGORIES:SPORT
DTSTAMP:20260420T170730
END:VEVENT
BEGIN:VEVENT
CLASS:PUBLIC
DTSTART:20240312T190000Z
DURATION:PT2H30M
STATUS:CONFIRMED
SUMMARY:HSV Torschmuggler (NR) vs. Goalzillas 1 (NR)
DESCRIPTION:3.Liga, Gruppe A (11. Spieltag)\nErgebnis: 12:20 (61:77)
LOCATION:HSV Tischfußball Sportzentrum, Ulzburger Strasse 94, 22850 Norderstedt
UID:SM-B14847@kickern-hamburg.de
PRIORITY:5
SEQUENCE:1
CATEGORIES:SPORT
DTSTAMP:20260420T170730
END:VEVENT
BEGIN:VEVENT
CLASS:PUBLIC
DTSTART:20240409T180000Z
DURATION:PT2H30M
STATUS:CONFIRMED
SUMMARY:HSV Torschmuggler (NR) vs. Drehschieber Silpion
DESCRIPTION:3.Liga, Gruppe A (12. Spieltag)\nErgebnis: 23:9 (79:58)
LOCATION:HSV Tischfußball Sportzentrum, Ulzburger Strasse 94, 22850 Norderstedt
UID:SM-B14855@kickern-hamburg.de
PRIORITY:5
SEQUENCE:1
CATEGORIES:SPORT
DTSTAMP:20260420T170730
END:VEVENT
BEGIN:VEVENT
CLASS:PUBLIC
DTSTART:20240425T170000Z
DURATION:PT2H30M
STATUS:CONFIRMED
SUMMARY:Fuchs AG (NR) vs. HSV Torschmuggler (NR)
DESCRIPTION:3.Liga, Gruppe A (13. Spieltag)\nErgebnis: 23:9 (83:54)
LOCATION:KIXX, Nobistor 38, 22767 Hamburg-Altona-Altstadt
UID:SM-B14865@kickern-hamburg.de
PRIORITY:5
SEQUENCE:1
CATEGORIES:SPORT
DTSTAMP:20260420T170730
END:VEVENT
BEGIN:VEVENT
CLASS:PUBLIC
DTSTART:20240507T180000Z
DURATION:PT2H30M
STATUS:CONFIRMED
SUMMARY:TkC Rrraddauuuuuh! vs. HSV Torschmuggler (NR)
DESCRIPTION:3.Liga, Gruppe A (14. Spieltag)\nErgebnis: 15:17 (69:77)
LOCATION:Rrraddauuuuuh! e.V., Friedensallee 44, 22765 Hamburg-Altona
UID:SM-B14879@kickern-hamburg.de
PRIORITY:5
SEQUENCE:1
CATEGORIES:SPORT
DTSTAMP:20260420T170730
END:VEVENT
BEGIN:VEVENT
CLASS:PUBLIC
DTSTART:20240521T180000Z
DURATION:PT2H30M
STATUS:CONFIRMED
SUMMARY:HSV Torschmuggler (NR) vs. Nen Rudel Gurken
DESCRIPTION:3.Liga, Gruppe A (15. Spieltag)\nErgebnis: 17:15 (75:71)
LOCATION:HSV Tischfußball Sportzentrum, Ulzburger Strasse 94, 22850 Norderstedt
UID:SM-B14887@kickern-hamburg.de
PRIORITY:5
SEQUENCE:1
CATEGORIES:SPORT
DTSTAMP:20260420T170730
END:VEVENT
BEGIN:VEVENT
CLASS:PUBLIC
DTSTART:20240611T180000Z
DURATION:PT2H30M
STATUS:CONFIRMED
SUMMARY:HSV Torschmuggler (NR) vs. Beginners (NR)
DESCRIPTION:3.Liga, Gruppe A (16. Spieltag)\nErgebnis: 18:14 (80:69)
LOCATION:HSV Tischfußball Sportzentrum, Ulzburger Strasse 94, 22850 Norderstedt
UID:SM-B14901@kickern-hamburg.de
PRIORITY:5
SEQUENCE:1
CATEGORIES:SPORT
DTSTAMP:20260420T170730
END:VEVENT
BEGIN:VEVENT
CLASS:PUBLIC
DTSTART:20240624T180000Z
DURATION:PT2H30M
STATUS:CONFIRMED
SUMMARY:3. Herren Silpion (NR) vs. HSV Torschmuggler (NR)
DESCRIPTION:3.Liga, Gruppe A (17. Spieltag)\nErgebnis: 17:15 (77:71)
LOCATION:Silpion IT Solution GmbH, Brandshofer Deich 48, 20539 Hamburg-Rothenburgsort
UID:SM-B14911@kickern-hamburg.de
PRIORITY:5
SEQUENCE:1
CATEGORIES:SPORT
DTSTAMP:20260420T170730
END:VEVENT
BEGIN:VEVENT
CLASS:PUBLIC
DTSTART:20240702T180000Z
DURATION:PT2H30M
STATUS:CONFIRMED
SUMMARY:HSV Torschmuggler (NR) vs. Kickeronis (NR)
DESCRIPTION:3.Liga, Gruppe A (18. Spieltag)\nErgebnis: 20:12 (79:67)
LOCATION:HSV Tischfußball Sportzentrum, Ulzburger Strasse 94, 22850 Norderstedt
UID:SM-B14919@kickern-hamburg.de
PRIORITY:5
SEQUENCE:1
CATEGORIES:SPORT
DTSTAMP:20260420T170730
END:VEVENT
END:VCALENDAR
