BEGIN:VCALENDAR
VERSION:2.0
PRODID:PHP
METHOD:REQUEST
X-ORIGINAL-URL:https://kickern-hamburg.de/liga/aktuelle-partien?task=team_begegnungen_ical&id=4687
X-WR-CALNAME;VALUE=TEXT:Goalzillas 1 (NR)
BEGIN:VEVENT
CLASS:PUBLIC
DTSTART:20230912T180000Z
DURATION:PT2H30M
STATUS:CONFIRMED
SUMMARY:Drehschieber Silpion vs. Goalzillas 1 (NR)
DESCRIPTION:3.Liga, Gruppe A (1. Spieltag)\nErgebnis: 6:26 (55:90)
LOCATION:Wohnung Julian Krätzig, Reeperbahn 63, 20359 Hamburg-St. Pauli
UID:SM-B14836@kickern-hamburg.de
PRIORITY:5
SEQUENCE:1
CATEGORIES:SPORT
DTSTAMP:20260420T170732
END:VEVENT
BEGIN:VEVENT
CLASS:PUBLIC
DTSTART:20230919T173000Z
DURATION:PT2H30M
STATUS:CONFIRMED
SUMMARY:Goalzillas 1 (NR) vs. HSV Torschmuggler (NR)
DESCRIPTION:3.Liga, Gruppe A (2. Spieltag)\nErgebnis: 17:15 (70:70)
LOCATION:KIXX, Nobistor 38, 22767 Hamburg-Altona-Altstadt
UID:SM-B14846@kickern-hamburg.de
PRIORITY:5
SEQUENCE:1
CATEGORIES:SPORT
DTSTAMP:20260420T170732
END:VEVENT
BEGIN:VEVENT
CLASS:PUBLIC
DTSTART:20231010T180000Z
DURATION:PT2H30M
STATUS:CONFIRMED
SUMMARY:Goalzillas 1 (NR) vs. Nen Rudel Gurken
DESCRIPTION:3.Liga, Gruppe A (3. Spieltag)\nErgebnis: 16:16 (73:78)
LOCATION:KIXX, Nobistor 38, 22767 Hamburg-Altona-Altstadt
UID:SM-B14860@kickern-hamburg.de
PRIORITY:5
SEQUENCE:1
CATEGORIES:SPORT
DTSTAMP:20260420T170732
END:VEVENT
BEGIN:VEVENT
CLASS:PUBLIC
DTSTART:20231010T180000Z
DURATION:PT2H30M
STATUS:CONFIRMED
SUMMARY:VFT Reflektorschirm Hamburg vs. Goalzillas 1 (NR)
DESCRIPTION:Landespokal (1. Runde)\nErgebnis: 0:2 (0:2)
LOCATION:KIXX, Nobistor 38, 22767 Hamburg-Altona-Altstadt
UID:SM-B15277@kickern-hamburg.de
PRIORITY:5
SEQUENCE:1
CATEGORIES:SPORT
DTSTAMP:20260420T170732
END:VEVENT
BEGIN:VEVENT
CLASS:PUBLIC
DTSTART:20231109T190000Z
DURATION:PT2H30M
STATUS:CONFIRMED
SUMMARY:TkC Rrraddauuuuuh! vs. Goalzillas 1 (NR)
DESCRIPTION:3.Liga, Gruppe A (4. Spieltag)\nErgebnis: 11:21 (58:82)
LOCATION:Rrraddauuuuuh! e.V., Friedensallee 44, 22765 Hamburg-Altona
UID:SM-B14868@kickern-hamburg.de
PRIORITY:5
SEQUENCE:1
CATEGORIES:SPORT
DTSTAMP:20260420T170732
END:VEVENT
BEGIN:VEVENT
CLASS:PUBLIC
DTSTART:20231114T190000Z
DURATION:PT2H30M
STATUS:CONFIRMED
SUMMARY:Goalzillas 1 (NR) vs. Solaris
DESCRIPTION:3.Liga, Gruppe A (5. Spieltag)\nErgebnis: 17:15 (73:71)
LOCATION:KIXX, Nobistor 38, 22767 Hamburg-Altona-Altstadt
UID:SM-B14874@kickern-hamburg.de
PRIORITY:5
SEQUENCE:1
CATEGORIES:SPORT
DTSTAMP:20260420T170732
END:VEVENT
BEGIN:VEVENT
CLASS:PUBLIC
DTSTART:20231123T190100Z
DURATION:PT2H30M
STATUS:CONFIRMED
SUMMARY:The Walking Dead vs. Goalzillas 1 (NR)
DESCRIPTION:Landespokal (2. Runde)\nErgebnis: 15:17 (70:78)
LOCATION:Parzelle 15 (RAUCHER), Hamburger Berg 15, 20359 Hamburg-St. Pauli
UID:SM-B15692@kickern-hamburg.de
PRIORITY:5
SEQUENCE:1
CATEGORIES:SPORT
DTSTAMP:20260420T170732
END:VEVENT
BEGIN:VEVENT
CLASS:PUBLIC
DTSTART:20231205T190000Z
DURATION:PT2H30M
STATUS:CONFIRMED
SUMMARY:Kickeronis (NR) vs. Goalzillas 1 (NR)
DESCRIPTION:3.Liga, Gruppe A (6. Spieltag)\nErgebnis: 9:23 (53:81)
LOCATION:KIXX, Nobistor 38, 22767 Hamburg-Altona-Altstadt
UID:SM-B14882@kickern-hamburg.de
PRIORITY:5
SEQUENCE:1
CATEGORIES:SPORT
DTSTAMP:20260420T170732
END:VEVENT
BEGIN:VEVENT
CLASS:PUBLIC
DTSTART:20231219T191500Z
DURATION:PT2H30M
STATUS:CONFIRMED
SUMMARY:Goalzillas 1 (NR) vs. Tingeltangel FC St. Pauli
DESCRIPTION:Landespokal (3. Runde)\nErgebnis: 13:19 (72:71)
LOCATION:KIXX, Nobistor 38, 22767 Hamburg-Altona-Altstadt
UID:SM-B15711@kickern-hamburg.de
PRIORITY:5
SEQUENCE:1
CATEGORIES:SPORT
DTSTAMP:20260420T170732
END:VEVENT
BEGIN:VEVENT
CLASS:PUBLIC
DTSTART:20240109T190000Z
DURATION:PT2H30M
STATUS:CONFIRMED
SUMMARY:Goalzillas 1 (NR) vs. FC St. Pauli MiDDelDinger (NR)
DESCRIPTION:Ligapokal 3. Liga (2. Runde)\nErgebnis: 15:17 (72:75)
LOCATION:KIXX, Nobistor 38, 22767 Hamburg-Altona-Altstadt
UID:SM-B15661@kickern-hamburg.de
PRIORITY:5
SEQUENCE:1
CATEGORIES:SPORT
DTSTAMP:20260420T170732
END:VEVENT
BEGIN:VEVENT
CLASS:PUBLIC
DTSTART:20240112T190000Z
DURATION:PT2H30M
STATUS:CONFIRMED
SUMMARY:3. Herren Silpion (NR) vs. Goalzillas 1 (NR)
DESCRIPTION:3.Liga, Gruppe A (7. Spieltag)\nErgebnis: 22:10 (82:56)
LOCATION:Silpion IT Solution GmbH, Brandshofer Deich 48, 20539 Hamburg-Rothenburgsort
UID:SM-B14892@kickern-hamburg.de
PRIORITY:5
SEQUENCE:1
CATEGORIES:SPORT
DTSTAMP:20260420T170732
END:VEVENT
BEGIN:VEVENT
CLASS:PUBLIC
DTSTART:20240123T183000Z
DURATION:PT2H30M
STATUS:CONFIRMED
SUMMARY:Goalzillas 1 (NR) vs. Fuchs AG (NR)
DESCRIPTION:3.Liga, Gruppe A (8. Spieltag)\nErgebnis: 2:0 (2:0)
LOCATION:KIXX, Nobistor 38, 22767 Hamburg-Altona-Altstadt
UID:SM-B14902@kickern-hamburg.de
PRIORITY:5
SEQUENCE:1
CATEGORIES:SPORT
DTSTAMP:20260420T170732
END:VEVENT
BEGIN:VEVENT
CLASS:PUBLIC
DTSTART:20240208T190000Z
DURATION:PT2H30M
STATUS:CONFIRMED
SUMMARY:Beginners (NR) vs. Goalzillas 1 (NR)
DESCRIPTION:3.Liga, Gruppe A (9. Spieltag)\nErgebnis: 16:16 (74:77)
LOCATION:KIXX, Nobistor 38, 22767 Hamburg-Altona-Altstadt
UID:SM-B14916@kickern-hamburg.de
PRIORITY:5
SEQUENCE:1
CATEGORIES:SPORT
DTSTAMP:20260420T170732
END:VEVENT
BEGIN:VEVENT
CLASS:PUBLIC
DTSTART:20240220T183000Z
DURATION:PT2H30M
STATUS:CONFIRMED
SUMMARY:Goalzillas 1 (NR) vs. Drehschieber Silpion
DESCRIPTION:3.Liga, Gruppe A (10. Spieltag)\nErgebnis: 14:18 (75:75)
LOCATION:KIXX, Nobistor 38, 22767 Hamburg-Altona-Altstadt
UID:SM-B14837@kickern-hamburg.de
PRIORITY:5
SEQUENCE:1
CATEGORIES:SPORT
DTSTAMP:20260420T170732
END:VEVENT
BEGIN:VEVENT
CLASS:PUBLIC
DTSTART:20240312T190000Z
DURATION:PT2H30M
STATUS:CONFIRMED
SUMMARY:HSV Torschmuggler (NR) vs. Goalzillas 1 (NR)
DESCRIPTION:3.Liga, Gruppe A (11. Spieltag)\nErgebnis: 12:20 (61:77)
LOCATION:HSV Tischfußball Sportzentrum, Ulzburger Strasse 94, 22850 Norderstedt
UID:SM-B14847@kickern-hamburg.de
PRIORITY:5
SEQUENCE:1
CATEGORIES:SPORT
DTSTAMP:20260420T170732
END:VEVENT
BEGIN:VEVENT
CLASS:PUBLIC
DTSTART:20240409T180000Z
DURATION:PT2H30M
STATUS:CONFIRMED
SUMMARY:Nen Rudel Gurken vs. Goalzillas 1 (NR)
DESCRIPTION:3.Liga, Gruppe A (12. Spieltag)\nErgebnis: 12:20 (65:83)
LOCATION:Bambi Bar, Hamburger Berg 14, 20359 Hamburg
UID:SM-B14861@kickern-hamburg.de
PRIORITY:5
SEQUENCE:1
CATEGORIES:SPORT
DTSTAMP:20260420T170732
END:VEVENT
BEGIN:VEVENT
CLASS:PUBLIC
DTSTART:20240416T173000Z
DURATION:PT2H30M
STATUS:CONFIRMED
SUMMARY:Goalzillas 1 (NR) vs. TkC Rrraddauuuuuh!
DESCRIPTION:3.Liga, Gruppe A (13. Spieltag)\nErgebnis: 25:7 (88:58)
LOCATION:KIXX, Nobistor 38, 22767 Hamburg-Altona-Altstadt
UID:SM-B14869@kickern-hamburg.de
PRIORITY:5
SEQUENCE:1
CATEGORIES:SPORT
DTSTAMP:20260420T170732
END:VEVENT
BEGIN:VEVENT
CLASS:PUBLIC
DTSTART:20240430T180000Z
DURATION:PT2H30M
STATUS:CONFIRMED
SUMMARY:Solaris vs. Goalzillas 1 (NR)
DESCRIPTION:3.Liga, Gruppe A (14. Spieltag)\nErgebnis: 18:14 (81:63)
LOCATION:Blitz Bar, Schulterblatt 110, 20357 Hamburg
UID:SM-B14875@kickern-hamburg.de
PRIORITY:5
SEQUENCE:1
CATEGORIES:SPORT
DTSTAMP:20260420T170732
END:VEVENT
BEGIN:VEVENT
CLASS:PUBLIC
DTSTART:20240521T173000Z
DURATION:PT2H30M
STATUS:CONFIRMED
SUMMARY:Goalzillas 1 (NR) vs. Kickeronis (NR)
DESCRIPTION:3.Liga, Gruppe A (15. Spieltag)\nErgebnis: 19:13 (79:70)
LOCATION:KIXX, Nobistor 38, 22767 Hamburg-Altona-Altstadt
UID:SM-B14883@kickern-hamburg.de
PRIORITY:5
SEQUENCE:1
CATEGORIES:SPORT
DTSTAMP:20260420T170732
END:VEVENT
BEGIN:VEVENT
CLASS:PUBLIC
DTSTART:20240611T180000Z
DURATION:PT2H30M
STATUS:CONFIRMED
SUMMARY:Goalzillas 1 (NR) vs. 3. Herren Silpion (NR)
DESCRIPTION:3.Liga, Gruppe A (16. Spieltag)\nErgebnis: 12:20 (63:77)
LOCATION:KIXX, Nobistor 38, 22767 Hamburg-Altona-Altstadt
UID:SM-B14893@kickern-hamburg.de
PRIORITY:5
SEQUENCE:1
CATEGORIES:SPORT
DTSTAMP:20260420T170732
END:VEVENT
BEGIN:VEVENT
CLASS:PUBLIC
DTSTART:20240620T170000Z
DURATION:PT2H30M
STATUS:CONFIRMED
SUMMARY:Fuchs AG (NR) vs. Goalzillas 1 (NR)
DESCRIPTION:3.Liga, Gruppe A (17. Spieltag)\nErgebnis: 17:15 (76:71)
LOCATION:KIXX, Nobistor 38, 22767 Hamburg-Altona-Altstadt
UID:SM-B14903@kickern-hamburg.de
PRIORITY:5
SEQUENCE:1
CATEGORIES:SPORT
DTSTAMP:20260420T170732
END:VEVENT
BEGIN:VEVENT
CLASS:PUBLIC
DTSTART:20240702T180000Z
DURATION:PT2H30M
STATUS:CONFIRMED
SUMMARY:Goalzillas 1 (NR) vs. Beginners (NR)
DESCRIPTION:3.Liga, Gruppe A (18. Spieltag)\nErgebnis: 14:18 (73:75)
LOCATION:KIXX, Nobistor 38, 22767 Hamburg-Altona-Altstadt
UID:SM-B14917@kickern-hamburg.de
PRIORITY:5
SEQUENCE:1
CATEGORIES:SPORT
DTSTAMP:20260420T170732
END:VEVENT
END:VCALENDAR
