BEGIN:VCALENDAR
VERSION:2.0
PRODID:PHP
METHOD:REQUEST
X-ORIGINAL-URL:https://kickern-hamburg.de/liga/aktuelle-partien?task=team_begegnungen_ical&id=4683
X-WR-CALNAME;VALUE=TEXT:FC Joy
BEGIN:VEVENT
CLASS:PUBLIC
DTSTART:20230907T180000Z
DURATION:PT2H30M
STATUS:CONFIRMED
SUMMARY:FC Joy vs. Boltens
DESCRIPTION:3.Liga, Gruppe C (1. Spieltag)\nErgebnis: 14:18 (61:73)
LOCATION:KIXX, Nobistor 38, 22767 Hamburg-Altona-Altstadt
UID:SM-B15180@kickern-hamburg.de
PRIORITY:5
SEQUENCE:1
CATEGORIES:SPORT
DTSTAMP:20260420T170653
END:VEVENT
BEGIN:VEVENT
CLASS:PUBLIC
DTSTART:20230928T173000Z
DURATION:PT2H30M
STATUS:CONFIRMED
SUMMARY:WunderBars (NR) vs. FC Joy
DESCRIPTION:3.Liga, Gruppe C (2. Spieltag)\nErgebnis: 25:7 (84:59)
LOCATION:KIXX, Nobistor 38, 22767 Hamburg-Altona-Altstadt
UID:SM-B15186@kickern-hamburg.de
PRIORITY:5
SEQUENCE:1
CATEGORIES:SPORT
DTSTAMP:20260420T170653
END:VEVENT
BEGIN:VEVENT
CLASS:PUBLIC
DTSTART:20231026T180000Z
DURATION:PT2H30M
STATUS:CONFIRMED
SUMMARY:FC Joy vs. Kickerholixx (NR)
DESCRIPTION:Landespokal (2. Runde)\nErgebnis: 6:26 (53:88)
LOCATION:KIXX, Nobistor 38, 22767 Hamburg-Altona-Altstadt
UID:SM-B15676@kickern-hamburg.de
PRIORITY:5
SEQUENCE:1
CATEGORIES:SPORT
DTSTAMP:20260420T170653
END:VEVENT
BEGIN:VEVENT
CLASS:PUBLIC
DTSTART:20231102T190000Z
DURATION:PT2H30M
STATUS:CONFIRMED
SUMMARY:FC Joy vs. Bordsteinschmeißer
DESCRIPTION:3.Liga, Gruppe C (4. Spieltag)\nErgebnis: 14:18 (63:75)
LOCATION:KIXX, Nobistor 38, 22767 Hamburg-Altona-Altstadt
UID:SM-B15200@kickern-hamburg.de
PRIORITY:5
SEQUENCE:1
CATEGORIES:SPORT
DTSTAMP:20260420T170653
END:VEVENT
BEGIN:VEVENT
CLASS:PUBLIC
DTSTART:20231130T183000Z
DURATION:PT2H30M
STATUS:CONFIRMED
SUMMARY:UNK Gästeblock vs. FC Joy
DESCRIPTION:3.Liga, Gruppe C (6. Spieltag)\nErgebnis: 20:12 (77:63)
LOCATION:Hannes & Hanna Wohnzimmer (Raucher), Weidenallee 60, 20357 Hamburg-Eimsbüttel
UID:SM-B15218@kickern-hamburg.de
PRIORITY:5
SEQUENCE:1
CATEGORIES:SPORT
DTSTAMP:20260420T170653
END:VEVENT
BEGIN:VEVENT
CLASS:PUBLIC
DTSTART:20240111T180000Z
DURATION:PT2H30M
STATUS:CONFIRMED
SUMMARY:VFT Reflektorschirm Hamburg vs. FC Joy
DESCRIPTION:3.Liga, Gruppe C (7. Spieltag)\nErgebnis: 19:13 (79:68)
LOCATION:KIXX, Nobistor 38, 22767 Hamburg-Altona-Altstadt
UID:SM-B15228@kickern-hamburg.de
PRIORITY:5
SEQUENCE:1
CATEGORIES:SPORT
DTSTAMP:20260420T170653
END:VEVENT
BEGIN:VEVENT
CLASS:PUBLIC
DTSTART:20240116T190000Z
DURATION:PT2H30M
STATUS:CONFIRMED
SUMMARY:FC Joy vs. Kicksiders (NR)
DESCRIPTION:Ligapokal 3. Liga (2. Runde)\nErgebnis: 9:23 (56:86)
LOCATION:KIXX, Nobistor 38, 22767 Hamburg-Altona-Altstadt
UID:SM-B15720@kickern-hamburg.de
PRIORITY:5
SEQUENCE:1
CATEGORIES:SPORT
DTSTAMP:20260420T170653
END:VEVENT
BEGIN:VEVENT
CLASS:PUBLIC
DTSTART:20240125T190000Z
DURATION:PT2H30M
STATUS:CONFIRMED
SUMMARY:FC Joy vs. Von der Stange
DESCRIPTION:3.Liga, Gruppe C (8. Spieltag)\nErgebnis: 8:24 (57:87)
LOCATION:KIXX, Nobistor 38, 22767 Hamburg-Altona-Altstadt
UID:SM-B15236@kickern-hamburg.de
PRIORITY:5
SEQUENCE:1
CATEGORIES:SPORT
DTSTAMP:20260420T170653
END:VEVENT
BEGIN:VEVENT
CLASS:PUBLIC
DTSTART:20240213T193000Z
DURATION:PT2H30M
STATUS:CONFIRMED
SUMMARY:Tingeltangel FC St. Pauli vs. FC Joy
DESCRIPTION:3.Liga, Gruppe C (9. Spieltag)\nErgebnis: 25:7 (88:48)
LOCATION:FC St. Pauli Clubheim, Harald-Stender-Platz 1, 20359 Hamburg-St. Pauli
UID:SM-B15244@kickern-hamburg.de
PRIORITY:5
SEQUENCE:1
CATEGORIES:SPORT
DTSTAMP:20260420T170653
END:VEVENT
BEGIN:VEVENT
CLASS:PUBLIC
DTSTART:20240222T190000Z
DURATION:PT2H30M
STATUS:CONFIRMED
SUMMARY:Boltens vs. FC Joy
DESCRIPTION:3.Liga, Gruppe C (10. Spieltag)\nErgebnis: 26:6 (87:53)
LOCATION:Spielhaus Eimsbüttel, Eimsbütteler Marktplatz 1c, 20257 Hamburg-Eimsbüttel
UID:SM-B15181@kickern-hamburg.de
PRIORITY:5
SEQUENCE:1
CATEGORIES:SPORT
DTSTAMP:20260420T170653
END:VEVENT
BEGIN:VEVENT
CLASS:PUBLIC
DTSTART:20240314T190000Z
DURATION:PT2H30M
STATUS:CONFIRMED
SUMMARY:FC Joy vs. WunderBars (NR)
DESCRIPTION:3.Liga, Gruppe C (11. Spieltag)\nErgebnis: 9:23 (59:83)
LOCATION:KIXX, Nobistor 38, 22767 Hamburg-Altona-Altstadt
UID:SM-B15187@kickern-hamburg.de
PRIORITY:5
SEQUENCE:1
CATEGORIES:SPORT
DTSTAMP:20260420T170653
END:VEVENT
BEGIN:VEVENT
CLASS:PUBLIC
DTSTART:20240425T180000Z
DURATION:PT2H30M
STATUS:CONFIRMED
SUMMARY:Bordsteinschmeißer vs. FC Joy
DESCRIPTION:3.Liga, Gruppe C (13. Spieltag)\nErgebnis: 23:9 (82:52)
LOCATION:Deutsche Seemannsmission Hamburg-Altona, Große Elbstraße 132, 22767 Hamburg-Altona
UID:SM-B15201@kickern-hamburg.de
PRIORITY:5
SEQUENCE:1
CATEGORIES:SPORT
DTSTAMP:20260420T170653
END:VEVENT
BEGIN:VEVENT
CLASS:PUBLIC
DTSTART:20240516T180000Z
DURATION:PT2H30M
STATUS:CONFIRMED
SUMMARY:FC Joy vs. UNK Gästeblock
DESCRIPTION:3.Liga, Gruppe C (15. Spieltag)\nErgebnis: 13:19 (62:71)
LOCATION:KIXX, Nobistor 38, 22767 Hamburg-Altona-Altstadt
UID:SM-B15219@kickern-hamburg.de
PRIORITY:5
SEQUENCE:1
CATEGORIES:SPORT
DTSTAMP:20260420T170653
END:VEVENT
BEGIN:VEVENT
CLASS:PUBLIC
DTSTART:20240606T180000Z
DURATION:PT2H30M
STATUS:CONFIRMED
SUMMARY:FC Joy vs. VFT Reflektorschirm Hamburg
DESCRIPTION:3.Liga, Gruppe C (16. Spieltag)\nErgebnis: 17:15 (75:72)
LOCATION:KIXX, Nobistor 38, 22767 Hamburg-Altona-Altstadt
UID:SM-B15229@kickern-hamburg.de
PRIORITY:5
SEQUENCE:1
CATEGORIES:SPORT
DTSTAMP:20260420T170653
END:VEVENT
BEGIN:VEVENT
CLASS:PUBLIC
DTSTART:20240627T170000Z
DURATION:PT2H30M
STATUS:CONFIRMED
SUMMARY:Von der Stange vs. FC Joy
DESCRIPTION:3.Liga, Gruppe C (17. Spieltag)\nErgebnis: 26:6 (89:61)
LOCATION:Blitz Bar, Schulterblatt 110, 20357 Hamburg
UID:SM-B15237@kickern-hamburg.de
PRIORITY:5
SEQUENCE:1
CATEGORIES:SPORT
DTSTAMP:20260420T170653
END:VEVENT
BEGIN:VEVENT
CLASS:PUBLIC
DTSTART:20240711T180000Z
DURATION:PT2H30M
STATUS:CONFIRMED
SUMMARY:FC Joy vs. Tingeltangel FC St. Pauli
DESCRIPTION:3.Liga, Gruppe C (18. Spieltag)\nErgebnis: 18:14 (72:73)
LOCATION:KIXX, Nobistor 38, 22767 Hamburg-Altona-Altstadt
UID:SM-B15245@kickern-hamburg.de
PRIORITY:5
SEQUENCE:1
CATEGORIES:SPORT
DTSTAMP:20260420T170653
END:VEVENT
END:VCALENDAR
