BEGIN:VCALENDAR
VERSION:2.0
PRODID:PHP
METHOD:REQUEST
X-ORIGINAL-URL:https://kickern-hamburg.de/liga/aktuelle-partien?task=team_begegnungen_ical&id=4613
X-WR-CALNAME;VALUE=TEXT:FC St. Pauli MiDDelDinger (NR)
BEGIN:VEVENT
CLASS:PUBLIC
DTSTART:20230907T180000Z
DURATION:PT2H30M
STATUS:CONFIRMED
SUMMARY:Die Ilohhminauten FC St. Pauli vs. FC St. Pauli MiDDelDinger (NR)
DESCRIPTION:3.Liga, Gruppe B (1. Spieltag)\nErgebnis: 25:7 (89:60)
LOCATION:Ilohh Bar (RAUCHER), Repsoldstraße 52, 20097 Hamburg-Hammerbrook
UID:SM-B15104@kickern-hamburg.de
PRIORITY:5
SEQUENCE:1
CATEGORIES:SPORT
DTSTAMP:20260420T170614
END:VEVENT
BEGIN:VEVENT
CLASS:PUBLIC
DTSTART:20230927T180000Z
DURATION:PT2H30M
STATUS:CONFIRMED
SUMMARY:Wohnzimmer Kapeiken vs. FC St. Pauli MiDDelDinger (NR)
DESCRIPTION:Landespokal (1. Runde)\nErgebnis: 4:28 (53:92)
LOCATION:Hannes & Hanna Wohnzimmer (Raucher), Weidenallee 60, 20357 Hamburg-Eimsbüttel
UID:SM-B15263@kickern-hamburg.de
PRIORITY:5
SEQUENCE:1
CATEGORIES:SPORT
DTSTAMP:20260420T170614
END:VEVENT
BEGIN:VEVENT
CLASS:PUBLIC
DTSTART:20231012T180000Z
DURATION:PT2H30M
STATUS:CONFIRMED
SUMMARY:Torfabrik Silpion (NR) vs. FC St. Pauli MiDDelDinger (NR)
DESCRIPTION:3.Liga, Gruppe B (3. Spieltag)\nErgebnis: 21:11 (80:66)
LOCATION:Die Torfabrik, Zum Sportplatz 10, 21220 Seevetal
UID:SM-B15122@kickern-hamburg.de
PRIORITY:5
SEQUENCE:1
CATEGORIES:SPORT
DTSTAMP:20260420T170614
END:VEVENT
BEGIN:VEVENT
CLASS:PUBLIC
DTSTART:20231109T190000Z
DURATION:PT2H30M
STATUS:CONFIRMED
SUMMARY:FC St. Pauli MiDDelDinger (NR) vs. Bolzen Edel
DESCRIPTION:3.Liga, Gruppe B (4. Spieltag)\nErgebnis: 16:16 (74:71)
LOCATION:Hannes & Hanna Wohnzimmer (Raucher), Weidenallee 60, 20357 Hamburg-Eimsbüttel
UID:SM-B15130@kickern-hamburg.de
PRIORITY:5
SEQUENCE:1
CATEGORIES:SPORT
DTSTAMP:20260420T170614
END:VEVENT
BEGIN:VEVENT
CLASS:PUBLIC
DTSTART:20231116T190000Z
DURATION:PT2H30M
STATUS:CONFIRMED
SUMMARY:Dampframme Aalstars vs. FC St. Pauli MiDDelDinger (NR)
DESCRIPTION:3.Liga, Gruppe B (5. Spieltag)\nErgebnis: 19:13 (80:68)
LOCATION:KIXX, Nobistor 38, 22767 Hamburg-Altona-Altstadt
UID:SM-B15134@kickern-hamburg.de
PRIORITY:5
SEQUENCE:1
CATEGORIES:SPORT
DTSTAMP:20260420T170614
END:VEVENT
BEGIN:VEVENT
CLASS:PUBLIC
DTSTART:20231121T190000Z
DURATION:PT2H30M
STATUS:CONFIRMED
SUMMARY:Kicksiders (NR) vs. FC St. Pauli MiDDelDinger (NR)
DESCRIPTION:Landespokal (2. Runde)\nErgebnis: 23:9 (83:61)
LOCATION:Sidekick, Winsener Straße 190, 21077 Hamburg-Harburg
UID:SM-B15682@kickern-hamburg.de
PRIORITY:5
SEQUENCE:1
CATEGORIES:SPORT
DTSTAMP:20260420T170614
END:VEVENT
BEGIN:VEVENT
CLASS:PUBLIC
DTSTART:20231207T190000Z
DURATION:PT2H30M
STATUS:CONFIRMED
SUMMARY:FC St. Pauli MiDDelDinger (NR) vs. Buffplatzmafia TF
DESCRIPTION:3.Liga, Gruppe B (6. Spieltag)\nErgebnis: 19:13 (78:69)
LOCATION:Hannes & Hanna Wohnzimmer (Raucher), Weidenallee 60, 20357 Hamburg-Eimsbüttel
UID:SM-B15142@kickern-hamburg.de
PRIORITY:5
SEQUENCE:1
CATEGORIES:SPORT
DTSTAMP:20260420T170614
END:VEVENT
BEGIN:VEVENT
CLASS:PUBLIC
DTSTART:20240109T190000Z
DURATION:PT2H30M
STATUS:CONFIRMED
SUMMARY:Goalzillas 1 (NR) vs. FC St. Pauli MiDDelDinger (NR)
DESCRIPTION:Ligapokal 3. Liga (2. Runde)\nErgebnis: 15:17 (72:75)
LOCATION:KIXX, Nobistor 38, 22767 Hamburg-Altona-Altstadt
UID:SM-B15661@kickern-hamburg.de
PRIORITY:5
SEQUENCE:1
CATEGORIES:SPORT
DTSTAMP:20260420T170614
END:VEVENT
BEGIN:VEVENT
CLASS:PUBLIC
DTSTART:20240125T190000Z
DURATION:PT2H30M
STATUS:CONFIRMED
SUMMARY:Bergbarbaren vs. FC St. Pauli MiDDelDinger (NR)
DESCRIPTION:3.Liga, Gruppe B (8. Spieltag)\nErgebnis: 25:7 (88:59)
LOCATION:KIXX, Nobistor 38, 22767 Hamburg-Altona-Altstadt
UID:SM-B15162@kickern-hamburg.de
PRIORITY:5
SEQUENCE:1
CATEGORIES:SPORT
DTSTAMP:20260420T170614
END:VEVENT
BEGIN:VEVENT
CLASS:PUBLIC
DTSTART:20240209T193000Z
DURATION:PT2H30M
STATUS:CONFIRMED
SUMMARY:Tingeltangel FC St. Pauli vs. FC St. Pauli MiDDelDinger (NR)
DESCRIPTION:Ligapokal 3. Liga (3. Runde)\nErgebnis: 22:10 (83:64)
LOCATION:FC St. Pauli Clubheim, Harald-Stender-Platz 1, 20359 Hamburg-St. Pauli
UID:SM-B15739@kickern-hamburg.de
PRIORITY:5
SEQUENCE:1
CATEGORIES:SPORT
DTSTAMP:20260420T170614
END:VEVENT
BEGIN:VEVENT
CLASS:PUBLIC
DTSTART:20240215T190500Z
DURATION:PT2H30M
STATUS:CONFIRMED
SUMMARY:FC St. Pauli MiDDelDinger (NR) vs. Kicksiders (NR)
DESCRIPTION:3.Liga, Gruppe B (9. Spieltag)\nErgebnis: 12:20 (66:77)
LOCATION:Hannes & Hanna Wohnzimmer (Raucher), Weidenallee 60, 20357 Hamburg-Eimsbüttel
UID:SM-B15172@kickern-hamburg.de
PRIORITY:5
SEQUENCE:1
CATEGORIES:SPORT
DTSTAMP:20260420T170614
END:VEVENT
BEGIN:VEVENT
CLASS:PUBLIC
DTSTART:20240222T190000Z
DURATION:PT2H30M
STATUS:CONFIRMED
SUMMARY:FC St. Pauli MiDDelDinger (NR) vs. Die Ilohhminauten FC St. Pauli
DESCRIPTION:3.Liga, Gruppe B (10. Spieltag)\nErgebnis: 12:20 (64:81)
LOCATION:Hannes & Hanna Wohnzimmer (Raucher), Weidenallee 60, 20357 Hamburg-Eimsbüttel
UID:SM-B15105@kickern-hamburg.de
PRIORITY:5
SEQUENCE:1
CATEGORIES:SPORT
DTSTAMP:20260420T170614
END:VEVENT
BEGIN:VEVENT
CLASS:PUBLIC
DTSTART:20240404T180000Z
DURATION:PT2H30M
STATUS:CONFIRMED
SUMMARY:FC St. Pauli MiDDelDinger (NR) vs. Torfabrik Silpion (NR)
DESCRIPTION:3.Liga, Gruppe B (12. Spieltag)\nErgebnis: 19:13 (80:68)
LOCATION:Hannes & Hanna Wohnzimmer (Raucher), Weidenallee 60, 20357 Hamburg-Eimsbüttel
UID:SM-B15123@kickern-hamburg.de
PRIORITY:5
SEQUENCE:1
CATEGORIES:SPORT
DTSTAMP:20260420T170614
END:VEVENT
BEGIN:VEVENT
CLASS:PUBLIC
DTSTART:20240418T173000Z
DURATION:PT2H30M
STATUS:CONFIRMED
SUMMARY:Bolzen Edel vs. FC St. Pauli MiDDelDinger (NR)
DESCRIPTION:3.Liga, Gruppe B (13. Spieltag)\nErgebnis: 15:17 (71:72)
LOCATION:Sidekick, Winsener Straße 190, 21077 Hamburg-Harburg
UID:SM-B15131@kickern-hamburg.de
PRIORITY:5
SEQUENCE:1
CATEGORIES:SPORT
DTSTAMP:20260420T170614
END:VEVENT
BEGIN:VEVENT
CLASS:PUBLIC
DTSTART:20240502T180000Z
DURATION:PT2H30M
STATUS:CONFIRMED
SUMMARY:FC St. Pauli MiDDelDinger (NR) vs. Dampframme Aalstars
DESCRIPTION:3.Liga, Gruppe B (14. Spieltag)\nErgebnis: 14:18 (72:74)
LOCATION:Hannes & Hanna Wohnzimmer (Raucher), Weidenallee 60, 20357 Hamburg-Eimsbüttel
UID:SM-B15135@kickern-hamburg.de
PRIORITY:5
SEQUENCE:1
CATEGORIES:SPORT
DTSTAMP:20260420T170614
END:VEVENT
BEGIN:VEVENT
CLASS:PUBLIC
DTSTART:20240516T180000Z
DURATION:PT2H30M
STATUS:CONFIRMED
SUMMARY:Buffplatzmafia TF vs. FC St. Pauli MiDDelDinger (NR)
DESCRIPTION:3.Liga, Gruppe B (15. Spieltag)\nErgebnis: 17:15 (81:70)
LOCATION:Inline-Zentrale (RAUCHER), Sachsenstraße 7, 20097 Hamburg-Hammerbrook
UID:SM-B15143@kickern-hamburg.de
PRIORITY:5
SEQUENCE:1
CATEGORIES:SPORT
DTSTAMP:20260420T170614
END:VEVENT
BEGIN:VEVENT
CLASS:PUBLIC
DTSTART:20240627T180000Z
DURATION:PT2H30M
STATUS:CONFIRMED
SUMMARY:FC St. Pauli MiDDelDinger (NR) vs. Bergbarbaren
DESCRIPTION:3.Liga, Gruppe B (17. Spieltag)\nErgebnis: 19:13 (78:68)
LOCATION:Hannes & Hanna Wohnzimmer (Raucher), Weidenallee 60, 20357 Hamburg-Eimsbüttel
UID:SM-B15163@kickern-hamburg.de
PRIORITY:5
SEQUENCE:1
CATEGORIES:SPORT
DTSTAMP:20260420T170614
END:VEVENT
BEGIN:VEVENT
CLASS:PUBLIC
DTSTART:20240709T180000Z
DURATION:PT2H30M
STATUS:CONFIRMED
SUMMARY:Kicksiders (NR) vs. FC St. Pauli MiDDelDinger (NR)
DESCRIPTION:3.Liga, Gruppe B (18. Spieltag)\nErgebnis: 26:6 (87:55)
LOCATION:Sidekick, Winsener Straße 190, 21077 Hamburg-Harburg
UID:SM-B15173@kickern-hamburg.de
PRIORITY:5
SEQUENCE:1
CATEGORIES:SPORT
DTSTAMP:20260420T170614
END:VEVENT
END:VCALENDAR
