BEGIN:VCALENDAR
VERSION:2.0
PRODID:PHP
METHOD:REQUEST
X-ORIGINAL-URL:https://kickern-hamburg.de/liga/aktuelle-partien?task=team_begegnungen_ical&id=4610
X-WR-CALNAME;VALUE=TEXT:FC St. Pauli Kneipenstyle
BEGIN:VEVENT
CLASS:PUBLIC
DTSTART:20230905T180000Z
DURATION:PT2H30M
STATUS:CONFIRMED
SUMMARY:FC St. Pauli Kneipenstyle vs. Monkey Inferno
DESCRIPTION:2.Liga, Gruppe B (1. Spieltag)\nErgebnis: 12:20 (63:77)
LOCATION:KIXX, Nobistor 38, 22767 Hamburg-Altona-Altstadt
UID:SM-B14926@kickern-hamburg.de
PRIORITY:5
SEQUENCE:1
CATEGORIES:SPORT
DTSTAMP:20260420T170615
END:VEVENT
BEGIN:VEVENT
CLASS:PUBLIC
DTSTART:20230928T180000Z
DURATION:PT2H30M
STATUS:CONFIRMED
SUMMARY:Kickerholixx (NR) vs. FC St. Pauli Kneipenstyle
DESCRIPTION:2.Liga, Gruppe B (2. Spieltag)\nErgebnis: 22:10 (86:62)
LOCATION:KIXX, Nobistor 38, 22767 Hamburg-Altona-Altstadt
UID:SM-B14934@kickern-hamburg.de
PRIORITY:5
SEQUENCE:1
CATEGORIES:SPORT
DTSTAMP:20260420T170615
END:VEVENT
BEGIN:VEVENT
CLASS:PUBLIC
DTSTART:20231010T180000Z
DURATION:PT2H30M
STATUS:CONFIRMED
SUMMARY:FC St. Pauli Kneipenstyle vs. FC St. Pauli Shooting Stars
DESCRIPTION:2.Liga, Gruppe B (3. Spieltag)\nErgebnis: 18:14 (79:72)
LOCATION:KIXX, Nobistor 38, 22767 Hamburg-Altona-Altstadt
UID:SM-B14944@kickern-hamburg.de
PRIORITY:5
SEQUENCE:1
CATEGORIES:SPORT
DTSTAMP:20260420T170615
END:VEVENT
BEGIN:VEVENT
CLASS:PUBLIC
DTSTART:20231018T180000Z
DURATION:PT2H30M
STATUS:CONFIRMED
SUMMARY:FC St. Pauli Sekt und pöbeln vs. FC St. Pauli Kneipenstyle
DESCRIPTION:Landespokal (1. Runde)\nErgebnis: 6:26 (56:87)
LOCATION:FC St. Pauli Clubheim, Harald-Stender-Platz 1, 20359 Hamburg-St. Pauli
UID:SM-B15265@kickern-hamburg.de
PRIORITY:5
SEQUENCE:1
CATEGORIES:SPORT
DTSTAMP:20260420T170615
END:VEVENT
BEGIN:VEVENT
CLASS:PUBLIC
DTSTART:20231107T190000Z
DURATION:PT2H30M
STATUS:CONFIRMED
SUMMARY:Exorbitanter HäkMäk (NR) vs. FC St. Pauli Kneipenstyle
DESCRIPTION:2.Liga, Gruppe B (4. Spieltag)\nErgebnis: 19:13 (77:68)
LOCATION:Joy, Winterhuder Weg 69, 22085 Hamburg-Uhlenhorst
UID:SM-B14952@kickern-hamburg.de
PRIORITY:5
SEQUENCE:1
CATEGORIES:SPORT
DTSTAMP:20260420T170615
END:VEVENT
BEGIN:VEVENT
CLASS:PUBLIC
DTSTART:20231121T190000Z
DURATION:PT2H30M
STATUS:CONFIRMED
SUMMARY:HSV BAMbole (NR) vs. FC St. Pauli Kneipenstyle
DESCRIPTION:2.Liga, Gruppe B (5. Spieltag)\nErgebnis: 21:11 (78:69)
LOCATION:KIXX, Nobistor 38, 22767 Hamburg-Altona-Altstadt
UID:SM-B14970@kickern-hamburg.de
PRIORITY:5
SEQUENCE:1
CATEGORIES:SPORT
DTSTAMP:20260420T170615
END:VEVENT
BEGIN:VEVENT
CLASS:PUBLIC
DTSTART:20231130T190000Z
DURATION:PT2H30M
STATUS:CONFIRMED
SUMMARY:3. Herren Silpion (NR) vs. FC St. Pauli Kneipenstyle
DESCRIPTION:Landespokal (2. Runde)\nErgebnis: 11:21 (67:80)
LOCATION:Silpion IT Solution GmbH, Brandshofer Deich 48, 20539 Hamburg-Rothenburgsort
UID:SM-B15697@kickern-hamburg.de
PRIORITY:5
SEQUENCE:1
CATEGORIES:SPORT
DTSTAMP:20260420T170615
END:VEVENT
BEGIN:VEVENT
CLASS:PUBLIC
DTSTART:20231205T190000Z
DURATION:PT2H30M
STATUS:CONFIRMED
SUMMARY:FC St. Pauli Kneipenstyle vs. 253 (NR)
DESCRIPTION:2.Liga, Gruppe B (6. Spieltag)\nErgebnis: 10:22 (65:85)
LOCATION:KIXX, Nobistor 38, 22767 Hamburg-Altona-Altstadt
UID:SM-B14980@kickern-hamburg.de
PRIORITY:5
SEQUENCE:1
CATEGORIES:SPORT
DTSTAMP:20260420T170615
END:VEVENT
BEGIN:VEVENT
CLASS:PUBLIC
DTSTART:20231212T190000Z
DURATION:PT2H30M
STATUS:CONFIRMED
SUMMARY:Bergbarbaren vs. FC St. Pauli Kneipenstyle
DESCRIPTION:Landespokal (3. Runde)\nErgebnis: 11:21 (66:82)
LOCATION:KIXX, Nobistor 38, 22767 Hamburg-Altona-Altstadt
UID:SM-B15724@kickern-hamburg.de
PRIORITY:5
SEQUENCE:1
CATEGORIES:SPORT
DTSTAMP:20260420T170615
END:VEVENT
BEGIN:VEVENT
CLASS:PUBLIC
DTSTART:20240116T190000Z
DURATION:PT2H30M
STATUS:CONFIRMED
SUMMARY:FC St. Pauli Kneipenstyle vs. Foosball Club FC St. Pauli
DESCRIPTION:2.Liga, Gruppe B (7. Spieltag)\nErgebnis: 21:11 (83:69)
LOCATION:KIXX, Nobistor 38, 22767 Hamburg-Altona-Altstadt
UID:SM-B14986@kickern-hamburg.de
PRIORITY:5
SEQUENCE:1
CATEGORIES:SPORT
DTSTAMP:20260420T170615
END:VEVENT
BEGIN:VEVENT
CLASS:PUBLIC
DTSTART:20240201T190000Z
DURATION:PT2H30M
STATUS:CONFIRMED
SUMMARY:Patron Sauna Club vs. FC St. Pauli Kneipenstyle
DESCRIPTION:2.Liga, Gruppe B (8. Spieltag)\nErgebnis: 18:14 (78:66)
LOCATION:KIXX, Nobistor 38, 22767 Hamburg-Altona-Altstadt
UID:SM-B14994@kickern-hamburg.de
PRIORITY:5
SEQUENCE:1
CATEGORIES:SPORT
DTSTAMP:20260420T170615
END:VEVENT
BEGIN:VEVENT
CLASS:PUBLIC
DTSTART:20240206T190000Z
DURATION:PT2H30M
STATUS:CONFIRMED
SUMMARY:Mauzis vs. FC St. Pauli Kneipenstyle
DESCRIPTION:Landespokal (4. Runde)\nErgebnis: 7:25 (51:86)
LOCATION:KIXX, Nobistor 38, 22767 Hamburg-Altona-Altstadt
UID:SM-B15734@kickern-hamburg.de
PRIORITY:5
SEQUENCE:1
CATEGORIES:SPORT
DTSTAMP:20260420T170615
END:VEVENT
BEGIN:VEVENT
CLASS:PUBLIC
DTSTART:20240213T190000Z
DURATION:PT2H30M
STATUS:CONFIRMED
SUMMARY:FC St. Pauli Kneipenstyle vs. Sidekickers (NR)
DESCRIPTION:2.Liga, Gruppe B (9. Spieltag)\nErgebnis: 16:16 (78:75)
LOCATION:KIXX, Nobistor 38, 22767 Hamburg-Altona-Altstadt
UID:SM-B15010@kickern-hamburg.de
PRIORITY:5
SEQUENCE:1
CATEGORIES:SPORT
DTSTAMP:20260420T170615
END:VEVENT
BEGIN:VEVENT
CLASS:PUBLIC
DTSTART:20240229T190000Z
DURATION:PT2H30M
STATUS:CONFIRMED
SUMMARY:Monkey Inferno vs. FC St. Pauli Kneipenstyle
DESCRIPTION:2.Liga, Gruppe B (10. Spieltag)\nErgebnis: 16:16 (75:75)
LOCATION:KIXX, Nobistor 38, 22767 Hamburg-Altona-Altstadt
UID:SM-B14927@kickern-hamburg.de
PRIORITY:5
SEQUENCE:1
CATEGORIES:SPORT
DTSTAMP:20260420T170615
END:VEVENT
BEGIN:VEVENT
CLASS:PUBLIC
DTSTART:20240312T190000Z
DURATION:PT2H30M
STATUS:CONFIRMED
SUMMARY:FC St. Pauli Kneipenstyle vs. Kickerholixx (NR)
DESCRIPTION:2.Liga, Gruppe B (11. Spieltag)\nErgebnis: 8:24 (57:87)
LOCATION:KIXX, Nobistor 38, 22767 Hamburg-Altona-Altstadt
UID:SM-B14935@kickern-hamburg.de
PRIORITY:5
SEQUENCE:1
CATEGORIES:SPORT
DTSTAMP:20260420T170615
END:VEVENT
BEGIN:VEVENT
CLASS:PUBLIC
DTSTART:20240410T180000Z
DURATION:PT2H30M
STATUS:CONFIRMED
SUMMARY:FC St. Pauli Shooting Stars vs. FC St. Pauli Kneipenstyle
DESCRIPTION:2.Liga, Gruppe B (12. Spieltag)\nErgebnis: 13:19 (68:80)
LOCATION:FC St. Pauli Clubheim, Harald-Stender-Platz 1, 20359 Hamburg-St. Pauli
UID:SM-B14945@kickern-hamburg.de
PRIORITY:5
SEQUENCE:1
CATEGORIES:SPORT
DTSTAMP:20260420T170615
END:VEVENT
BEGIN:VEVENT
CLASS:PUBLIC
DTSTART:20240418T180000Z
DURATION:PT2H30M
STATUS:CONFIRMED
SUMMARY:FC St. Pauli Kneipenstyle vs. Gadgettos II (NR)
DESCRIPTION:Landespokal (5. Runde)\nErgebnis: 9:23 (57:85)
LOCATION:KIXX, Nobistor 38, 22767 Hamburg-Altona-Altstadt
UID:SM-B15754@kickern-hamburg.de
PRIORITY:5
SEQUENCE:1
CATEGORIES:SPORT
DTSTAMP:20260420T170615
END:VEVENT
BEGIN:VEVENT
CLASS:PUBLIC
DTSTART:20240423T180000Z
DURATION:PT2H30M
STATUS:CONFIRMED
SUMMARY:FC St. Pauli Kneipenstyle vs. Exorbitanter HäkMäk (NR)
DESCRIPTION:2.Liga, Gruppe B (13. Spieltag)\nErgebnis: 10:22 (61:82)
LOCATION:KIXX, Nobistor 38, 22767 Hamburg-Altona-Altstadt
UID:SM-B14953@kickern-hamburg.de
PRIORITY:5
SEQUENCE:1
CATEGORIES:SPORT
DTSTAMP:20260420T170615
END:VEVENT
BEGIN:VEVENT
CLASS:PUBLIC
DTSTART:20240507T180000Z
DURATION:PT2H30M
STATUS:CONFIRMED
SUMMARY:FC St. Pauli Kneipenstyle vs. HSV BAMbole (NR)
DESCRIPTION:2.Liga, Gruppe B (14. Spieltag)\nErgebnis: 11:21 (65:82)
LOCATION:KIXX, Nobistor 38, 22767 Hamburg-Altona-Altstadt
UID:SM-B14971@kickern-hamburg.de
PRIORITY:5
SEQUENCE:1
CATEGORIES:SPORT
DTSTAMP:20260420T170615
END:VEVENT
BEGIN:VEVENT
CLASS:PUBLIC
DTSTART:20240528T180000Z
DURATION:PT2H30M
STATUS:CONFIRMED
SUMMARY:253 (NR) vs. FC St. Pauli Kneipenstyle
DESCRIPTION:2.Liga, Gruppe B (15. Spieltag)\nErgebnis: 26:6 (89:60)
LOCATION:KIXX, Nobistor 38, 22767 Hamburg-Altona-Altstadt
UID:SM-B14981@kickern-hamburg.de
PRIORITY:5
SEQUENCE:1
CATEGORIES:SPORT
DTSTAMP:20260420T170615
END:VEVENT
BEGIN:VEVENT
CLASS:PUBLIC
DTSTART:20240605T180000Z
DURATION:PT2H30M
STATUS:CONFIRMED
SUMMARY:Foosball Club FC St. Pauli vs. FC St. Pauli Kneipenstyle
DESCRIPTION:2.Liga, Gruppe B (16. Spieltag)\nErgebnis: 20:12 (76:66)
LOCATION:The Pub formerly known as Froggys (RAUCH, Eimbütteler Chaussee 29, 20259 Hamburg-Eimsbüttel
UID:SM-B14987@kickern-hamburg.de
PRIORITY:5
SEQUENCE:1
CATEGORIES:SPORT
DTSTAMP:20260420T170615
END:VEVENT
BEGIN:VEVENT
CLASS:PUBLIC
DTSTART:20240618T180000Z
DURATION:PT2H30M
STATUS:CONFIRMED
SUMMARY:FC St. Pauli Kneipenstyle vs. Patron Sauna Club
DESCRIPTION:2.Liga, Gruppe B (17. Spieltag)\nErgebnis: 13:19 (63:73)
LOCATION:KIXX, Nobistor 38, 22767 Hamburg-Altona-Altstadt
UID:SM-B14995@kickern-hamburg.de
PRIORITY:5
SEQUENCE:1
CATEGORIES:SPORT
DTSTAMP:20260420T170615
END:VEVENT
BEGIN:VEVENT
CLASS:PUBLIC
DTSTART:20240711T170000Z
DURATION:PT2H30M
STATUS:CONFIRMED
SUMMARY:Sidekickers (NR) vs. FC St. Pauli Kneipenstyle
DESCRIPTION:2.Liga, Gruppe B (18. Spieltag)\nErgebnis: 16:16 (71:78)
LOCATION:Sidekick, Winsener Straße 190, 21077 Hamburg-Harburg
UID:SM-B15011@kickern-hamburg.de
PRIORITY:5
SEQUENCE:1
CATEGORIES:SPORT
DTSTAMP:20260420T170615
END:VEVENT
BEGIN:VEVENT
CLASS:PUBLIC
DTSTART:20240831T110000Z
DURATION:PT2H30M
STATUS:CONFIRMED
SUMMARY:FC St. Pauli Kneipenstyle vs. Partisan Pinshot (NR)
DESCRIPTION:2. / 3. Liga Relegation (1. Spieltag)\nErgebnis: 16:16 (75:73)
LOCATION:KIXX, Nobistor 38, 22767 Hamburg-Altona-Altstadt
UID:SM-B15773@kickern-hamburg.de
PRIORITY:5
SEQUENCE:1
CATEGORIES:SPORT
DTSTAMP:20260420T170615
END:VEVENT
BEGIN:VEVENT
CLASS:PUBLIC
DTSTART:20240831T130000Z
DURATION:PT2H30M
STATUS:CONFIRMED
SUMMARY:FC St. Pauli Kneipenstyle vs. FC St. Pauli from dusk till dawn
DESCRIPTION:2. / 3. Liga Relegation (2. Spieltag)\nErgebnis: 12:20 (69:84)
LOCATION:KIXX, Nobistor 38, 22767 Hamburg-Altona-Altstadt
UID:SM-B15776@kickern-hamburg.de
PRIORITY:5
SEQUENCE:1
CATEGORIES:SPORT
DTSTAMP:20260420T170615
END:VEVENT
BEGIN:VEVENT
CLASS:PUBLIC
DTSTART:20240831T150000Z
DURATION:PT2H30M
STATUS:CONFIRMED
SUMMARY:FC St. Pauli Kneipenstyle vs. Von der Stange
DESCRIPTION:2. / 3. Liga Relegation (3. Spieltag)\nErgebnis: 12:20 (64:75)
LOCATION:KIXX, Nobistor 38, 22767 Hamburg-Altona-Altstadt
UID:SM-B15779@kickern-hamburg.de
PRIORITY:5
SEQUENCE:1
CATEGORIES:SPORT
DTSTAMP:20260420T170615
END:VEVENT
BEGIN:VEVENT
CLASS:PUBLIC
DTSTART:20240831T170000Z
DURATION:PT2H30M
STATUS:CONFIRMED
SUMMARY:Solaris vs. FC St. Pauli Kneipenstyle
DESCRIPTION:2. / 3. Liga Relegation (4. Spieltag)\nErgebnis: 23:9 (85:63)
LOCATION:Blitz Bar, Schulterblatt 110, 20357 Hamburg
UID:SM-B15782@kickern-hamburg.de
PRIORITY:5
SEQUENCE:1
CATEGORIES:SPORT
DTSTAMP:20260420T170615
END:VEVENT
END:VCALENDAR
