BEGIN:VCALENDAR
VERSION:2.0
PRODID:PHP
METHOD:REQUEST
X-ORIGINAL-URL:https://kickern-hamburg.de/liga/aktuelle-partien?task=team_begegnungen_ical&id=4570
X-WR-CALNAME;VALUE=TEXT:Hermanns treue Riege
BEGIN:VEVENT
CLASS:PUBLIC
DTSTART:20230914T173000Z
DURATION:PT2H30M
STATUS:CONFIRMED
SUMMARY:Hermanns treue Riege vs. Schorsch
DESCRIPTION:3.Liga, Gruppe D (1. Spieltag)\nErgebnis: 10:22 (57:73)
LOCATION:Hermann (RAUCHER), Friedrichstraße 7b, 20359 Hamburg-St. Pauli
UID:SM-B14656@kickern-hamburg.de
PRIORITY:5
SEQUENCE:1
CATEGORIES:SPORT
DTSTAMP:20260420T170552
END:VEVENT
BEGIN:VEVENT
CLASS:PUBLIC
DTSTART:20230927T173000Z
DURATION:PT2H30M
STATUS:CONFIRMED
SUMMARY:Roter Stern Kickers 1 (NR) vs. Hermanns treue Riege
DESCRIPTION:3.Liga, Gruppe D (2. Spieltag)\nErgebnis: 28:4 (92:44)
LOCATION:JuKI 42, An der Reitbahn 2, 22926 Ahrensburg
UID:SM-B14664@kickern-hamburg.de
PRIORITY:5
SEQUENCE:1
CATEGORIES:SPORT
DTSTAMP:20260420T170552
END:VEVENT
BEGIN:VEVENT
CLASS:PUBLIC
DTSTART:20231012T173000Z
DURATION:PT2H30M
STATUS:CONFIRMED
SUMMARY:Hermanns treue Riege vs. Kicker Club Lüneburg
DESCRIPTION:3.Liga, Gruppe D (3. Spieltag)\nErgebnis: 16:16 (69:72)
LOCATION:Hermann (RAUCHER), Friedrichstraße 7b, 20359 Hamburg-St. Pauli
UID:SM-B14674@kickern-hamburg.de
PRIORITY:5
SEQUENCE:1
CATEGORIES:SPORT
DTSTAMP:20260420T170552
END:VEVENT
BEGIN:VEVENT
CLASS:PUBLIC
DTSTART:20231026T180000Z
DURATION:PT2H30M
STATUS:CONFIRMED
SUMMARY:Hermanns treue Riege vs. Tingeltangel FC St. Pauli
DESCRIPTION:Landespokal (2. Runde)\nErgebnis: 5:27 (56:91)
LOCATION:Hermann (RAUCHER), Friedrichstraße 7b, 20359 Hamburg-St. Pauli
UID:SM-B15693@kickern-hamburg.de
PRIORITY:5
SEQUENCE:1
CATEGORIES:SPORT
DTSTAMP:20260420T170552
END:VEVENT
BEGIN:VEVENT
CLASS:PUBLIC
DTSTART:20231101T190000Z
DURATION:PT2H30M
STATUS:CONFIRMED
SUMMARY:FC St. Pauli Sekt und pöbeln vs. Hermanns treue Riege
DESCRIPTION:3.Liga, Gruppe D (4. Spieltag)\nErgebnis: 16:16 (77:75)
LOCATION:FC St. Pauli Clubheim, Harald-Stender-Platz 1, 20359 Hamburg-St. Pauli
UID:SM-B14682@kickern-hamburg.de
PRIORITY:5
SEQUENCE:1
CATEGORIES:SPORT
DTSTAMP:20260420T170552
END:VEVENT
BEGIN:VEVENT
CLASS:PUBLIC
DTSTART:20231108T183000Z
DURATION:PT2H30M
STATUS:CONFIRMED
SUMMARY:Hermanns treue Riege vs. Team St. Pauli 05
DESCRIPTION:Ligapokal 3. Liga (1. Runde)\nErgebnis: 12:20 (69:80)
LOCATION:Hermann (RAUCHER), Friedrichstraße 7b, 20359 Hamburg-St. Pauli
UID:SM-B15644@kickern-hamburg.de
PRIORITY:5
SEQUENCE:1
CATEGORIES:SPORT
DTSTAMP:20260420T170552
END:VEVENT
BEGIN:VEVENT
CLASS:PUBLIC
DTSTART:20231114T190000Z
DURATION:PT2H30M
STATUS:CONFIRMED
SUMMARY:Rakshasa vs. Hermanns treue Riege
DESCRIPTION:3.Liga, Gruppe D (5. Spieltag)\nErgebnis: 20:12 (77:63)
LOCATION:Parzelle 15 (RAUCHER), Hamburger Berg 15, 20359 Hamburg-St. Pauli
UID:SM-B14700@kickern-hamburg.de
PRIORITY:5
SEQUENCE:1
CATEGORIES:SPORT
DTSTAMP:20260420T170552
END:VEVENT
BEGIN:VEVENT
CLASS:PUBLIC
DTSTART:20240111T183000Z
DURATION:PT2H30M
STATUS:CONFIRMED
SUMMARY:Hermanns treue Riege vs. Partisan Pinshot (NR)
DESCRIPTION:3.Liga, Gruppe D (7. Spieltag)\nErgebnis: 10:22 (57:83)
LOCATION:Hermann (RAUCHER), Friedrichstraße 7b, 20359 Hamburg-St. Pauli
UID:SM-B14716@kickern-hamburg.de
PRIORITY:5
SEQUENCE:1
CATEGORIES:SPORT
DTSTAMP:20260420T170552
END:VEVENT
BEGIN:VEVENT
CLASS:PUBLIC
DTSTART:20240131T190000Z
DURATION:PT2H30M
STATUS:CONFIRMED
SUMMARY:Substanz P vs. Hermanns treue Riege
DESCRIPTION:3.Liga, Gruppe D (8. Spieltag)\nErgebnis: 15:17 (67:74)
LOCATION:Ilohh Bar (RAUCHER), Repsoldstraße 52, 20097 Hamburg-Hammerbrook
UID:SM-B14724@kickern-hamburg.de
PRIORITY:5
SEQUENCE:1
CATEGORIES:SPORT
DTSTAMP:20260420T170552
END:VEVENT
BEGIN:VEVENT
CLASS:PUBLIC
DTSTART:20240208T183000Z
DURATION:PT2H30M
STATUS:CONFIRMED
SUMMARY:Hermanns treue Riege vs. Team St. Pauli 05
DESCRIPTION:3.Liga, Gruppe D (9. Spieltag)\nErgebnis: 12:20 (69:79)
LOCATION:Hermann (RAUCHER), Friedrichstraße 7b, 20359 Hamburg-St. Pauli
UID:SM-B14740@kickern-hamburg.de
PRIORITY:5
SEQUENCE:1
CATEGORIES:SPORT
DTSTAMP:20260420T170552
END:VEVENT
BEGIN:VEVENT
CLASS:PUBLIC
DTSTART:20240229T190000Z
DURATION:PT2H30M
STATUS:CONFIRMED
SUMMARY:Schorsch vs. Hermanns treue Riege
DESCRIPTION:3.Liga, Gruppe D (10. Spieltag)\nErgebnis: 20:12 (76:63)
LOCATION:Ilohh Bar (RAUCHER), Repsoldstraße 52, 20097 Hamburg-Hammerbrook
UID:SM-B14657@kickern-hamburg.de
PRIORITY:5
SEQUENCE:1
CATEGORIES:SPORT
DTSTAMP:20260420T170552
END:VEVENT
BEGIN:VEVENT
CLASS:PUBLIC
DTSTART:20240307T183000Z
DURATION:PT2H30M
STATUS:CONFIRMED
SUMMARY:Hermanns treue Riege vs. Roter Stern Kickers 1 (NR)
DESCRIPTION:3.Liga, Gruppe D (11. Spieltag)\nErgebnis: 4:28 (43:91)
LOCATION:Hermann (RAUCHER), Friedrichstraße 7b, 20359 Hamburg-St. Pauli
UID:SM-B14665@kickern-hamburg.de
PRIORITY:5
SEQUENCE:1
CATEGORIES:SPORT
DTSTAMP:20260420T170552
END:VEVENT
BEGIN:VEVENT
CLASS:PUBLIC
DTSTART:20240404T180000Z
DURATION:PT2H30M
STATUS:CONFIRMED
SUMMARY:Kicker Club Lüneburg vs. Hermanns treue Riege
DESCRIPTION:3.Liga, Gruppe D (12. Spieltag)\nErgebnis: 23:9 (83:60)
LOCATION:KIXX, Nobistor 38, 22767 Hamburg-Altona-Altstadt
UID:SM-B14675@kickern-hamburg.de
PRIORITY:5
SEQUENCE:1
CATEGORIES:SPORT
DTSTAMP:20260420T170552
END:VEVENT
BEGIN:VEVENT
CLASS:PUBLIC
DTSTART:20240425T173000Z
DURATION:PT2H30M
STATUS:CONFIRMED
SUMMARY:Hermanns treue Riege vs. FC St. Pauli Sekt und pöbeln
DESCRIPTION:3.Liga, Gruppe D (13. Spieltag)\nErgebnis: 23:9 (84:63)
LOCATION:Hermann (RAUCHER), Friedrichstraße 7b, 20359 Hamburg-St. Pauli
UID:SM-B14683@kickern-hamburg.de
PRIORITY:5
SEQUENCE:1
CATEGORIES:SPORT
DTSTAMP:20260420T170552
END:VEVENT
BEGIN:VEVENT
CLASS:PUBLIC
DTSTART:20240507T173000Z
DURATION:PT2H30M
STATUS:CONFIRMED
SUMMARY:Hermanns treue Riege vs. Rakshasa
DESCRIPTION:3.Liga, Gruppe D (14. Spieltag)\nErgebnis: 13:19 (68:82)
LOCATION:Hermann (RAUCHER), Friedrichstraße 7b, 20359 Hamburg-St. Pauli
UID:SM-B14701@kickern-hamburg.de
PRIORITY:5
SEQUENCE:1
CATEGORIES:SPORT
DTSTAMP:20260420T170552
END:VEVENT
BEGIN:VEVENT
CLASS:PUBLIC
DTSTART:20240527T175000Z
DURATION:PT2H30M
STATUS:CONFIRMED
SUMMARY:Deine Mudda (NR) vs. Hermanns treue Riege
DESCRIPTION:3.Liga, Gruppe D (15. Spieltag)\nErgebnis: 26:6 (87:55)
LOCATION:Phatikan, Nobistor 10, 22767 Hamburg-Altona-Altstadt
UID:SM-B14711@kickern-hamburg.de
PRIORITY:5
SEQUENCE:1
CATEGORIES:SPORT
DTSTAMP:20260420T170552
END:VEVENT
BEGIN:VEVENT
CLASS:PUBLIC
DTSTART:20240611T180000Z
DURATION:PT2H30M
STATUS:CONFIRMED
SUMMARY:Partisan Pinshot (NR) vs. Hermanns treue Riege
DESCRIPTION:3.Liga, Gruppe D (16. Spieltag)\nErgebnis: 27:5 (91:52)
LOCATION:KIXX, Nobistor 38, 22767 Hamburg-Altona-Altstadt
UID:SM-B14717@kickern-hamburg.de
PRIORITY:5
SEQUENCE:1
CATEGORIES:SPORT
DTSTAMP:20260420T170552
END:VEVENT
BEGIN:VEVENT
CLASS:PUBLIC
DTSTART:20240627T180000Z
DURATION:PT2H30M
STATUS:CONFIRMED
SUMMARY:Hermanns treue Riege vs. Substanz P
DESCRIPTION:3.Liga, Gruppe D (17. Spieltag)\nErgebnis: 23:9 (83:64)
LOCATION:Hermann (RAUCHER), Friedrichstraße 7b, 20359 Hamburg-St. Pauli
UID:SM-B14725@kickern-hamburg.de
PRIORITY:5
SEQUENCE:1
CATEGORIES:SPORT
DTSTAMP:20260420T170552
END:VEVENT
BEGIN:VEVENT
CLASS:PUBLIC
DTSTART:20240711T180000Z
DURATION:PT2H30M
STATUS:CONFIRMED
SUMMARY:Team St. Pauli 05 vs. Hermanns treue Riege
DESCRIPTION:3.Liga, Gruppe D (18. Spieltag)\nErgebnis: 18:14 (79:66)
LOCATION:Roschinsky's (RAUCHER), Hamburger Berg 19, 20359 Hamburg-St. Pauli
UID:SM-B14741@kickern-hamburg.de
PRIORITY:5
SEQUENCE:1
CATEGORIES:SPORT
DTSTAMP:20260420T170552
END:VEVENT
END:VCALENDAR
