BEGIN:VCALENDAR
VERSION:2.0
PRODID:PHP
METHOD:REQUEST
X-ORIGINAL-URL:https://kickern-hamburg.de/liga/aktuelle-partien?task=team_begegnungen_ical&id=4561
X-WR-CALNAME;VALUE=TEXT:VFT Reflektorschirm Hamburg
BEGIN:VEVENT
CLASS:PUBLIC
DTSTART:20230914T180000Z
DURATION:PT2H30M
STATUS:CONFIRMED
SUMMARY:VFT Reflektorschirm Hamburg vs. Tingeltangel FC St. Pauli
DESCRIPTION:3.Liga, Gruppe C (1. Spieltag)\nErgebnis: 12:20 (60:73)
LOCATION:KIXX, Nobistor 38, 22767 Hamburg-Altona-Altstadt
UID:SM-B15176@kickern-hamburg.de
PRIORITY:5
SEQUENCE:1
CATEGORIES:SPORT
DTSTAMP:20260420T170447
END:VEVENT
BEGIN:VEVENT
CLASS:PUBLIC
DTSTART:20230921T180000Z
DURATION:PT2H30M
STATUS:CONFIRMED
SUMMARY:Bordsteinschmeißer vs. VFT Reflektorschirm Hamburg
DESCRIPTION:3.Liga, Gruppe C (2. Spieltag)\nErgebnis: 20:12 (81:64)
LOCATION:Deutsche Seemannsmission Hamburg-Altona, Große Elbstraße 132, 22767 Hamburg-Altona
UID:SM-B15182@kickern-hamburg.de
PRIORITY:5
SEQUENCE:1
CATEGORIES:SPORT
DTSTAMP:20260420T170447
END:VEVENT
BEGIN:VEVENT
CLASS:PUBLIC
DTSTART:20231010T180000Z
DURATION:PT2H30M
STATUS:CONFIRMED
SUMMARY:VFT Reflektorschirm Hamburg vs. Goalzillas 1 (NR)
DESCRIPTION:Landespokal (1. Runde)\nErgebnis: 0:2 (0:2)
LOCATION:KIXX, Nobistor 38, 22767 Hamburg-Altona-Altstadt
UID:SM-B15277@kickern-hamburg.de
PRIORITY:5
SEQUENCE:1
CATEGORIES:SPORT
DTSTAMP:20260420T170447
END:VEVENT
BEGIN:VEVENT
CLASS:PUBLIC
DTSTART:20231012T170000Z
DURATION:PT2H30M
STATUS:CONFIRMED
SUMMARY:Von der Stange vs. VFT Reflektorschirm Hamburg
DESCRIPTION:3.Liga, Gruppe C (3. Spieltag)\nErgebnis: 27:5 (91:53)
LOCATION:Blitz Bar, Schulterblatt 110, 20357 Hamburg
UID:SM-B15190@kickern-hamburg.de
PRIORITY:5
SEQUENCE:1
CATEGORIES:SPORT
DTSTAMP:20260420T170447
END:VEVENT
BEGIN:VEVENT
CLASS:PUBLIC
DTSTART:20231113T180000Z
DURATION:PT2H30M
STATUS:CONFIRMED
SUMMARY:VFT Reflektorschirm Hamburg vs. UNK Gästeblock
DESCRIPTION:3.Liga, Gruppe C (5. Spieltag)\nErgebnis: 11:21 (68:79)
LOCATION:KIXX, Nobistor 38, 22767 Hamburg-Altona-Altstadt
UID:SM-B15210@kickern-hamburg.de
PRIORITY:5
SEQUENCE:1
CATEGORIES:SPORT
DTSTAMP:20260420T170447
END:VEVENT
BEGIN:VEVENT
CLASS:PUBLIC
DTSTART:20231207T190000Z
DURATION:PT2H30M
STATUS:CONFIRMED
SUMMARY:Boltens vs. VFT Reflektorschirm Hamburg
DESCRIPTION:3.Liga, Gruppe C (6. Spieltag)\nErgebnis: 18:14 (79:76)
LOCATION:Spielhaus Eimsbüttel, Eimsbütteler Marktplatz 1c, 20257 Hamburg-Eimsbüttel
UID:SM-B15216@kickern-hamburg.de
PRIORITY:5
SEQUENCE:1
CATEGORIES:SPORT
DTSTAMP:20260420T170447
END:VEVENT
BEGIN:VEVENT
CLASS:PUBLIC
DTSTART:20240111T180000Z
DURATION:PT2H30M
STATUS:CONFIRMED
SUMMARY:VFT Reflektorschirm Hamburg vs. FC Joy
DESCRIPTION:3.Liga, Gruppe C (7. Spieltag)\nErgebnis: 19:13 (79:68)
LOCATION:KIXX, Nobistor 38, 22767 Hamburg-Altona-Altstadt
UID:SM-B15228@kickern-hamburg.de
PRIORITY:5
SEQUENCE:1
CATEGORIES:SPORT
DTSTAMP:20260420T170447
END:VEVENT
BEGIN:VEVENT
CLASS:PUBLIC
DTSTART:20240215T180000Z
DURATION:PT2H30M
STATUS:CONFIRMED
SUMMARY:VFT Reflektorschirm Hamburg vs. WunderBars (NR)
DESCRIPTION:3.Liga, Gruppe C (9. Spieltag)\nErgebnis: 9:23 (56:86)
LOCATION:KIXX, Nobistor 38, 22767 Hamburg-Altona-Altstadt
UID:SM-B15242@kickern-hamburg.de
PRIORITY:5
SEQUENCE:1
CATEGORIES:SPORT
DTSTAMP:20260420T170447
END:VEVENT
BEGIN:VEVENT
CLASS:PUBLIC
DTSTART:20240223T193000Z
DURATION:PT2H30M
STATUS:CONFIRMED
SUMMARY:Tingeltangel FC St. Pauli vs. VFT Reflektorschirm Hamburg
DESCRIPTION:3.Liga, Gruppe C (10. Spieltag)\nErgebnis: 16:16 (74:76)
LOCATION:FC St. Pauli Clubheim, Harald-Stender-Platz 1, 20359 Hamburg-St. Pauli
UID:SM-B15177@kickern-hamburg.de
PRIORITY:5
SEQUENCE:1
CATEGORIES:SPORT
DTSTAMP:20260420T170447
END:VEVENT
BEGIN:VEVENT
CLASS:PUBLIC
DTSTART:20240312T180000Z
DURATION:PT2H30M
STATUS:CONFIRMED
SUMMARY:VFT Reflektorschirm Hamburg vs. Bordsteinschmeißer
DESCRIPTION:3.Liga, Gruppe C (11. Spieltag)\nErgebnis: 7:25 (58:88)
LOCATION:KIXX, Nobistor 38, 22767 Hamburg-Altona-Altstadt
UID:SM-B15183@kickern-hamburg.de
PRIORITY:5
SEQUENCE:1
CATEGORIES:SPORT
DTSTAMP:20260420T170447
END:VEVENT
BEGIN:VEVENT
CLASS:PUBLIC
DTSTART:20240411T170000Z
DURATION:PT2H30M
STATUS:CONFIRMED
SUMMARY:VFT Reflektorschirm Hamburg vs. Von der Stange
DESCRIPTION:3.Liga, Gruppe C (12. Spieltag)\nErgebnis: 9:23 (63:87)
LOCATION:KIXX, Nobistor 38, 22767 Hamburg-Altona-Altstadt
UID:SM-B15191@kickern-hamburg.de
PRIORITY:5
SEQUENCE:1
CATEGORIES:SPORT
DTSTAMP:20260420T170447
END:VEVENT
BEGIN:VEVENT
CLASS:PUBLIC
DTSTART:20240429T180000Z
DURATION:PT2H30M
STATUS:CONFIRMED
SUMMARY:UNK Gästeblock vs. VFT Reflektorschirm Hamburg
DESCRIPTION:3.Liga, Gruppe C (14. Spieltag)\nErgebnis: 2:0 (2:0)
LOCATION:Hannes & Hanna Wohnzimmer (Raucher), Weidenallee 60, 20357 Hamburg-Eimsbüttel
UID:SM-B15211@kickern-hamburg.de
PRIORITY:5
SEQUENCE:1
CATEGORIES:SPORT
DTSTAMP:20260420T170447
END:VEVENT
BEGIN:VEVENT
CLASS:PUBLIC
DTSTART:20240516T170000Z
DURATION:PT2H30M
STATUS:CONFIRMED
SUMMARY:VFT Reflektorschirm Hamburg vs. Boltens
DESCRIPTION:3.Liga, Gruppe C (15. Spieltag)\nErgebnis: 14:18 (71:82)
LOCATION:KIXX, Nobistor 38, 22767 Hamburg-Altona-Altstadt
UID:SM-B15217@kickern-hamburg.de
PRIORITY:5
SEQUENCE:1
CATEGORIES:SPORT
DTSTAMP:20260420T170447
END:VEVENT
BEGIN:VEVENT
CLASS:PUBLIC
DTSTART:20240606T180000Z
DURATION:PT2H30M
STATUS:CONFIRMED
SUMMARY:FC Joy vs. VFT Reflektorschirm Hamburg
DESCRIPTION:3.Liga, Gruppe C (16. Spieltag)\nErgebnis: 17:15 (75:72)
LOCATION:KIXX, Nobistor 38, 22767 Hamburg-Altona-Altstadt
UID:SM-B15229@kickern-hamburg.de
PRIORITY:5
SEQUENCE:1
CATEGORIES:SPORT
DTSTAMP:20260420T170447
END:VEVENT
BEGIN:VEVENT
CLASS:PUBLIC
DTSTART:20240711T173000Z
DURATION:PT2H30M
STATUS:CONFIRMED
SUMMARY:WunderBars (NR) vs. VFT Reflektorschirm Hamburg
DESCRIPTION:3.Liga, Gruppe C (18. Spieltag)\nErgebnis: 12:20 (67:80)
LOCATION:KIXX, Nobistor 38, 22767 Hamburg-Altona-Altstadt
UID:SM-B15243@kickern-hamburg.de
PRIORITY:5
SEQUENCE:1
CATEGORIES:SPORT
DTSTAMP:20260420T170447
END:VEVENT
END:VCALENDAR
