BEGIN:VCALENDAR
VERSION:2.0
PRODID:PHP
METHOD:REQUEST
X-ORIGINAL-URL:https://kickern-hamburg.de/liga/aktuelle-partien?task=team_begegnungen_ical&id=4538
X-WR-CALNAME;VALUE=TEXT:3. Herren Silpion (NR)
BEGIN:VEVENT
CLASS:PUBLIC
DTSTART:20230915T180000Z
DURATION:PT2H30M
STATUS:CONFIRMED
SUMMARY:3. Herren Silpion (NR) vs. Fuchs AG (NR)
DESCRIPTION:3.Liga, Gruppe A (1. Spieltag)\nErgebnis: 10:22 (59:81)
LOCATION:Silpion IT Solution GmbH, Brandshofer Deich 48, 20539 Hamburg-Rothenburgsort
UID:SM-B14832@kickern-hamburg.de
PRIORITY:5
SEQUENCE:1
CATEGORIES:SPORT
DTSTAMP:20260420T182228
END:VEVENT
BEGIN:VEVENT
CLASS:PUBLIC
DTSTART:20230928T180000Z
DURATION:PT2H30M
STATUS:CONFIRMED
SUMMARY:TkC Rrraddauuuuuh! vs. 3. Herren Silpion (NR)
DESCRIPTION:3.Liga, Gruppe A (2. Spieltag)\nErgebnis: 9:23 (60:84)
LOCATION:Rrraddauuuuuh! e.V., Friedensallee 44, 22765 Hamburg-Altona
UID:SM-B14850@kickern-hamburg.de
PRIORITY:5
SEQUENCE:1
CATEGORIES:SPORT
DTSTAMP:20260420T182228
END:VEVENT
BEGIN:VEVENT
CLASS:PUBLIC
DTSTART:20231013T180000Z
DURATION:PT2H30M
STATUS:CONFIRMED
SUMMARY:3. Herren Silpion (NR) vs. Beginners (NR)
DESCRIPTION:3.Liga, Gruppe A (3. Spieltag)\nErgebnis: 17:15 (72:72)
LOCATION:Silpion IT Solution GmbH, Brandshofer Deich 48, 20539 Hamburg-Rothenburgsort
UID:SM-B14852@kickern-hamburg.de
PRIORITY:5
SEQUENCE:1
CATEGORIES:SPORT
DTSTAMP:20260420T182228
END:VEVENT
BEGIN:VEVENT
CLASS:PUBLIC
DTSTART:20231107T190000Z
DURATION:PT2H30M
STATUS:CONFIRMED
SUMMARY:Nen Rudel Gurken vs. 3. Herren Silpion (NR)
DESCRIPTION:3.Liga, Gruppe A (4. Spieltag)\nErgebnis: 9:23 (62:82)
LOCATION:Bambi Bar, Hamburger Berg 14, 20359 Hamburg
UID:SM-B14870@kickern-hamburg.de
PRIORITY:5
SEQUENCE:1
CATEGORIES:SPORT
DTSTAMP:20260420T182228
END:VEVENT
BEGIN:VEVENT
CLASS:PUBLIC
DTSTART:20231117T190000Z
DURATION:PT2H30M
STATUS:CONFIRMED
SUMMARY:3. Herren Silpion (NR) vs. Kickeronis (NR)
DESCRIPTION:3.Liga, Gruppe A (5. Spieltag)\nErgebnis: 32:0 (96:10)
LOCATION:Silpion IT Solution GmbH, Brandshofer Deich 48, 20539 Hamburg-Rothenburgsort
UID:SM-B14872@kickern-hamburg.de
PRIORITY:5
SEQUENCE:1
CATEGORIES:SPORT
DTSTAMP:20260420T182228
END:VEVENT
BEGIN:VEVENT
CLASS:PUBLIC
DTSTART:20231128T190000Z
DURATION:PT2H30M
STATUS:CONFIRMED
SUMMARY:Drehschieber Silpion vs. 3. Herren Silpion (NR)
DESCRIPTION:3.Liga, Gruppe A (6. Spieltag)\nErgebnis: 7:25 (62:89)
LOCATION:Wohnung Julian Krätzig, Reeperbahn 63, 20359 Hamburg-St. Pauli
UID:SM-B14890@kickern-hamburg.de
PRIORITY:5
SEQUENCE:1
CATEGORIES:SPORT
DTSTAMP:20260420T182228
END:VEVENT
BEGIN:VEVENT
CLASS:PUBLIC
DTSTART:20231130T190000Z
DURATION:PT2H30M
STATUS:CONFIRMED
SUMMARY:3. Herren Silpion (NR) vs. FC St. Pauli Kneipenstyle
DESCRIPTION:Landespokal (2. Runde)\nErgebnis: 11:21 (67:80)
LOCATION:Silpion IT Solution GmbH, Brandshofer Deich 48, 20539 Hamburg-Rothenburgsort
UID:SM-B15697@kickern-hamburg.de
PRIORITY:5
SEQUENCE:1
CATEGORIES:SPORT
DTSTAMP:20260420T182228
END:VEVENT
BEGIN:VEVENT
CLASS:PUBLIC
DTSTART:20240112T190000Z
DURATION:PT2H30M
STATUS:CONFIRMED
SUMMARY:3. Herren Silpion (NR) vs. Goalzillas 1 (NR)
DESCRIPTION:3.Liga, Gruppe A (7. Spieltag)\nErgebnis: 22:10 (82:56)
LOCATION:Silpion IT Solution GmbH, Brandshofer Deich 48, 20539 Hamburg-Rothenburgsort
UID:SM-B14892@kickern-hamburg.de
PRIORITY:5
SEQUENCE:1
CATEGORIES:SPORT
DTSTAMP:20260420T182228
END:VEVENT
BEGIN:VEVENT
CLASS:PUBLIC
DTSTART:20240123T190000Z
DURATION:PT2H30M
STATUS:CONFIRMED
SUMMARY:HSV Torschmuggler (NR) vs. 3. Herren Silpion (NR)
DESCRIPTION:3.Liga, Gruppe A (8. Spieltag)\nErgebnis: 7:25 (60:88)
LOCATION:HSV Tischfußball Sportzentrum, Ulzburger Strasse 94, 22850 Norderstedt
UID:SM-B14910@kickern-hamburg.de
PRIORITY:5
SEQUENCE:1
CATEGORIES:SPORT
DTSTAMP:20260420T182228
END:VEVENT
BEGIN:VEVENT
CLASS:PUBLIC
DTSTART:20240125T190000Z
DURATION:PT2H30M
STATUS:CONFIRMED
SUMMARY:3. Herren Silpion (NR) vs. Verdammte Axt
DESCRIPTION:Ligapokal 3. Liga (2. Runde)\nErgebnis: 20:12 (83:66)
LOCATION:Silpion IT Solution GmbH, Brandshofer Deich 48, 20539 Hamburg-Rothenburgsort
UID:SM-B15666@kickern-hamburg.de
PRIORITY:5
SEQUENCE:1
CATEGORIES:SPORT
DTSTAMP:20260420T182228
END:VEVENT
BEGIN:VEVENT
CLASS:PUBLIC
DTSTART:20240216T190000Z
DURATION:PT2H30M
STATUS:CONFIRMED
SUMMARY:3. Herren Silpion (NR) vs. Solaris
DESCRIPTION:3.Liga, Gruppe A (9. Spieltag)\nErgebnis: 18:14 (76:68)
LOCATION:Silpion IT Solution GmbH, Brandshofer Deich 48, 20539 Hamburg-Rothenburgsort
UID:SM-B14912@kickern-hamburg.de
PRIORITY:5
SEQUENCE:1
CATEGORIES:SPORT
DTSTAMP:20260420T182228
END:VEVENT
BEGIN:VEVENT
CLASS:PUBLIC
DTSTART:20240222T180000Z
DURATION:PT2H30M
STATUS:CONFIRMED
SUMMARY:Fuchs AG (NR) vs. 3. Herren Silpion (NR)
DESCRIPTION:3.Liga, Gruppe A (10. Spieltag)\nErgebnis: 15:17 (76:79)
LOCATION:KIXX, Nobistor 38, 22767 Hamburg-Altona-Altstadt
UID:SM-B14833@kickern-hamburg.de
PRIORITY:5
SEQUENCE:1
CATEGORIES:SPORT
DTSTAMP:20260420T182228
END:VEVENT
BEGIN:VEVENT
CLASS:PUBLIC
DTSTART:20240314T180000Z
DURATION:PT2H30M
STATUS:CONFIRMED
SUMMARY:Von der Stange vs. 3. Herren Silpion (NR)
DESCRIPTION:Ligapokal 3. Liga (3. Runde)\nErgebnis: 18:14 (75:69)
LOCATION:Blitz Bar, Schulterblatt 110, 20357 Hamburg
UID:SM-B15748@kickern-hamburg.de
PRIORITY:5
SEQUENCE:1
CATEGORIES:SPORT
DTSTAMP:20260420T182228
END:VEVENT
BEGIN:VEVENT
CLASS:PUBLIC
DTSTART:20240315T190000Z
DURATION:PT2H30M
STATUS:CONFIRMED
SUMMARY:3. Herren Silpion (NR) vs. TkC Rrraddauuuuuh!
DESCRIPTION:3.Liga, Gruppe A (11. Spieltag)\nErgebnis: 26:6 (89:49)
LOCATION:Silpion IT Solution GmbH, Brandshofer Deich 48, 20539 Hamburg-Rothenburgsort
UID:SM-B14851@kickern-hamburg.de
PRIORITY:5
SEQUENCE:1
CATEGORIES:SPORT
DTSTAMP:20260420T182228
END:VEVENT
BEGIN:VEVENT
CLASS:PUBLIC
DTSTART:20240409T180000Z
DURATION:PT2H30M
STATUS:CONFIRMED
SUMMARY:Beginners (NR) vs. 3. Herren Silpion (NR)
DESCRIPTION:3.Liga, Gruppe A (12. Spieltag)\nErgebnis: 14:18 (73:76)
LOCATION:KIXX, Nobistor 38, 22767 Hamburg-Altona-Altstadt
UID:SM-B14853@kickern-hamburg.de
PRIORITY:5
SEQUENCE:1
CATEGORIES:SPORT
DTSTAMP:20260420T182228
END:VEVENT
BEGIN:VEVENT
CLASS:PUBLIC
DTSTART:20240423T180000Z
DURATION:PT2H30M
STATUS:CONFIRMED
SUMMARY:3. Herren Silpion (NR) vs. Nen Rudel Gurken
DESCRIPTION:3.Liga, Gruppe A (13. Spieltag)\nErgebnis: 27:5 (89:47)
LOCATION:Silpion IT Solution GmbH, Brandshofer Deich 48, 20539 Hamburg-Rothenburgsort
UID:SM-B14871@kickern-hamburg.de
PRIORITY:5
SEQUENCE:1
CATEGORIES:SPORT
DTSTAMP:20260420T182228
END:VEVENT
BEGIN:VEVENT
CLASS:PUBLIC
DTSTART:20240507T180000Z
DURATION:PT2H30M
STATUS:CONFIRMED
SUMMARY:Kickeronis (NR) vs. 3. Herren Silpion (NR)
DESCRIPTION:3.Liga, Gruppe A (14. Spieltag)\nErgebnis: 5:27 (48:90)
LOCATION:KIXX, Nobistor 38, 22767 Hamburg-Altona-Altstadt
UID:SM-B14873@kickern-hamburg.de
PRIORITY:5
SEQUENCE:1
CATEGORIES:SPORT
DTSTAMP:20260420T182228
END:VEVENT
BEGIN:VEVENT
CLASS:PUBLIC
DTSTART:20240517T180000Z
DURATION:PT2H30M
STATUS:CONFIRMED
SUMMARY:3. Herren Silpion (NR) vs. Drehschieber Silpion
DESCRIPTION:3.Liga, Gruppe A (15. Spieltag)\nErgebnis: 25:7 (89:56)
LOCATION:Silpion IT Solution GmbH, Brandshofer Deich 48, 20539 Hamburg-Rothenburgsort
UID:SM-B14891@kickern-hamburg.de
PRIORITY:5
SEQUENCE:1
CATEGORIES:SPORT
DTSTAMP:20260420T182228
END:VEVENT
BEGIN:VEVENT
CLASS:PUBLIC
DTSTART:20240611T180000Z
DURATION:PT2H30M
STATUS:CONFIRMED
SUMMARY:Goalzillas 1 (NR) vs. 3. Herren Silpion (NR)
DESCRIPTION:3.Liga, Gruppe A (16. Spieltag)\nErgebnis: 12:20 (63:77)
LOCATION:KIXX, Nobistor 38, 22767 Hamburg-Altona-Altstadt
UID:SM-B14893@kickern-hamburg.de
PRIORITY:5
SEQUENCE:1
CATEGORIES:SPORT
DTSTAMP:20260420T182228
END:VEVENT
BEGIN:VEVENT
CLASS:PUBLIC
DTSTART:20240624T180000Z
DURATION:PT2H30M
STATUS:CONFIRMED
SUMMARY:3. Herren Silpion (NR) vs. HSV Torschmuggler (NR)
DESCRIPTION:3.Liga, Gruppe A (17. Spieltag)\nErgebnis: 17:15 (77:71)
LOCATION:Silpion IT Solution GmbH, Brandshofer Deich 48, 20539 Hamburg-Rothenburgsort
UID:SM-B14911@kickern-hamburg.de
PRIORITY:5
SEQUENCE:1
CATEGORIES:SPORT
DTSTAMP:20260420T182228
END:VEVENT
BEGIN:VEVENT
CLASS:PUBLIC
DTSTART:20240709T180000Z
DURATION:PT2H30M
STATUS:CONFIRMED
SUMMARY:Solaris vs. 3. Herren Silpion (NR)
DESCRIPTION:3.Liga, Gruppe A (18. Spieltag)\nErgebnis: 2:0 (2:0)
LOCATION:Blitz Bar, Schulterblatt 110, 20357 Hamburg
UID:SM-B14913@kickern-hamburg.de
PRIORITY:5
SEQUENCE:1
CATEGORIES:SPORT
DTSTAMP:20260420T182228
END:VEVENT
END:VCALENDAR
