BEGIN:VCALENDAR
VERSION:2.0
PRODID:PHP
METHOD:REQUEST
X-ORIGINAL-URL:https://kickern-hamburg.de/liga/aktuelle-partien?task=team_begegnungen_ical&id=4535
X-WR-CALNAME;VALUE=TEXT:Solaris
BEGIN:VEVENT
CLASS:PUBLIC
DTSTART:20230912T180000Z
DURATION:PT2H30M
STATUS:CONFIRMED
SUMMARY:HSV Torschmuggler (NR) vs. Solaris
DESCRIPTION:3.Liga, Gruppe A (1. Spieltag)\nErgebnis: 11:21 (66:81)
LOCATION:HSV Tischfußball Sportzentrum, Ulzburger Strasse 94, 22850 Norderstedt
UID:SM-B14838@kickern-hamburg.de
PRIORITY:5
SEQUENCE:1
CATEGORIES:SPORT
DTSTAMP:20260420T170502
END:VEVENT
BEGIN:VEVENT
CLASS:PUBLIC
DTSTART:20230914T180000Z
DURATION:PT2H30M
STATUS:CONFIRMED
SUMMARY:Solaris vs. Kickerholixx (NR)
DESCRIPTION:Landespokal (1. Runde)\nErgebnis: 10:22 (62:84)
LOCATION:Blitz Bar, Schulterblatt 110, 20357 Hamburg
UID:SM-B15257@kickern-hamburg.de
PRIORITY:5
SEQUENCE:1
CATEGORIES:SPORT
DTSTAMP:20260420T170502
END:VEVENT
BEGIN:VEVENT
CLASS:PUBLIC
DTSTART:20230926T180000Z
DURATION:PT2H30M
STATUS:CONFIRMED
SUMMARY:Solaris vs. Nen Rudel Gurken
DESCRIPTION:3.Liga, Gruppe A (2. Spieltag)\nErgebnis: 23:9 (81:55)
LOCATION:Blitz Bar, Schulterblatt 110, 20357 Hamburg
UID:SM-B14848@kickern-hamburg.de
PRIORITY:5
SEQUENCE:1
CATEGORIES:SPORT
DTSTAMP:20260420T170502
END:VEVENT
BEGIN:VEVENT
CLASS:PUBLIC
DTSTART:20231010T180000Z
DURATION:PT2H30M
STATUS:CONFIRMED
SUMMARY:Solaris vs. TkC Rrraddauuuuuh!
DESCRIPTION:3.Liga, Gruppe A (3. Spieltag)\nErgebnis: 28:4 (91:54)
LOCATION:Blitz Bar, Schulterblatt 110, 20357 Hamburg
UID:SM-B14858@kickern-hamburg.de
PRIORITY:5
SEQUENCE:1
CATEGORIES:SPORT
DTSTAMP:20260420T170502
END:VEVENT
BEGIN:VEVENT
CLASS:PUBLIC
DTSTART:20231101T183000Z
DURATION:PT2H30M
STATUS:CONFIRMED
SUMMARY:Kickeronis (NR) vs. Solaris
DESCRIPTION:3.Liga, Gruppe A (4. Spieltag)\nErgebnis: 6:26 (44:90)
LOCATION:KIXX, Nobistor 38, 22767 Hamburg-Altona-Altstadt
UID:SM-B14866@kickern-hamburg.de
PRIORITY:5
SEQUENCE:1
CATEGORIES:SPORT
DTSTAMP:20260420T170502
END:VEVENT
BEGIN:VEVENT
CLASS:PUBLIC
DTSTART:20231114T190000Z
DURATION:PT2H30M
STATUS:CONFIRMED
SUMMARY:Goalzillas 1 (NR) vs. Solaris
DESCRIPTION:3.Liga, Gruppe A (5. Spieltag)\nErgebnis: 17:15 (73:71)
LOCATION:KIXX, Nobistor 38, 22767 Hamburg-Altona-Altstadt
UID:SM-B14874@kickern-hamburg.de
PRIORITY:5
SEQUENCE:1
CATEGORIES:SPORT
DTSTAMP:20260420T170502
END:VEVENT
BEGIN:VEVENT
CLASS:PUBLIC
DTSTART:20231128T190000Z
DURATION:PT2H30M
STATUS:CONFIRMED
SUMMARY:Solaris vs. Beginners (NR)
DESCRIPTION:3.Liga, Gruppe A (6. Spieltag)\nErgebnis: 17:15 (71:68)
LOCATION:Blitz Bar, Schulterblatt 110, 20357 Hamburg
UID:SM-B14884@kickern-hamburg.de
PRIORITY:5
SEQUENCE:1
CATEGORIES:SPORT
DTSTAMP:20260420T170502
END:VEVENT
BEGIN:VEVENT
CLASS:PUBLIC
DTSTART:20240116T190000Z
DURATION:PT2H30M
STATUS:CONFIRMED
SUMMARY:Solaris vs. Buffplatzmafia TF
DESCRIPTION:Ligapokal 3. Liga (2. Runde)\nErgebnis: 20:12 (82:61)
LOCATION:Blitz Bar, Schulterblatt 110, 20357 Hamburg
UID:SM-B15665@kickern-hamburg.de
PRIORITY:5
SEQUENCE:1
CATEGORIES:SPORT
DTSTAMP:20260420T170502
END:VEVENT
BEGIN:VEVENT
CLASS:PUBLIC
DTSTART:20240118T190000Z
DURATION:PT2H30M
STATUS:CONFIRMED
SUMMARY:Fuchs AG (NR) vs. Solaris
DESCRIPTION:3.Liga, Gruppe A (7. Spieltag)\nErgebnis: 18:14 (73:67)
LOCATION:KIXX, Nobistor 38, 22767 Hamburg-Altona-Altstadt
UID:SM-B14894@kickern-hamburg.de
PRIORITY:5
SEQUENCE:1
CATEGORIES:SPORT
DTSTAMP:20260420T170502
END:VEVENT
BEGIN:VEVENT
CLASS:PUBLIC
DTSTART:20240123T190000Z
DURATION:PT2H30M
STATUS:CONFIRMED
SUMMARY:Solaris vs. Drehschieber Silpion
DESCRIPTION:3.Liga, Gruppe A (8. Spieltag)\nErgebnis: 29:3 (93:59)
LOCATION:Blitz Bar, Schulterblatt 110, 20357 Hamburg
UID:SM-B14904@kickern-hamburg.de
PRIORITY:5
SEQUENCE:1
CATEGORIES:SPORT
DTSTAMP:20260420T170502
END:VEVENT
BEGIN:VEVENT
CLASS:PUBLIC
DTSTART:20240213T190000Z
DURATION:PT2H30M
STATUS:CONFIRMED
SUMMARY:Kicksiders (NR) vs. Solaris
DESCRIPTION:Ligapokal 3. Liga (3. Runde)\nErgebnis: 21:11 (80:66)
LOCATION:Sidekick, Winsener Straße 190, 21077 Hamburg-Harburg
UID:SM-B15741@kickern-hamburg.de
PRIORITY:5
SEQUENCE:1
CATEGORIES:SPORT
DTSTAMP:20260420T170502
END:VEVENT
BEGIN:VEVENT
CLASS:PUBLIC
DTSTART:20240216T190000Z
DURATION:PT2H30M
STATUS:CONFIRMED
SUMMARY:3. Herren Silpion (NR) vs. Solaris
DESCRIPTION:3.Liga, Gruppe A (9. Spieltag)\nErgebnis: 18:14 (76:68)
LOCATION:Silpion IT Solution GmbH, Brandshofer Deich 48, 20539 Hamburg-Rothenburgsort
UID:SM-B14912@kickern-hamburg.de
PRIORITY:5
SEQUENCE:1
CATEGORIES:SPORT
DTSTAMP:20260420T170502
END:VEVENT
BEGIN:VEVENT
CLASS:PUBLIC
DTSTART:20240220T190000Z
DURATION:PT2H30M
STATUS:CONFIRMED
SUMMARY:Solaris vs. HSV Torschmuggler (NR)
DESCRIPTION:3.Liga, Gruppe A (10. Spieltag)\nErgebnis: 17:15 (77:73)
LOCATION:Blitz Bar, Schulterblatt 110, 20357 Hamburg
UID:SM-B14839@kickern-hamburg.de
PRIORITY:5
SEQUENCE:1
CATEGORIES:SPORT
DTSTAMP:20260420T170502
END:VEVENT
BEGIN:VEVENT
CLASS:PUBLIC
DTSTART:20240305T190000Z
DURATION:PT2H30M
STATUS:CONFIRMED
SUMMARY:Nen Rudel Gurken vs. Solaris
DESCRIPTION:3.Liga, Gruppe A (11. Spieltag)\nErgebnis: 10:22 (59:86)
LOCATION:Bambi Bar, Hamburger Berg 14, 20359 Hamburg
UID:SM-B14849@kickern-hamburg.de
PRIORITY:5
SEQUENCE:1
CATEGORIES:SPORT
DTSTAMP:20260420T170502
END:VEVENT
BEGIN:VEVENT
CLASS:PUBLIC
DTSTART:20240404T180000Z
DURATION:PT2H30M
STATUS:CONFIRMED
SUMMARY:TkC Rrraddauuuuuh! vs. Solaris
DESCRIPTION:3.Liga, Gruppe A (12. Spieltag)\nErgebnis: 9:23 (60:84)
LOCATION:Rrraddauuuuuh! e.V., Friedensallee 44, 22765 Hamburg-Altona
UID:SM-B14859@kickern-hamburg.de
PRIORITY:5
SEQUENCE:1
CATEGORIES:SPORT
DTSTAMP:20260420T170502
END:VEVENT
BEGIN:VEVENT
CLASS:PUBLIC
DTSTART:20240416T180000Z
DURATION:PT2H30M
STATUS:CONFIRMED
SUMMARY:Solaris vs. Kickeronis (NR)
DESCRIPTION:3.Liga, Gruppe A (13. Spieltag)\nErgebnis: 26:6 (89:52)
LOCATION:Blitz Bar, Schulterblatt 110, 20357 Hamburg
UID:SM-B14867@kickern-hamburg.de
PRIORITY:5
SEQUENCE:1
CATEGORIES:SPORT
DTSTAMP:20260420T170502
END:VEVENT
BEGIN:VEVENT
CLASS:PUBLIC
DTSTART:20240430T180000Z
DURATION:PT2H30M
STATUS:CONFIRMED
SUMMARY:Solaris vs. Goalzillas 1 (NR)
DESCRIPTION:3.Liga, Gruppe A (14. Spieltag)\nErgebnis: 18:14 (81:63)
LOCATION:Blitz Bar, Schulterblatt 110, 20357 Hamburg
UID:SM-B14875@kickern-hamburg.de
PRIORITY:5
SEQUENCE:1
CATEGORIES:SPORT
DTSTAMP:20260420T170502
END:VEVENT
BEGIN:VEVENT
CLASS:PUBLIC
DTSTART:20240514T180000Z
DURATION:PT2H30M
STATUS:CONFIRMED
SUMMARY:Beginners (NR) vs. Solaris
DESCRIPTION:3.Liga, Gruppe A (15. Spieltag)\nErgebnis: 19:13 (74:69)
LOCATION:KIXX, Nobistor 38, 22767 Hamburg-Altona-Altstadt
UID:SM-B14885@kickern-hamburg.de
PRIORITY:5
SEQUENCE:1
CATEGORIES:SPORT
DTSTAMP:20260420T170502
END:VEVENT
BEGIN:VEVENT
CLASS:PUBLIC
DTSTART:20240604T180000Z
DURATION:PT2H30M
STATUS:CONFIRMED
SUMMARY:Solaris vs. Fuchs AG (NR)
DESCRIPTION:3.Liga, Gruppe A (16. Spieltag)\nErgebnis: 21:11 (82:62)
LOCATION:Blitz Bar, Schulterblatt 110, 20357 Hamburg
UID:SM-B14895@kickern-hamburg.de
PRIORITY:5
SEQUENCE:1
CATEGORIES:SPORT
DTSTAMP:20260420T170502
END:VEVENT
BEGIN:VEVENT
CLASS:PUBLIC
DTSTART:20240625T180000Z
DURATION:PT2H30M
STATUS:CONFIRMED
SUMMARY:Drehschieber Silpion vs. Solaris
DESCRIPTION:3.Liga, Gruppe A (17. Spieltag)\nErgebnis: 4:28 (44:92)
LOCATION:Wohnung Julian Krätzig, Reeperbahn 63, 20359 Hamburg-St. Pauli
UID:SM-B14905@kickern-hamburg.de
PRIORITY:5
SEQUENCE:1
CATEGORIES:SPORT
DTSTAMP:20260420T170502
END:VEVENT
BEGIN:VEVENT
CLASS:PUBLIC
DTSTART:20240709T180000Z
DURATION:PT2H30M
STATUS:CONFIRMED
SUMMARY:Solaris vs. 3. Herren Silpion (NR)
DESCRIPTION:3.Liga, Gruppe A (18. Spieltag)\nErgebnis: 2:0 (2:0)
LOCATION:Blitz Bar, Schulterblatt 110, 20357 Hamburg
UID:SM-B14913@kickern-hamburg.de
PRIORITY:5
SEQUENCE:1
CATEGORIES:SPORT
DTSTAMP:20260420T170502
END:VEVENT
BEGIN:VEVENT
CLASS:PUBLIC
DTSTART:20240831T110000Z
DURATION:PT2H30M
STATUS:CONFIRMED
SUMMARY:Solaris vs. Bergbarbaren
DESCRIPTION:2. / 3. Liga Relegation (1. Spieltag)\nErgebnis: 21:11 (80:63)
LOCATION:KIXX, Nobistor 38, 22767 Hamburg-Altona-Altstadt
UID:SM-B15772@kickern-hamburg.de
PRIORITY:5
SEQUENCE:1
CATEGORIES:SPORT
DTSTAMP:20260420T170502
END:VEVENT
BEGIN:VEVENT
CLASS:PUBLIC
DTSTART:20240831T130000Z
DURATION:PT2H30M
STATUS:CONFIRMED
SUMMARY:Solaris vs. Partisan Pinshot (NR)
DESCRIPTION:2. / 3. Liga Relegation (2. Spieltag)\nErgebnis: 22:10 (81:55)
LOCATION:Blitz Bar, Schulterblatt 110, 20357 Hamburg
UID:SM-B15775@kickern-hamburg.de
PRIORITY:5
SEQUENCE:1
CATEGORIES:SPORT
DTSTAMP:20260420T170502
END:VEVENT
BEGIN:VEVENT
CLASS:PUBLIC
DTSTART:20240831T150000Z
DURATION:PT2H30M
STATUS:CONFIRMED
SUMMARY:FC St. Pauli from dusk till dawn vs. Solaris
DESCRIPTION:2. / 3. Liga Relegation (3. Spieltag)\nErgebnis: 20:12 (76:66)
LOCATION:KIXX, Nobistor 38, 22767 Hamburg-Altona-Altstadt
UID:SM-B15780@kickern-hamburg.de
PRIORITY:5
SEQUENCE:1
CATEGORIES:SPORT
DTSTAMP:20260420T170502
END:VEVENT
BEGIN:VEVENT
CLASS:PUBLIC
DTSTART:20240831T170000Z
DURATION:PT2H30M
STATUS:CONFIRMED
SUMMARY:Solaris vs. FC St. Pauli Kneipenstyle
DESCRIPTION:2. / 3. Liga Relegation (4. Spieltag)\nErgebnis: 23:9 (85:63)
LOCATION:Blitz Bar, Schulterblatt 110, 20357 Hamburg
UID:SM-B15782@kickern-hamburg.de
PRIORITY:5
SEQUENCE:1
CATEGORIES:SPORT
DTSTAMP:20260420T170502
END:VEVENT
END:VCALENDAR
