BEGIN:VCALENDAR
VERSION:2.0
PRODID:PHP
METHOD:REQUEST
X-ORIGINAL-URL:https://kickern-hamburg.de/liga/aktuelle-partien?task=team_begegnungen_ical&id=4477
X-WR-CALNAME;VALUE=TEXT:Goalzillas 2 (NR)
BEGIN:VEVENT
CLASS:PUBLIC
DTSTART:20230907T170000Z
DURATION:PT2H30M
STATUS:CONFIRMED
SUMMARY:Goalzillas 2 (NR) vs. Hamburg Privateers 08 (NR)
DESCRIPTION:2.Liga, Gruppe A (1. Spieltag)\nErgebnis: 30:2 (94:40)
LOCATION:KIXX, Nobistor 38, 22767 Hamburg-Altona-Altstadt
UID:SM-B15018@kickern-hamburg.de
PRIORITY:5
SEQUENCE:1
CATEGORIES:SPORT
DTSTAMP:20260420T182154
END:VEVENT
BEGIN:VEVENT
CLASS:PUBLIC
DTSTART:20230928T180000Z
DURATION:PT2H30M
STATUS:CONFIRMED
SUMMARY:Hamburg Likedeelers vs. Goalzillas 2 (NR)
DESCRIPTION:2.Liga, Gruppe A (2. Spieltag)\nErgebnis: 11:21 (65:81)
LOCATION:KIXX, Nobistor 38, 22767 Hamburg-Altona-Altstadt
UID:SM-B15026@kickern-hamburg.de
PRIORITY:5
SEQUENCE:1
CATEGORIES:SPORT
DTSTAMP:20260420T182154
END:VEVENT
BEGIN:VEVENT
CLASS:PUBLIC
DTSTART:20231010T170000Z
DURATION:PT2H30M
STATUS:CONFIRMED
SUMMARY:Kickerbande (NR) vs. Goalzillas 2 (NR)
DESCRIPTION:2.Liga, Gruppe A (3. Spieltag)\nErgebnis: 9:23 (62:86)
LOCATION:HBT Hamburger Berater Team, Stadthausbrücke 3, 20355 Hamburg-Neustadt
UID:SM-B15034@kickern-hamburg.de
PRIORITY:5
SEQUENCE:1
CATEGORIES:SPORT
DTSTAMP:20260420T182154
END:VEVENT
BEGIN:VEVENT
CLASS:PUBLIC
DTSTART:20231107T180000Z
DURATION:PT2H30M
STATUS:CONFIRMED
SUMMARY:Goalzillas 2 (NR) vs. Kickertrupp (NR)
DESCRIPTION:2.Liga, Gruppe A (4. Spieltag)\nErgebnis: 28:4 (90:50)
LOCATION:KIXX, Nobistor 38, 22767 Hamburg-Altona-Altstadt
UID:SM-B15044@kickern-hamburg.de
PRIORITY:5
SEQUENCE:1
CATEGORIES:SPORT
DTSTAMP:20260420T182154
END:VEVENT
BEGIN:VEVENT
CLASS:PUBLIC
DTSTART:20231121T183000Z
DURATION:PT2H30M
STATUS:CONFIRMED
SUMMARY:Goalzillas 2 (NR) vs. Anboard
DESCRIPTION:2.Liga, Gruppe A (5. Spieltag)\nErgebnis: 19:13 (82:72)
LOCATION:KIXX, Nobistor 38, 22767 Hamburg-Altona-Altstadt
UID:SM-B15058@kickern-hamburg.de
PRIORITY:5
SEQUENCE:1
CATEGORIES:SPORT
DTSTAMP:20260420T182154
END:VEVENT
BEGIN:VEVENT
CLASS:PUBLIC
DTSTART:20231128T180000Z
DURATION:PT2H30M
STATUS:CONFIRMED
SUMMARY:Goalzillas 2 (NR) vs. Sidekickers (NR)
DESCRIPTION:Landespokal (2. Runde)\nErgebnis: 29:3 (91:43)
LOCATION:KIXX, Nobistor 38, 22767 Hamburg-Altona-Altstadt
UID:SM-B15683@kickern-hamburg.de
PRIORITY:5
SEQUENCE:1
CATEGORIES:SPORT
DTSTAMP:20260420T182154
END:VEVENT
BEGIN:VEVENT
CLASS:PUBLIC
DTSTART:20231205T190000Z
DURATION:PT2H30M
STATUS:CONFIRMED
SUMMARY:FC St. Pauli from dusk till dawn vs. Goalzillas 2 (NR)
DESCRIPTION:2.Liga, Gruppe A (6. Spieltag)\nErgebnis: 11:21 (59:83)
LOCATION:KIXX, Nobistor 38, 22767 Hamburg-Altona-Altstadt
UID:SM-B15066@kickern-hamburg.de
PRIORITY:5
SEQUENCE:1
CATEGORIES:SPORT
DTSTAMP:20260420T182154
END:VEVENT
BEGIN:VEVENT
CLASS:PUBLIC
DTSTART:20240116T190000Z
DURATION:PT2H30M
STATUS:CONFIRMED
SUMMARY:Altonaer Kickerkraken vs. Goalzillas 2 (NR)
DESCRIPTION:2.Liga, Gruppe A (7. Spieltag)\nErgebnis: 18:14 (80:71)
LOCATION:Deutsche Seemannsmission Hamburg-Altona, Große Elbstraße 132, 22767 Hamburg-Altona
UID:SM-B15080@kickern-hamburg.de
PRIORITY:5
SEQUENCE:1
CATEGORIES:SPORT
DTSTAMP:20260420T182154
END:VEVENT
BEGIN:VEVENT
CLASS:PUBLIC
DTSTART:20240123T190000Z
DURATION:PT2H30M
STATUS:CONFIRMED
SUMMARY:Altonaer Kickerkraken vs. Goalzillas 2 (NR)
DESCRIPTION:Landespokal (3. Runde)\nErgebnis: 12:20 (70:80)
LOCATION:Deutsche Seemannsmission Hamburg-Altona, Große Elbstraße 132, 22767 Hamburg-Altona
UID:SM-B15723@kickern-hamburg.de
PRIORITY:5
SEQUENCE:1
CATEGORIES:SPORT
DTSTAMP:20260420T182154
END:VEVENT
BEGIN:VEVENT
CLASS:PUBLIC
DTSTART:20240130T180000Z
DURATION:PT2H30M
STATUS:CONFIRMED
SUMMARY:Goalzillas 2 (NR) vs. Flying Circus
DESCRIPTION:2.Liga, Gruppe A (8. Spieltag)\nErgebnis: 25:7 (85:65)
LOCATION:KIXX, Nobistor 38, 22767 Hamburg-Altona-Altstadt
UID:SM-B15090@kickern-hamburg.de
PRIORITY:5
SEQUENCE:1
CATEGORIES:SPORT
DTSTAMP:20260420T182154
END:VEVENT
BEGIN:VEVENT
CLASS:PUBLIC
DTSTART:20240213T190000Z
DURATION:PT2H30M
STATUS:CONFIRMED
SUMMARY:Phoenix (NR) vs. Goalzillas 2 (NR)
DESCRIPTION:2.Liga, Gruppe A (9. Spieltag)\nErgebnis: 9:23 (57:84)
LOCATION:Jugendleistungszentrum HdJ Lattenkamp, Bebelallee 22, 22299 Hamburg-Winterhude
UID:SM-B15098@kickern-hamburg.de
PRIORITY:5
SEQUENCE:1
CATEGORIES:SPORT
DTSTAMP:20260420T182154
END:VEVENT
BEGIN:VEVENT
CLASS:PUBLIC
DTSTART:20240222T190000Z
DURATION:PT2H30M
STATUS:CONFIRMED
SUMMARY:Hamburg Privateers 08 (NR) vs. Goalzillas 2 (NR)
DESCRIPTION:2.Liga, Gruppe A (10. Spieltag)\nErgebnis: 5:27 (61:91)
LOCATION:KIXX, Nobistor 38, 22767 Hamburg-Altona-Altstadt
UID:SM-B15019@kickern-hamburg.de
PRIORITY:5
SEQUENCE:1
CATEGORIES:SPORT
DTSTAMP:20260420T182154
END:VEVENT
BEGIN:VEVENT
CLASS:PUBLIC
DTSTART:20240305T180000Z
DURATION:PT2H30M
STATUS:CONFIRMED
SUMMARY:Goalzillas 2 (NR) vs. Gadgettos II (NR)
DESCRIPTION:Landespokal (4. Runde)\nErgebnis: 15:17 (72:75)
LOCATION:KIXX, Nobistor 38, 22767 Hamburg-Altona-Altstadt
UID:SM-B15747@kickern-hamburg.de
PRIORITY:5
SEQUENCE:1
CATEGORIES:SPORT
DTSTAMP:20260420T182154
END:VEVENT
BEGIN:VEVENT
CLASS:PUBLIC
DTSTART:20240312T190000Z
DURATION:PT2H30M
STATUS:CONFIRMED
SUMMARY:Goalzillas 2 (NR) vs. Hamburg Likedeelers
DESCRIPTION:2.Liga, Gruppe A (11. Spieltag)\nErgebnis: 24:8 (86:57)
LOCATION:KIXX, Nobistor 38, 22767 Hamburg-Altona-Altstadt
UID:SM-B15027@kickern-hamburg.de
PRIORITY:5
SEQUENCE:1
CATEGORIES:SPORT
DTSTAMP:20260420T182154
END:VEVENT
BEGIN:VEVENT
CLASS:PUBLIC
DTSTART:20240402T170000Z
DURATION:PT2H30M
STATUS:CONFIRMED
SUMMARY:Goalzillas 2 (NR) vs. Kickerbande (NR)
DESCRIPTION:2.Liga, Gruppe A (12. Spieltag)\nErgebnis: 21:11 (82:58)
LOCATION:KIXX, Nobistor 38, 22767 Hamburg-Altona-Altstadt
UID:SM-B15035@kickern-hamburg.de
PRIORITY:5
SEQUENCE:1
CATEGORIES:SPORT
DTSTAMP:20260420T182154
END:VEVENT
BEGIN:VEVENT
CLASS:PUBLIC
DTSTART:20240425T180000Z
DURATION:PT2H30M
STATUS:CONFIRMED
SUMMARY:Kickertrupp (NR) vs. Goalzillas 2 (NR)
DESCRIPTION:2.Liga, Gruppe A (13. Spieltag)\nErgebnis: 14:18 (68:78)
LOCATION:CloudSeeds GmbH, Wendenstraße 377, 20537 Hamburg
UID:SM-B15045@kickern-hamburg.de
PRIORITY:5
SEQUENCE:1
CATEGORIES:SPORT
DTSTAMP:20260420T182154
END:VEVENT
BEGIN:VEVENT
CLASS:PUBLIC
DTSTART:20240509T173000Z
DURATION:PT2H30M
STATUS:CONFIRMED
SUMMARY:Anboard vs. Goalzillas 2 (NR)
DESCRIPTION:2.Liga, Gruppe A (14. Spieltag)\nErgebnis: 14:18 (74:79)
LOCATION:Deutsche Seemannsmission Hamburg-Altona, Große Elbstraße 132, 22767 Hamburg-Altona
UID:SM-B15059@kickern-hamburg.de
PRIORITY:5
SEQUENCE:1
CATEGORIES:SPORT
DTSTAMP:20260420T182154
END:VEVENT
BEGIN:VEVENT
CLASS:PUBLIC
DTSTART:20240521T170000Z
DURATION:PT2H30M
STATUS:CONFIRMED
SUMMARY:Goalzillas 2 (NR) vs. FC St. Pauli from dusk till dawn
DESCRIPTION:2.Liga, Gruppe A (15. Spieltag)\nErgebnis: 24:8 (86:58)
LOCATION:KIXX, Nobistor 38, 22767 Hamburg-Altona-Altstadt
UID:SM-B15067@kickern-hamburg.de
PRIORITY:5
SEQUENCE:1
CATEGORIES:SPORT
DTSTAMP:20260420T182154
END:VEVENT
BEGIN:VEVENT
CLASS:PUBLIC
DTSTART:20240611T170000Z
DURATION:PT2H30M
STATUS:CONFIRMED
SUMMARY:Goalzillas 2 (NR) vs. Altonaer Kickerkraken
DESCRIPTION:2.Liga, Gruppe A (16. Spieltag)\nErgebnis: 22:10 (82:65)
LOCATION:KIXX, Nobistor 38, 22767 Hamburg-Altona-Altstadt
UID:SM-B15081@kickern-hamburg.de
PRIORITY:5
SEQUENCE:1
CATEGORIES:SPORT
DTSTAMP:20260420T182154
END:VEVENT
BEGIN:VEVENT
CLASS:PUBLIC
DTSTART:20240625T180000Z
DURATION:PT2H30M
STATUS:CONFIRMED
SUMMARY:Flying Circus vs. Goalzillas 2 (NR)
DESCRIPTION:2.Liga, Gruppe A (17. Spieltag)\nErgebnis: 10:22 (65:86)
LOCATION:KIXX, Nobistor 38, 22767 Hamburg-Altona-Altstadt
UID:SM-B15091@kickern-hamburg.de
PRIORITY:5
SEQUENCE:1
CATEGORIES:SPORT
DTSTAMP:20260420T182154
END:VEVENT
BEGIN:VEVENT
CLASS:PUBLIC
DTSTART:20240709T170000Z
DURATION:PT2H30M
STATUS:CONFIRMED
SUMMARY:Goalzillas 2 (NR) vs. Phoenix (NR)
DESCRIPTION:2.Liga, Gruppe A (18. Spieltag)\nErgebnis: 2:0 (2:0)
LOCATION:KIXX, Nobistor 38, 22767 Hamburg-Altona-Altstadt
UID:SM-B15099@kickern-hamburg.de
PRIORITY:5
SEQUENCE:1
CATEGORIES:SPORT
DTSTAMP:20260420T182154
END:VEVENT
END:VCALENDAR
