BEGIN:VCALENDAR
VERSION:2.0
PRODID:PHP
METHOD:REQUEST
X-ORIGINAL-URL:https://kickern-hamburg.de/liga/aktuelle-partien?task=team_begegnungen_ical&id=4475
X-WR-CALNAME;VALUE=TEXT:FC St. Pauli from dusk till dawn
BEGIN:VEVENT
CLASS:PUBLIC
DTSTART:20230906T173000Z
DURATION:PT2H30M
STATUS:CONFIRMED
SUMMARY:JLZ Kaderschmiede vs. FC St. Pauli from dusk till dawn
DESCRIPTION:Landespokal (1. Runde)\nErgebnis: 1:31 (29:95)
LOCATION:Jugendleistungszentrum HdJ Lattenkamp, Bebelallee 22, 22299 Hamburg-Winterhude
UID:SM-B15279@kickern-hamburg.de
PRIORITY:5
SEQUENCE:1
CATEGORIES:SPORT
DTSTAMP:20260420T182229
END:VEVENT
BEGIN:VEVENT
CLASS:PUBLIC
DTSTART:20230912T180000Z
DURATION:PT2H30M
STATUS:CONFIRMED
SUMMARY:FC St. Pauli from dusk till dawn vs. Anboard
DESCRIPTION:2.Liga, Gruppe A (1. Spieltag)\nErgebnis: 13:19 (74:77)
LOCATION:KIXX, Nobistor 38, 22767 Hamburg-Altona-Altstadt
UID:SM-B15020@kickern-hamburg.de
PRIORITY:5
SEQUENCE:1
CATEGORIES:SPORT
DTSTAMP:20260420T182229
END:VEVENT
BEGIN:VEVENT
CLASS:PUBLIC
DTSTART:20230928T180000Z
DURATION:PT2H30M
STATUS:CONFIRMED
SUMMARY:Hamburg Privateers 08 (NR) vs. FC St. Pauli from dusk till dawn
DESCRIPTION:2.Liga, Gruppe A (2. Spieltag)\nErgebnis: 9:23 (62:86)
LOCATION:KIXX, Nobistor 38, 22767 Hamburg-Altona-Altstadt
UID:SM-B15028@kickern-hamburg.de
PRIORITY:5
SEQUENCE:1
CATEGORIES:SPORT
DTSTAMP:20260420T182229
END:VEVENT
BEGIN:VEVENT
CLASS:PUBLIC
DTSTART:20231012T180000Z
DURATION:PT2H30M
STATUS:CONFIRMED
SUMMARY:Hamburg Likedeelers vs. FC St. Pauli from dusk till dawn
DESCRIPTION:2.Liga, Gruppe A (3. Spieltag)\nErgebnis: 20:12 (83:68)
LOCATION:KIXX, Nobistor 38, 22767 Hamburg-Altona-Altstadt
UID:SM-B15040@kickern-hamburg.de
PRIORITY:5
SEQUENCE:1
CATEGORIES:SPORT
DTSTAMP:20260420T182229
END:VEVENT
BEGIN:VEVENT
CLASS:PUBLIC
DTSTART:20231107T190000Z
DURATION:PT2H30M
STATUS:CONFIRMED
SUMMARY:FC St. Pauli from dusk till dawn vs. Flying Circus
DESCRIPTION:2.Liga, Gruppe A (4. Spieltag)\nErgebnis: 12:20 (75:81)
LOCATION:KIXX, Nobistor 38, 22767 Hamburg-Altona-Altstadt
UID:SM-B15050@kickern-hamburg.de
PRIORITY:5
SEQUENCE:1
CATEGORIES:SPORT
DTSTAMP:20260420T182229
END:VEVENT
BEGIN:VEVENT
CLASS:PUBLIC
DTSTART:20231114T183000Z
DURATION:PT2H30M
STATUS:CONFIRMED
SUMMARY:FC St. Pauli from dusk till dawn vs. BSC Überbande II
DESCRIPTION:Landespokal (2. Runde)\nErgebnis: 8:18 (54:70)
LOCATION:KIXX, Nobistor 38, 22767 Hamburg-Altona-Altstadt
UID:SM-B15679@kickern-hamburg.de
PRIORITY:5
SEQUENCE:1
CATEGORIES:SPORT
DTSTAMP:20260420T182229
END:VEVENT
BEGIN:VEVENT
CLASS:PUBLIC
DTSTART:20231121T190000Z
DURATION:PT2H30M
STATUS:CONFIRMED
SUMMARY:Altonaer Kickerkraken vs. FC St. Pauli from dusk till dawn
DESCRIPTION:2.Liga, Gruppe A (5. Spieltag)\nErgebnis: 26:6 (90:63)
LOCATION:Deutsche Seemannsmission Hamburg-Altona, Große Elbstraße 132, 22767 Hamburg-Altona
UID:SM-B15056@kickern-hamburg.de
PRIORITY:5
SEQUENCE:1
CATEGORIES:SPORT
DTSTAMP:20260420T182229
END:VEVENT
BEGIN:VEVENT
CLASS:PUBLIC
DTSTART:20231205T190000Z
DURATION:PT2H30M
STATUS:CONFIRMED
SUMMARY:FC St. Pauli from dusk till dawn vs. Goalzillas 2 (NR)
DESCRIPTION:2.Liga, Gruppe A (6. Spieltag)\nErgebnis: 11:21 (59:83)
LOCATION:KIXX, Nobistor 38, 22767 Hamburg-Altona-Altstadt
UID:SM-B15066@kickern-hamburg.de
PRIORITY:5
SEQUENCE:1
CATEGORIES:SPORT
DTSTAMP:20260420T182229
END:VEVENT
BEGIN:VEVENT
CLASS:PUBLIC
DTSTART:20240116T180000Z
DURATION:PT2H30M
STATUS:CONFIRMED
SUMMARY:Kickerbande (NR) vs. FC St. Pauli from dusk till dawn
DESCRIPTION:2.Liga, Gruppe A (7. Spieltag)\nErgebnis: 18:14 (74:70)
LOCATION:HBT Hamburger Berater Team, Stadthausbrücke 3, 20355 Hamburg-Neustadt
UID:SM-B15076@kickern-hamburg.de
PRIORITY:5
SEQUENCE:1
CATEGORIES:SPORT
DTSTAMP:20260420T182229
END:VEVENT
BEGIN:VEVENT
CLASS:PUBLIC
DTSTART:20240130T190000Z
DURATION:PT2H30M
STATUS:CONFIRMED
SUMMARY:FC St. Pauli from dusk till dawn vs. Phoenix (NR)
DESCRIPTION:2.Liga, Gruppe A (8. Spieltag)\nErgebnis: 20:12 (82:65)
LOCATION:KIXX, Nobistor 38, 22767 Hamburg-Altona-Altstadt
UID:SM-B15086@kickern-hamburg.de
PRIORITY:5
SEQUENCE:1
CATEGORIES:SPORT
DTSTAMP:20260420T182229
END:VEVENT
BEGIN:VEVENT
CLASS:PUBLIC
DTSTART:20240215T190000Z
DURATION:PT2H30M
STATUS:CONFIRMED
SUMMARY:Kickertrupp (NR) vs. FC St. Pauli from dusk till dawn
DESCRIPTION:2.Liga, Gruppe A (9. Spieltag)\nErgebnis: 19:13 (79:71)
LOCATION:CloudSeeds GmbH, Wendenstraße 377, 20537 Hamburg
UID:SM-B15094@kickern-hamburg.de
PRIORITY:5
SEQUENCE:1
CATEGORIES:SPORT
DTSTAMP:20260420T182229
END:VEVENT
BEGIN:VEVENT
CLASS:PUBLIC
DTSTART:20240229T190000Z
DURATION:PT2H30M
STATUS:CONFIRMED
SUMMARY:Anboard vs. FC St. Pauli from dusk till dawn
DESCRIPTION:2.Liga, Gruppe A (10. Spieltag)\nErgebnis: 21:11 (84:67)
LOCATION:Deutsche Seemannsmission Hamburg-Altona, Große Elbstraße 132, 22767 Hamburg-Altona
UID:SM-B15021@kickern-hamburg.de
PRIORITY:5
SEQUENCE:1
CATEGORIES:SPORT
DTSTAMP:20260420T182229
END:VEVENT
BEGIN:VEVENT
CLASS:PUBLIC
DTSTART:20240312T190000Z
DURATION:PT2H30M
STATUS:CONFIRMED
SUMMARY:FC St. Pauli from dusk till dawn vs. Hamburg Privateers 08 (NR)
DESCRIPTION:2.Liga, Gruppe A (11. Spieltag)\nErgebnis: 25:7 (87:55)
LOCATION:KIXX, Nobistor 38, 22767 Hamburg-Altona-Altstadt
UID:SM-B15029@kickern-hamburg.de
PRIORITY:5
SEQUENCE:1
CATEGORIES:SPORT
DTSTAMP:20260420T182229
END:VEVENT
BEGIN:VEVENT
CLASS:PUBLIC
DTSTART:20240402T180000Z
DURATION:PT2H30M
STATUS:CONFIRMED
SUMMARY:FC St. Pauli from dusk till dawn vs. Hamburg Likedeelers
DESCRIPTION:2.Liga, Gruppe A (12. Spieltag)\nErgebnis: 22:10 (84:65)
LOCATION:KIXX, Nobistor 38, 22767 Hamburg-Altona-Altstadt
UID:SM-B15041@kickern-hamburg.de
PRIORITY:5
SEQUENCE:1
CATEGORIES:SPORT
DTSTAMP:20260420T182229
END:VEVENT
BEGIN:VEVENT
CLASS:PUBLIC
DTSTART:20240423T180000Z
DURATION:PT2H30M
STATUS:CONFIRMED
SUMMARY:Flying Circus vs. FC St. Pauli from dusk till dawn
DESCRIPTION:2.Liga, Gruppe A (13. Spieltag)\nErgebnis: 15:17 (72:69)
LOCATION:KIXX, Nobistor 38, 22767 Hamburg-Altona-Altstadt
UID:SM-B15051@kickern-hamburg.de
PRIORITY:5
SEQUENCE:1
CATEGORIES:SPORT
DTSTAMP:20260420T182229
END:VEVENT
BEGIN:VEVENT
CLASS:PUBLIC
DTSTART:20240507T173000Z
DURATION:PT2H30M
STATUS:CONFIRMED
SUMMARY:FC St. Pauli from dusk till dawn vs. Altonaer Kickerkraken
DESCRIPTION:2.Liga, Gruppe A (14. Spieltag)\nErgebnis: 10:22 (65:85)
LOCATION:KIXX, Nobistor 38, 22767 Hamburg-Altona-Altstadt
UID:SM-B15057@kickern-hamburg.de
PRIORITY:5
SEQUENCE:1
CATEGORIES:SPORT
DTSTAMP:20260420T182229
END:VEVENT
BEGIN:VEVENT
CLASS:PUBLIC
DTSTART:20240521T170000Z
DURATION:PT2H30M
STATUS:CONFIRMED
SUMMARY:Goalzillas 2 (NR) vs. FC St. Pauli from dusk till dawn
DESCRIPTION:2.Liga, Gruppe A (15. Spieltag)\nErgebnis: 24:8 (86:58)
LOCATION:KIXX, Nobistor 38, 22767 Hamburg-Altona-Altstadt
UID:SM-B15067@kickern-hamburg.de
PRIORITY:5
SEQUENCE:1
CATEGORIES:SPORT
DTSTAMP:20260420T182229
END:VEVENT
BEGIN:VEVENT
CLASS:PUBLIC
DTSTART:20240611T173000Z
DURATION:PT2H30M
STATUS:CONFIRMED
SUMMARY:FC St. Pauli from dusk till dawn vs. Kickerbande (NR)
DESCRIPTION:2.Liga, Gruppe A (16. Spieltag)\nErgebnis: 14:18 (69:76)
LOCATION:KIXX, Nobistor 38, 22767 Hamburg-Altona-Altstadt
UID:SM-B15077@kickern-hamburg.de
PRIORITY:5
SEQUENCE:1
CATEGORIES:SPORT
DTSTAMP:20260420T182229
END:VEVENT
BEGIN:VEVENT
CLASS:PUBLIC
DTSTART:20240625T180000Z
DURATION:PT2H30M
STATUS:CONFIRMED
SUMMARY:Phoenix (NR) vs. FC St. Pauli from dusk till dawn
DESCRIPTION:2.Liga, Gruppe A (17. Spieltag)\nErgebnis: 13:19 (61:78)
LOCATION:Jugendleistungszentrum HdJ Lattenkamp, Bebelallee 22, 22299 Hamburg-Winterhude
UID:SM-B15087@kickern-hamburg.de
PRIORITY:5
SEQUENCE:1
CATEGORIES:SPORT
DTSTAMP:20260420T182229
END:VEVENT
BEGIN:VEVENT
CLASS:PUBLIC
DTSTART:20240709T173000Z
DURATION:PT2H30M
STATUS:CONFIRMED
SUMMARY:FC St. Pauli from dusk till dawn vs. Kickertrupp (NR)
DESCRIPTION:2.Liga, Gruppe A (18. Spieltag)\nErgebnis: 15:17 (71:78)
LOCATION:KIXX, Nobistor 38, 22767 Hamburg-Altona-Altstadt
UID:SM-B15095@kickern-hamburg.de
PRIORITY:5
SEQUENCE:1
CATEGORIES:SPORT
DTSTAMP:20260420T182229
END:VEVENT
BEGIN:VEVENT
CLASS:PUBLIC
DTSTART:20240831T110000Z
DURATION:PT2H30M
STATUS:CONFIRMED
SUMMARY:FC St. Pauli from dusk till dawn vs. Von der Stange
DESCRIPTION:2. / 3. Liga Relegation (1. Spieltag)\nErgebnis: 17:15 (75:70)
LOCATION:KIXX, Nobistor 38, 22767 Hamburg-Altona-Altstadt
UID:SM-B15771@kickern-hamburg.de
PRIORITY:5
SEQUENCE:1
CATEGORIES:SPORT
DTSTAMP:20260420T182229
END:VEVENT
BEGIN:VEVENT
CLASS:PUBLIC
DTSTART:20240831T130000Z
DURATION:PT2H30M
STATUS:CONFIRMED
SUMMARY:FC St. Pauli Kneipenstyle vs. FC St. Pauli from dusk till dawn
DESCRIPTION:2. / 3. Liga Relegation (2. Spieltag)\nErgebnis: 12:20 (69:84)
LOCATION:KIXX, Nobistor 38, 22767 Hamburg-Altona-Altstadt
UID:SM-B15776@kickern-hamburg.de
PRIORITY:5
SEQUENCE:1
CATEGORIES:SPORT
DTSTAMP:20260420T182229
END:VEVENT
BEGIN:VEVENT
CLASS:PUBLIC
DTSTART:20240831T150000Z
DURATION:PT2H30M
STATUS:CONFIRMED
SUMMARY:FC St. Pauli from dusk till dawn vs. Solaris
DESCRIPTION:2. / 3. Liga Relegation (3. Spieltag)\nErgebnis: 20:12 (76:66)
LOCATION:KIXX, Nobistor 38, 22767 Hamburg-Altona-Altstadt
UID:SM-B15780@kickern-hamburg.de
PRIORITY:5
SEQUENCE:1
CATEGORIES:SPORT
DTSTAMP:20260420T182229
END:VEVENT
BEGIN:VEVENT
CLASS:PUBLIC
DTSTART:20240831T170000Z
DURATION:PT2H30M
STATUS:CONFIRMED
SUMMARY:Bergbarbaren vs. FC St. Pauli from dusk till dawn
DESCRIPTION:2. / 3. Liga Relegation (4. Spieltag)\nErgebnis: 11:21 (64:81)
LOCATION:KIXX, Nobistor 38, 22767 Hamburg-Altona-Altstadt
UID:SM-B15783@kickern-hamburg.de
PRIORITY:5
SEQUENCE:1
CATEGORIES:SPORT
DTSTAMP:20260420T182229
END:VEVENT
END:VCALENDAR
