BEGIN:VCALENDAR
VERSION:2.0
PRODID:PHP
METHOD:REQUEST
X-ORIGINAL-URL:https://kickern-hamburg.de/liga/aktuelle-partien?task=team_begegnungen_ical&id=4427
X-WR-CALNAME;VALUE=TEXT:Schorsch
BEGIN:VEVENT
CLASS:PUBLIC
DTSTART:20230914T173000Z
DURATION:PT2H30M
STATUS:CONFIRMED
SUMMARY:Hermanns treue Riege vs. Schorsch
DESCRIPTION:3.Liga, Gruppe D (1. Spieltag)\nErgebnis: 10:22 (57:73)
LOCATION:Hermann (RAUCHER), Friedrichstraße 7b, 20359 Hamburg-St. Pauli
UID:SM-B14656@kickern-hamburg.de
PRIORITY:5
SEQUENCE:1
CATEGORIES:SPORT
DTSTAMP:20260420T194504
END:VEVENT
BEGIN:VEVENT
CLASS:PUBLIC
DTSTART:20230920T180000Z
DURATION:PT2H30M
STATUS:CONFIRMED
SUMMARY:Schorsch vs. Kicker Club Lüneburg
DESCRIPTION:3.Liga, Gruppe D (2. Spieltag)\nErgebnis: 21:11 (80:63)
LOCATION:Ilohh Bar (RAUCHER), Repsoldstraße 52, 20097 Hamburg-Hammerbrook
UID:SM-B14666@kickern-hamburg.de
PRIORITY:5
SEQUENCE:1
CATEGORIES:SPORT
DTSTAMP:20260420T194504
END:VEVENT
BEGIN:VEVENT
CLASS:PUBLIC
DTSTART:20231004T180000Z
DURATION:PT2H30M
STATUS:CONFIRMED
SUMMARY:Schorsch vs. Partisan Pinshot (NR)
DESCRIPTION:3.Liga, Gruppe D (3. Spieltag)\nErgebnis: 16:16 (71:76)
LOCATION:Ilohh Bar (RAUCHER), Repsoldstraße 52, 20097 Hamburg-Hammerbrook
UID:SM-B14680@kickern-hamburg.de
PRIORITY:5
SEQUENCE:1
CATEGORIES:SPORT
DTSTAMP:20260420T194504
END:VEVENT
BEGIN:VEVENT
CLASS:PUBLIC
DTSTART:20231018T180000Z
DURATION:PT2H30M
STATUS:CONFIRMED
SUMMARY:Schorsch vs. Anboard
DESCRIPTION:Landespokal (1. Runde)\nErgebnis: 1:1 (1:1)
LOCATION:Ilohh Bar (RAUCHER), Repsoldstraße 52, 20097 Hamburg-Hammerbrook
UID:SM-B15266@kickern-hamburg.de
PRIORITY:5
SEQUENCE:1
CATEGORIES:SPORT
DTSTAMP:20260420T194504
END:VEVENT
BEGIN:VEVENT
CLASS:PUBLIC
DTSTART:20231110T190000Z
DURATION:PT2H30M
STATUS:CONFIRMED
SUMMARY:Team St. Pauli 05 vs. Schorsch
DESCRIPTION:3.Liga, Gruppe D (4. Spieltag)\nErgebnis: 18:14 (72:67)
LOCATION:Roschinsky's (RAUCHER), Hamburger Berg 19, 20359 Hamburg-St. Pauli
UID:SM-B14688@kickern-hamburg.de
PRIORITY:5
SEQUENCE:1
CATEGORIES:SPORT
DTSTAMP:20260420T194504
END:VEVENT
BEGIN:VEVENT
CLASS:PUBLIC
DTSTART:20231122T190000Z
DURATION:PT2H30M
STATUS:CONFIRMED
SUMMARY:Schorsch vs. Substanz P
DESCRIPTION:3.Liga, Gruppe D (5. Spieltag)\nErgebnis: 16:16 (72:72)
LOCATION:Ilohh Bar (RAUCHER), Repsoldstraße 52, 20097 Hamburg-Hammerbrook
UID:SM-B14694@kickern-hamburg.de
PRIORITY:5
SEQUENCE:1
CATEGORIES:SPORT
DTSTAMP:20260420T194504
END:VEVENT
BEGIN:VEVENT
CLASS:PUBLIC
DTSTART:20231205T190000Z
DURATION:PT2H30M
STATUS:CONFIRMED
SUMMARY:Roter Stern Kickers 1 (NR) vs. Schorsch
DESCRIPTION:3.Liga, Gruppe D (6. Spieltag)\nErgebnis: 2:0 (2:0)
LOCATION:JuKI 42, An der Reitbahn 2, 22926 Ahrensburg
UID:SM-B14702@kickern-hamburg.de
PRIORITY:5
SEQUENCE:1
CATEGORIES:SPORT
DTSTAMP:20260420T194504
END:VEVENT
BEGIN:VEVENT
CLASS:PUBLIC
DTSTART:20231213T190000Z
DURATION:PT2H30M
STATUS:CONFIRMED
SUMMARY:Schorsch vs. WunderBars (NR)
DESCRIPTION:Ligapokal 3. Liga (2. Runde)\nErgebnis: 9:23 (63:87)
LOCATION:Ilohh Bar (RAUCHER), Repsoldstraße 52, 20097 Hamburg-Hammerbrook
UID:SM-B15668@kickern-hamburg.de
PRIORITY:5
SEQUENCE:1
CATEGORIES:SPORT
DTSTAMP:20260420T194504
END:VEVENT
BEGIN:VEVENT
CLASS:PUBLIC
DTSTART:20240111T190000Z
DURATION:PT2H30M
STATUS:CONFIRMED
SUMMARY:Deine Mudda (NR) vs. Schorsch
DESCRIPTION:3.Liga, Gruppe D (7. Spieltag)\nErgebnis: 27:5 (88:59)
LOCATION:Phatikan, Nobistor 10, 22767 Hamburg-Altona-Altstadt
UID:SM-B14712@kickern-hamburg.de
PRIORITY:5
SEQUENCE:1
CATEGORIES:SPORT
DTSTAMP:20260420T194504
END:VEVENT
BEGIN:VEVENT
CLASS:PUBLIC
DTSTART:20240131T190000Z
DURATION:PT2H30M
STATUS:CONFIRMED
SUMMARY:Schorsch vs. Rakshasa
DESCRIPTION:3.Liga, Gruppe D (8. Spieltag)\nErgebnis: 14:18 (70:80)
LOCATION:Ilohh Bar (RAUCHER), Repsoldstraße 52, 20097 Hamburg-Hammerbrook
UID:SM-B14722@kickern-hamburg.de
PRIORITY:5
SEQUENCE:1
CATEGORIES:SPORT
DTSTAMP:20260420T194504
END:VEVENT
BEGIN:VEVENT
CLASS:PUBLIC
DTSTART:20240207T190000Z
DURATION:PT2H30M
STATUS:CONFIRMED
SUMMARY:FC St. Pauli Sekt und pöbeln vs. Schorsch
DESCRIPTION:3.Liga, Gruppe D (9. Spieltag)\nErgebnis: 9:23 (66:87)
LOCATION:FC St. Pauli Clubheim, Harald-Stender-Platz 1, 20359 Hamburg-St. Pauli
UID:SM-B14736@kickern-hamburg.de
PRIORITY:5
SEQUENCE:1
CATEGORIES:SPORT
DTSTAMP:20260420T194504
END:VEVENT
BEGIN:VEVENT
CLASS:PUBLIC
DTSTART:20240229T190000Z
DURATION:PT2H30M
STATUS:CONFIRMED
SUMMARY:Schorsch vs. Hermanns treue Riege
DESCRIPTION:3.Liga, Gruppe D (10. Spieltag)\nErgebnis: 20:12 (76:63)
LOCATION:Ilohh Bar (RAUCHER), Repsoldstraße 52, 20097 Hamburg-Hammerbrook
UID:SM-B14657@kickern-hamburg.de
PRIORITY:5
SEQUENCE:1
CATEGORIES:SPORT
DTSTAMP:20260420T194504
END:VEVENT
BEGIN:VEVENT
CLASS:PUBLIC
DTSTART:20240307T190000Z
DURATION:PT2H30M
STATUS:CONFIRMED
SUMMARY:Kicker Club Lüneburg vs. Schorsch
DESCRIPTION:3.Liga, Gruppe D (11. Spieltag)\nErgebnis: 20:12 (82:68)
LOCATION:KIXX, Nobistor 38, 22767 Hamburg-Altona-Altstadt
UID:SM-B14667@kickern-hamburg.de
PRIORITY:5
SEQUENCE:1
CATEGORIES:SPORT
DTSTAMP:20260420T194504
END:VEVENT
BEGIN:VEVENT
CLASS:PUBLIC
DTSTART:20240402T180000Z
DURATION:PT2H30M
STATUS:CONFIRMED
SUMMARY:Partisan Pinshot (NR) vs. Schorsch
DESCRIPTION:3.Liga, Gruppe D (12. Spieltag)\nErgebnis: 16:16 (75:73)
LOCATION:KIXX, Nobistor 38, 22767 Hamburg-Altona-Altstadt
UID:SM-B14681@kickern-hamburg.de
PRIORITY:5
SEQUENCE:1
CATEGORIES:SPORT
DTSTAMP:20260420T194504
END:VEVENT
BEGIN:VEVENT
CLASS:PUBLIC
DTSTART:20240425T180000Z
DURATION:PT2H30M
STATUS:CONFIRMED
SUMMARY:Schorsch vs. Team St. Pauli 05
DESCRIPTION:3.Liga, Gruppe D (13. Spieltag)\nErgebnis: 14:18 (73:78)
LOCATION:Ilohh Bar (RAUCHER), Repsoldstraße 52, 20097 Hamburg-Hammerbrook
UID:SM-B14689@kickern-hamburg.de
PRIORITY:5
SEQUENCE:1
CATEGORIES:SPORT
DTSTAMP:20260420T194504
END:VEVENT
BEGIN:VEVENT
CLASS:PUBLIC
DTSTART:20240501T180000Z
DURATION:PT2H30M
STATUS:CONFIRMED
SUMMARY:Substanz P vs. Schorsch
DESCRIPTION:3.Liga, Gruppe D (14. Spieltag)\nErgebnis: 21:11 (79:59)
LOCATION:Ilohh Bar (RAUCHER), Repsoldstraße 52, 20097 Hamburg-Hammerbrook
UID:SM-B14695@kickern-hamburg.de
PRIORITY:5
SEQUENCE:1
CATEGORIES:SPORT
DTSTAMP:20260420T194504
END:VEVENT
BEGIN:VEVENT
CLASS:PUBLIC
DTSTART:20240516T180000Z
DURATION:PT2H30M
STATUS:CONFIRMED
SUMMARY:Schorsch vs. Roter Stern Kickers 1 (NR)
DESCRIPTION:3.Liga, Gruppe D (15. Spieltag)\nErgebnis: 13:19 (72:81)
LOCATION:Ilohh Bar (RAUCHER), Repsoldstraße 52, 20097 Hamburg-Hammerbrook
UID:SM-B14703@kickern-hamburg.de
PRIORITY:5
SEQUENCE:1
CATEGORIES:SPORT
DTSTAMP:20260420T194504
END:VEVENT
BEGIN:VEVENT
CLASS:PUBLIC
DTSTART:20240606T180000Z
DURATION:PT2H30M
STATUS:CONFIRMED
SUMMARY:Schorsch vs. Deine Mudda (NR)
DESCRIPTION:3.Liga, Gruppe D (16. Spieltag)\nErgebnis: 16:16 (65:65)
LOCATION:Ilohh Bar (RAUCHER), Repsoldstraße 52, 20097 Hamburg-Hammerbrook
UID:SM-B14713@kickern-hamburg.de
PRIORITY:5
SEQUENCE:1
CATEGORIES:SPORT
DTSTAMP:20260420T194504
END:VEVENT
BEGIN:VEVENT
CLASS:PUBLIC
DTSTART:20240618T180000Z
DURATION:PT2H30M
STATUS:CONFIRMED
SUMMARY:Rakshasa vs. Schorsch
DESCRIPTION:3.Liga, Gruppe D (17. Spieltag)\nErgebnis: 21:11 (78:64)
LOCATION:Parzelle 15 (RAUCHER), Hamburger Berg 15, 20359 Hamburg-St. Pauli
UID:SM-B14723@kickern-hamburg.de
PRIORITY:5
SEQUENCE:1
CATEGORIES:SPORT
DTSTAMP:20260420T194504
END:VEVENT
BEGIN:VEVENT
CLASS:PUBLIC
DTSTART:20240704T180000Z
DURATION:PT2H30M
STATUS:CONFIRMED
SUMMARY:Schorsch vs. FC St. Pauli Sekt und pöbeln
DESCRIPTION:3.Liga, Gruppe D (18. Spieltag)\nErgebnis: 16:16 (74:72)
LOCATION:Ilohh Bar (RAUCHER), Repsoldstraße 52, 20097 Hamburg-Hammerbrook
UID:SM-B14737@kickern-hamburg.de
PRIORITY:5
SEQUENCE:1
CATEGORIES:SPORT
DTSTAMP:20260420T194504
END:VEVENT
END:VCALENDAR
