BEGIN:VCALENDAR
VERSION:2.0
PRODID:PHP
METHOD:REQUEST
X-ORIGINAL-URL:https://kickern-hamburg.de/liga/aktuelle-partien?task=team_begegnungen_ical&id=4411
X-WR-CALNAME;VALUE=TEXT:Kickerholixx (NR)
BEGIN:VEVENT
CLASS:PUBLIC
DTSTART:20230905T180000Z
DURATION:PT2H30M
STATUS:CONFIRMED
SUMMARY:Exorbitanter HäkMäk (NR) vs. Kickerholixx (NR)
DESCRIPTION:2.Liga, Gruppe B (1. Spieltag)\nErgebnis: 11:21 (74:85)
LOCATION:Joy, Winterhuder Weg 69, 22085 Hamburg-Uhlenhorst
UID:SM-B14924@kickern-hamburg.de
PRIORITY:5
SEQUENCE:1
CATEGORIES:SPORT
DTSTAMP:20260420T182153
END:VEVENT
BEGIN:VEVENT
CLASS:PUBLIC
DTSTART:20230914T180000Z
DURATION:PT2H30M
STATUS:CONFIRMED
SUMMARY:Solaris vs. Kickerholixx (NR)
DESCRIPTION:Landespokal (1. Runde)\nErgebnis: 10:22 (62:84)
LOCATION:Blitz Bar, Schulterblatt 110, 20357 Hamburg
UID:SM-B15257@kickern-hamburg.de
PRIORITY:5
SEQUENCE:1
CATEGORIES:SPORT
DTSTAMP:20260420T182153
END:VEVENT
BEGIN:VEVENT
CLASS:PUBLIC
DTSTART:20230928T180000Z
DURATION:PT2H30M
STATUS:CONFIRMED
SUMMARY:Kickerholixx (NR) vs. FC St. Pauli Kneipenstyle
DESCRIPTION:2.Liga, Gruppe B (2. Spieltag)\nErgebnis: 22:10 (86:62)
LOCATION:KIXX, Nobistor 38, 22767 Hamburg-Altona-Altstadt
UID:SM-B14934@kickern-hamburg.de
PRIORITY:5
SEQUENCE:1
CATEGORIES:SPORT
DTSTAMP:20260420T182153
END:VEVENT
BEGIN:VEVENT
CLASS:PUBLIC
DTSTART:20231010T180000Z
DURATION:PT2H30M
STATUS:CONFIRMED
SUMMARY:HSV BAMbole (NR) vs. Kickerholixx (NR)
DESCRIPTION:2.Liga, Gruppe B (3. Spieltag)\nErgebnis: 13:19 (66:75)
LOCATION:KIXX, Nobistor 38, 22767 Hamburg-Altona-Altstadt
UID:SM-B14946@kickern-hamburg.de
PRIORITY:5
SEQUENCE:1
CATEGORIES:SPORT
DTSTAMP:20260420T182153
END:VEVENT
BEGIN:VEVENT
CLASS:PUBLIC
DTSTART:20231026T180000Z
DURATION:PT2H30M
STATUS:CONFIRMED
SUMMARY:FC Joy vs. Kickerholixx (NR)
DESCRIPTION:Landespokal (2. Runde)\nErgebnis: 6:26 (53:88)
LOCATION:KIXX, Nobistor 38, 22767 Hamburg-Altona-Altstadt
UID:SM-B15676@kickern-hamburg.de
PRIORITY:5
SEQUENCE:1
CATEGORIES:SPORT
DTSTAMP:20260420T182153
END:VEVENT
BEGIN:VEVENT
CLASS:PUBLIC
DTSTART:20231109T180000Z
DURATION:PT2H30M
STATUS:CONFIRMED
SUMMARY:Kickerholixx (NR) vs. Patron Sauna Club
DESCRIPTION:2.Liga, Gruppe B (4. Spieltag)\nErgebnis: 22:10 (85:55)
LOCATION:KIXX, Nobistor 38, 22767 Hamburg-Altona-Altstadt
UID:SM-B14956@kickern-hamburg.de
PRIORITY:5
SEQUENCE:1
CATEGORIES:SPORT
DTSTAMP:20260420T182153
END:VEVENT
BEGIN:VEVENT
CLASS:PUBLIC
DTSTART:20231121T190000Z
DURATION:PT2H30M
STATUS:CONFIRMED
SUMMARY:253 (NR) vs. Kickerholixx (NR)
DESCRIPTION:2.Liga, Gruppe B (5. Spieltag)\nErgebnis: 17:15 (75:76)
LOCATION:KIXX, Nobistor 38, 22767 Hamburg-Altona-Altstadt
UID:SM-B14962@kickern-hamburg.de
PRIORITY:5
SEQUENCE:1
CATEGORIES:SPORT
DTSTAMP:20260420T182153
END:VEVENT
BEGIN:VEVENT
CLASS:PUBLIC
DTSTART:20231207T190000Z
DURATION:PT2H30M
STATUS:CONFIRMED
SUMMARY:Kickerholixx (NR) vs. Monkey Inferno
DESCRIPTION:2.Liga, Gruppe B (6. Spieltag)\nErgebnis: 16:16 (78:78)
LOCATION:KIXX, Nobistor 38, 22767 Hamburg-Altona-Altstadt
UID:SM-B14972@kickern-hamburg.de
PRIORITY:5
SEQUENCE:1
CATEGORIES:SPORT
DTSTAMP:20260420T182153
END:VEVENT
BEGIN:VEVENT
CLASS:PUBLIC
DTSTART:20240111T190000Z
DURATION:PT2H30M
STATUS:CONFIRMED
SUMMARY:Kickerholixx (NR) vs. Lotterie (NR)
DESCRIPTION:Landespokal (3. Runde)\nErgebnis: 9:23 (68:84)
LOCATION:KIXX, Nobistor 38, 22767 Hamburg-Altona-Altstadt
UID:SM-B15726@kickern-hamburg.de
PRIORITY:5
SEQUENCE:1
CATEGORIES:SPORT
DTSTAMP:20260420T182153
END:VEVENT
BEGIN:VEVENT
CLASS:PUBLIC
DTSTART:20240118T190000Z
DURATION:PT2H30M
STATUS:CONFIRMED
SUMMARY:Kickerholixx (NR) vs. Sidekickers (NR)
DESCRIPTION:2.Liga, Gruppe B (7. Spieltag)\nErgebnis: 21:11 (81:63)
LOCATION:KIXX, Nobistor 38, 22767 Hamburg-Altona-Altstadt
UID:SM-B14988@kickern-hamburg.de
PRIORITY:5
SEQUENCE:1
CATEGORIES:SPORT
DTSTAMP:20260420T182153
END:VEVENT
BEGIN:VEVENT
CLASS:PUBLIC
DTSTART:20240131T190000Z
DURATION:PT2H30M
STATUS:CONFIRMED
SUMMARY:Foosball Club FC St. Pauli vs. Kickerholixx (NR)
DESCRIPTION:2.Liga, Gruppe B (8. Spieltag)\nErgebnis: 0:2 (0:2)
LOCATION:The Pub formerly known as Froggys (RAUCH, Eimbütteler Chaussee 29, 20259 Hamburg-Eimsbüttel
UID:SM-B14996@kickern-hamburg.de
PRIORITY:5
SEQUENCE:1
CATEGORIES:SPORT
DTSTAMP:20260420T182153
END:VEVENT
BEGIN:VEVENT
CLASS:PUBLIC
DTSTART:20240215T190000Z
DURATION:PT2H30M
STATUS:CONFIRMED
SUMMARY:Kickerholixx (NR) vs. FC St. Pauli Shooting Stars
DESCRIPTION:2.Liga, Gruppe B (9. Spieltag)\nErgebnis: 27:5 (89:51)
LOCATION:KIXX, Nobistor 38, 22767 Hamburg-Altona-Altstadt
UID:SM-B15008@kickern-hamburg.de
PRIORITY:5
SEQUENCE:1
CATEGORIES:SPORT
DTSTAMP:20260420T182153
END:VEVENT
BEGIN:VEVENT
CLASS:PUBLIC
DTSTART:20240229T190000Z
DURATION:PT2H30M
STATUS:CONFIRMED
SUMMARY:Kickerholixx (NR) vs. Exorbitanter HäkMäk (NR)
DESCRIPTION:2.Liga, Gruppe B (10. Spieltag)\nErgebnis: 21:11 (80:61)
LOCATION:KIXX, Nobistor 38, 22767 Hamburg-Altona-Altstadt
UID:SM-B14925@kickern-hamburg.de
PRIORITY:5
SEQUENCE:1
CATEGORIES:SPORT
DTSTAMP:20260420T182153
END:VEVENT
BEGIN:VEVENT
CLASS:PUBLIC
DTSTART:20240312T190000Z
DURATION:PT2H30M
STATUS:CONFIRMED
SUMMARY:FC St. Pauli Kneipenstyle vs. Kickerholixx (NR)
DESCRIPTION:2.Liga, Gruppe B (11. Spieltag)\nErgebnis: 8:24 (57:87)
LOCATION:KIXX, Nobistor 38, 22767 Hamburg-Altona-Altstadt
UID:SM-B14935@kickern-hamburg.de
PRIORITY:5
SEQUENCE:1
CATEGORIES:SPORT
DTSTAMP:20260420T182153
END:VEVENT
BEGIN:VEVENT
CLASS:PUBLIC
DTSTART:20240411T180000Z
DURATION:PT2H30M
STATUS:CONFIRMED
SUMMARY:Kickerholixx (NR) vs. HSV BAMbole (NR)
DESCRIPTION:2.Liga, Gruppe B (12. Spieltag)\nErgebnis: 16:16 (77:77)
LOCATION:KIXX, Nobistor 38, 22767 Hamburg-Altona-Altstadt
UID:SM-B14947@kickern-hamburg.de
PRIORITY:5
SEQUENCE:1
CATEGORIES:SPORT
DTSTAMP:20260420T182153
END:VEVENT
BEGIN:VEVENT
CLASS:PUBLIC
DTSTART:20240423T180000Z
DURATION:PT2H30M
STATUS:CONFIRMED
SUMMARY:Patron Sauna Club vs. Kickerholixx (NR)
DESCRIPTION:2.Liga, Gruppe B (13. Spieltag)\nErgebnis: 16:16 (69:78)
LOCATION:KIXX, Nobistor 38, 22767 Hamburg-Altona-Altstadt
UID:SM-B14957@kickern-hamburg.de
PRIORITY:5
SEQUENCE:1
CATEGORIES:SPORT
DTSTAMP:20260420T182153
END:VEVENT
BEGIN:VEVENT
CLASS:PUBLIC
DTSTART:20240502T180000Z
DURATION:PT2H30M
STATUS:CONFIRMED
SUMMARY:Kickerholixx (NR) vs. 253 (NR)
DESCRIPTION:2.Liga, Gruppe B (14. Spieltag)\nErgebnis: 21:11 (79:62)
LOCATION:KIXX, Nobistor 38, 22767 Hamburg-Altona-Altstadt
UID:SM-B14963@kickern-hamburg.de
PRIORITY:5
SEQUENCE:1
CATEGORIES:SPORT
DTSTAMP:20260420T182153
END:VEVENT
BEGIN:VEVENT
CLASS:PUBLIC
DTSTART:20240516T180000Z
DURATION:PT2H30M
STATUS:CONFIRMED
SUMMARY:Monkey Inferno vs. Kickerholixx (NR)
DESCRIPTION:2.Liga, Gruppe B (15. Spieltag)\nErgebnis: 9:23 (67:87)
LOCATION:KIXX, Nobistor 38, 22767 Hamburg-Altona-Altstadt
UID:SM-B14973@kickern-hamburg.de
PRIORITY:5
SEQUENCE:1
CATEGORIES:SPORT
DTSTAMP:20260420T182153
END:VEVENT
BEGIN:VEVENT
CLASS:PUBLIC
DTSTART:20240606T170000Z
DURATION:PT2H30M
STATUS:CONFIRMED
SUMMARY:Sidekickers (NR) vs. Kickerholixx (NR)
DESCRIPTION:2.Liga, Gruppe B (16. Spieltag)\nErgebnis: 13:19 (68:76)
LOCATION:Sidekick, Winsener Straße 190, 21077 Hamburg-Harburg
UID:SM-B14989@kickern-hamburg.de
PRIORITY:5
SEQUENCE:1
CATEGORIES:SPORT
DTSTAMP:20260420T182153
END:VEVENT
BEGIN:VEVENT
CLASS:PUBLIC
DTSTART:20240627T180000Z
DURATION:PT2H30M
STATUS:CONFIRMED
SUMMARY:Kickerholixx (NR) vs. Foosball Club FC St. Pauli
DESCRIPTION:2.Liga, Gruppe B (17. Spieltag)\nErgebnis: 18:14 (78:72)
LOCATION:KIXX, Nobistor 38, 22767 Hamburg-Altona-Altstadt
UID:SM-B14997@kickern-hamburg.de
PRIORITY:5
SEQUENCE:1
CATEGORIES:SPORT
DTSTAMP:20260420T182153
END:VEVENT
BEGIN:VEVENT
CLASS:PUBLIC
DTSTART:20240703T180000Z
DURATION:PT2H30M
STATUS:CONFIRMED
SUMMARY:FC St. Pauli Shooting Stars vs. Kickerholixx (NR)
DESCRIPTION:2.Liga, Gruppe B (18. Spieltag)\nErgebnis: 10:22 (68:84)
LOCATION:FC St. Pauli Clubheim, Harald-Stender-Platz 1, 20359 Hamburg-St. Pauli
UID:SM-B15009@kickern-hamburg.de
PRIORITY:5
SEQUENCE:1
CATEGORIES:SPORT
DTSTAMP:20260420T182153
END:VEVENT
END:VCALENDAR
