BEGIN:VCALENDAR
VERSION:2.0
PRODID:PHP
METHOD:REQUEST
X-ORIGINAL-URL:https://kickern-hamburg.de/liga/aktuelle-partien?task=team_begegnungen_ical&id=4406
X-WR-CALNAME;VALUE=TEXT:HSV Norderstedt (NR)
BEGIN:VEVENT
CLASS:PUBLIC
DTSTART:20230905T173000Z
DURATION:PT2H30M
STATUS:CONFIRMED
SUMMARY:HSV Norderstedt (NR) vs. Kickericki
DESCRIPTION:4.Liga, Gruppe A (1. Spieltag)\nErgebnis: 24:8 (88:61)
LOCATION:HSV Tischfußball Sportzentrum, Ulzburger Strasse 94, 22850 Norderstedt
UID:SM-B15553@kickern-hamburg.de
PRIORITY:5
SEQUENCE:1
CATEGORIES:SPORT
DTSTAMP:20260420T194701
END:VEVENT
BEGIN:VEVENT
CLASS:PUBLIC
DTSTART:20230919T173000Z
DURATION:PT2H30M
STATUS:CONFIRMED
SUMMARY:HSV Norderstedt (NR) vs. Flying Circus
DESCRIPTION:Landespokal (1. Runde)\nErgebnis: 11:21 (61:82)
LOCATION:HSV Tischfußball Sportzentrum, Ulzburger Strasse 94, 22850 Norderstedt
UID:SM-B15255@kickern-hamburg.de
PRIORITY:5
SEQUENCE:1
CATEGORIES:SPORT
DTSTAMP:20260420T194701
END:VEVENT
BEGIN:VEVENT
CLASS:PUBLIC
DTSTART:20230921T180000Z
DURATION:PT2H30M
STATUS:CONFIRMED
SUMMARY:Dampframme St. Pauli vs. HSV Norderstedt (NR)
DESCRIPTION:4.Liga, Gruppe A (2. Spieltag)\nErgebnis: 12:20 (58:82)
LOCATION:KIXX, Nobistor 38, 22767 Hamburg-Altona-Altstadt
UID:SM-B15561@kickern-hamburg.de
PRIORITY:5
SEQUENCE:1
CATEGORIES:SPORT
DTSTAMP:20260420T194701
END:VEVENT
BEGIN:VEVENT
CLASS:PUBLIC
DTSTART:20231006T173000Z
DURATION:PT2H30M
STATUS:CONFIRMED
SUMMARY:FC St. Pauli Die Anfänger vs. HSV Norderstedt (NR)
DESCRIPTION:4.Liga, Gruppe A (3. Spieltag)\nErgebnis: 14:18 (64:80)
LOCATION:FC St. Pauli Clubheim, Harald-Stender-Platz 1, 20359 Hamburg-St. Pauli
UID:SM-B15571@kickern-hamburg.de
PRIORITY:5
SEQUENCE:1
CATEGORIES:SPORT
DTSTAMP:20260420T194701
END:VEVENT
BEGIN:VEVENT
CLASS:PUBLIC
DTSTART:20231107T183000Z
DURATION:PT2H30M
STATUS:CONFIRMED
SUMMARY:HSV Norderstedt (NR) vs. Exorbitanter Mumpitz
DESCRIPTION:4.Liga, Gruppe A (4. Spieltag)\nErgebnis: 20:12 (82:73)
LOCATION:HSV Tischfußball Sportzentrum, Ulzburger Strasse 94, 22850 Norderstedt
UID:SM-B15581@kickern-hamburg.de
PRIORITY:5
SEQUENCE:1
CATEGORIES:SPORT
DTSTAMP:20260420T194701
END:VEVENT
BEGIN:VEVENT
CLASS:PUBLIC
DTSTART:20231114T183000Z
DURATION:PT2H30M
STATUS:CONFIRMED
SUMMARY:HSV Norderstedt (NR) vs. The Walking Dead
DESCRIPTION:4.Liga, Gruppe A (5. Spieltag)\nErgebnis: 10:22 (62:85)
LOCATION:HSV Tischfußball Sportzentrum, Ulzburger Strasse 94, 22850 Norderstedt
UID:SM-B15595@kickern-hamburg.de
PRIORITY:5
SEQUENCE:1
CATEGORIES:SPORT
DTSTAMP:20260420T194701
END:VEVENT
BEGIN:VEVENT
CLASS:PUBLIC
DTSTART:20231130T190000Z
DURATION:PT2H30M
STATUS:CONFIRMED
SUMMARY:TischING für Kühlschränke vs. HSV Norderstedt (NR)
DESCRIPTION:Ligapokal 4. Liga (1. Runde)\nErgebnis: 15:17 (75:72)
LOCATION:TUHH Hauptgebäude A, Am Schwarzenberg-Campus 1, 21073 Hamburg
UID:SM-B15647@kickern-hamburg.de
PRIORITY:5
SEQUENCE:1
CATEGORIES:SPORT
DTSTAMP:20260420T194701
END:VEVENT
BEGIN:VEVENT
CLASS:PUBLIC
DTSTART:20231205T190000Z
DURATION:PT2H30M
STATUS:CONFIRMED
SUMMARY:Old School vs. HSV Norderstedt (NR)
DESCRIPTION:4.Liga, Gruppe A (6. Spieltag)\nErgebnis: 15:17 (68:65)
LOCATION:Hannes & Hanna Wohnzimmer (Raucher), Weidenallee 60, 20357 Hamburg-Eimsbüttel
UID:SM-B15603@kickern-hamburg.de
PRIORITY:5
SEQUENCE:1
CATEGORIES:SPORT
DTSTAMP:20260420T194701
END:VEVENT
BEGIN:VEVENT
CLASS:PUBLIC
DTSTART:20240109T183000Z
DURATION:PT2H30M
STATUS:CONFIRMED
SUMMARY:HSV Norderstedt (NR) vs. Torfabrik 2. Silpion (NR)
DESCRIPTION:4.Liga, Gruppe A (7. Spieltag)\nErgebnis: 18:14 (71:68)
LOCATION:HSV Tischfußball Sportzentrum, Ulzburger Strasse 94, 22850 Norderstedt
UID:SM-B15619@kickern-hamburg.de
PRIORITY:5
SEQUENCE:1
CATEGORIES:SPORT
DTSTAMP:20260420T194701
END:VEVENT
BEGIN:VEVENT
CLASS:PUBLIC
DTSTART:20240124T190000Z
DURATION:PT2H30M
STATUS:CONFIRMED
SUMMARY:FC St. Pauli LMB Zwo vs. HSV Norderstedt (NR)
DESCRIPTION:4.Liga, Gruppe A (8. Spieltag)\nErgebnis: 5:27 (46:87)
LOCATION:FC St. Pauli Clubheim, Harald-Stender-Platz 1, 20359 Hamburg-St. Pauli
UID:SM-B15627@kickern-hamburg.de
PRIORITY:5
SEQUENCE:1
CATEGORIES:SPORT
DTSTAMP:20260420T194701
END:VEVENT
BEGIN:VEVENT
CLASS:PUBLIC
DTSTART:20240206T183000Z
DURATION:PT2H30M
STATUS:CONFIRMED
SUMMARY:HSV Norderstedt (NR) vs. Ex Orbit Ants (NR)
DESCRIPTION:4.Liga, Gruppe A (9. Spieltag)\nErgebnis: 14:18 (68:76)
LOCATION:HSV Tischfußball Sportzentrum, Ulzburger Strasse 94, 22850 Norderstedt
UID:SM-B15635@kickern-hamburg.de
PRIORITY:5
SEQUENCE:1
CATEGORIES:SPORT
DTSTAMP:20260420T194701
END:VEVENT
BEGIN:VEVENT
CLASS:PUBLIC
DTSTART:20240222T190000Z
DURATION:PT2H30M
STATUS:CONFIRMED
SUMMARY:Kickericki vs. HSV Norderstedt (NR)
DESCRIPTION:4.Liga, Gruppe A (10. Spieltag)\nErgebnis: 11:21 (59:78)
LOCATION:Parzelle 15 (RAUCHER), Hamburger Berg 15, 20359 Hamburg-St. Pauli
UID:SM-B15554@kickern-hamburg.de
PRIORITY:5
SEQUENCE:1
CATEGORIES:SPORT
DTSTAMP:20260420T194701
END:VEVENT
BEGIN:VEVENT
CLASS:PUBLIC
DTSTART:20240305T183000Z
DURATION:PT2H30M
STATUS:CONFIRMED
SUMMARY:HSV Norderstedt (NR) vs. Dampframme St. Pauli
DESCRIPTION:4.Liga, Gruppe A (11. Spieltag)\nErgebnis: 26:6 (88:51)
LOCATION:HSV Tischfußball Sportzentrum, Ulzburger Strasse 94, 22850 Norderstedt
UID:SM-B15562@kickern-hamburg.de
PRIORITY:5
SEQUENCE:1
CATEGORIES:SPORT
DTSTAMP:20260420T194701
END:VEVENT
BEGIN:VEVENT
CLASS:PUBLIC
DTSTART:20240402T173000Z
DURATION:PT2H30M
STATUS:CONFIRMED
SUMMARY:HSV Norderstedt (NR) vs. FC St. Pauli Die Anfänger
DESCRIPTION:4.Liga, Gruppe A (12. Spieltag)\nErgebnis: 15:17 (74:77)
LOCATION:HSV Tischfußball Sportzentrum, Ulzburger Strasse 94, 22850 Norderstedt
UID:SM-B15572@kickern-hamburg.de
PRIORITY:5
SEQUENCE:1
CATEGORIES:SPORT
DTSTAMP:20260420T194701
END:VEVENT
BEGIN:VEVENT
CLASS:PUBLIC
DTSTART:20240425T180000Z
DURATION:PT2H30M
STATUS:CONFIRMED
SUMMARY:Exorbitanter Mumpitz vs. HSV Norderstedt (NR)
DESCRIPTION:4.Liga, Gruppe A (13. Spieltag)\nErgebnis: 15:17 (76:73)
LOCATION:Joy, Winterhuder Weg 69, 22085 Hamburg-Uhlenhorst
UID:SM-B15582@kickern-hamburg.de
PRIORITY:5
SEQUENCE:1
CATEGORIES:SPORT
DTSTAMP:20260420T194701
END:VEVENT
BEGIN:VEVENT
CLASS:PUBLIC
DTSTART:20240502T180000Z
DURATION:PT2H30M
STATUS:CONFIRMED
SUMMARY:The Walking Dead vs. HSV Norderstedt (NR)
DESCRIPTION:4.Liga, Gruppe A (14. Spieltag)\nErgebnis: 16:16 (75:71)
LOCATION:Parzelle 15 (RAUCHER), Hamburger Berg 15, 20359 Hamburg-St. Pauli
UID:SM-B15596@kickern-hamburg.de
PRIORITY:5
SEQUENCE:1
CATEGORIES:SPORT
DTSTAMP:20260420T194701
END:VEVENT
BEGIN:VEVENT
CLASS:PUBLIC
DTSTART:20240514T173000Z
DURATION:PT2H30M
STATUS:CONFIRMED
SUMMARY:HSV Norderstedt (NR) vs. Old School
DESCRIPTION:4.Liga, Gruppe A (15. Spieltag)\nErgebnis: 18:14 (68:70)
LOCATION:HSV Tischfußball Sportzentrum, Ulzburger Strasse 94, 22850 Norderstedt
UID:SM-B15604@kickern-hamburg.de
PRIORITY:5
SEQUENCE:1
CATEGORIES:SPORT
DTSTAMP:20260420T194701
END:VEVENT
BEGIN:VEVENT
CLASS:PUBLIC
DTSTART:20240606T180000Z
DURATION:PT2H30M
STATUS:CONFIRMED
SUMMARY:Torfabrik 2. Silpion (NR) vs. HSV Norderstedt (NR)
DESCRIPTION:4.Liga, Gruppe A (16. Spieltag)\nErgebnis: 14:18 (65:69)
LOCATION:Die Torfabrik, Zum Sportplatz 10, 21220 Seevetal
UID:SM-B15620@kickern-hamburg.de
PRIORITY:5
SEQUENCE:1
CATEGORIES:SPORT
DTSTAMP:20260420T194701
END:VEVENT
BEGIN:VEVENT
CLASS:PUBLIC
DTSTART:20240626T180000Z
DURATION:PT2H30M
STATUS:CONFIRMED
SUMMARY:FC St. Pauli LMB Zwo vs. HSV Norderstedt (NR)
DESCRIPTION:4.Liga, Gruppe A (17. Spieltag)\nErgebnis: 10:22 (65:86)
LOCATION:FC St. Pauli Clubheim, Harald-Stender-Platz 1, 20359 Hamburg-St. Pauli
UID:SM-B15628@kickern-hamburg.de
PRIORITY:5
SEQUENCE:1
CATEGORIES:SPORT
DTSTAMP:20260420T194701
END:VEVENT
BEGIN:VEVENT
CLASS:PUBLIC
DTSTART:20240702T180000Z
DURATION:PT2H30M
STATUS:CONFIRMED
SUMMARY:Ex Orbit Ants (NR) vs. HSV Norderstedt (NR)
DESCRIPTION:4.Liga, Gruppe A (18. Spieltag)\nErgebnis: 21:11 (82:58)
LOCATION:Joy, Winterhuder Weg 69, 22085 Hamburg-Uhlenhorst
UID:SM-B15636@kickern-hamburg.de
PRIORITY:5
SEQUENCE:1
CATEGORIES:SPORT
DTSTAMP:20260420T194701
END:VEVENT
END:VCALENDAR
