BEGIN:VCALENDAR
VERSION:2.0
PRODID:PHP
METHOD:REQUEST
X-ORIGINAL-URL:https://kickern-hamburg.de/liga/aktuelle-partien?task=team_begegnungen_ical&id=4398
X-WR-CALNAME;VALUE=TEXT:Gadgettos II (NR)
BEGIN:VEVENT
CLASS:PUBLIC
DTSTART:20230914T180000Z
DURATION:PT2H30M
STATUS:CONFIRMED
SUMMARY:Chupacabras vs. Gadgettos II (NR)
DESCRIPTION:1.Liga (1. Spieltag)\nErgebnis: 18:14 (75:72)
LOCATION:KIXX, Nobistor 38, 22767 Hamburg-Altona-Altstadt
UID:SM-B14744@kickern-hamburg.de
PRIORITY:5
SEQUENCE:1
CATEGORIES:SPORT
DTSTAMP:20260420T194556
END:VEVENT
BEGIN:VEVENT
CLASS:PUBLIC
DTSTART:20230928T173000Z
DURATION:PT2H30M
STATUS:CONFIRMED
SUMMARY:Gadgettos II (NR) vs. Cim Bom Bom II (NR)
DESCRIPTION:1.Liga (2. Spieltag)\nErgebnis: 9:23 (63:86)
LOCATION:KIXX, Nobistor 38, 22767 Hamburg-Altona-Altstadt
UID:SM-B14754@kickern-hamburg.de
PRIORITY:5
SEQUENCE:1
CATEGORIES:SPORT
DTSTAMP:20260420T194556
END:VEVENT
BEGIN:VEVENT
CLASS:PUBLIC
DTSTART:20231010T173000Z
DURATION:PT2H30M
STATUS:CONFIRMED
SUMMARY:Fivebar II vs. Gadgettos II (NR)
DESCRIPTION:1.Liga (3. Spieltag)\nErgebnis: 15:17 (72:74)
LOCATION:KIXX, Nobistor 38, 22767 Hamburg-Altona-Altstadt
UID:SM-B14766@kickern-hamburg.de
PRIORITY:5
SEQUENCE:1
CATEGORIES:SPORT
DTSTAMP:20260420T194556
END:VEVENT
BEGIN:VEVENT
CLASS:PUBLIC
DTSTART:20231013T180000Z
DURATION:PT2H30M
STATUS:CONFIRMED
SUMMARY:Team St. Pauli 05 vs. Gadgettos II (NR)
DESCRIPTION:Landespokal (1. Runde)\nErgebnis: 0:2 (0:2)
LOCATION:Roschinsky's (RAUCHER), Hamburger Berg 19, 20359 Hamburg-St. Pauli
UID:SM-B15268@kickern-hamburg.de
PRIORITY:5
SEQUENCE:1
CATEGORIES:SPORT
DTSTAMP:20260420T194556
END:VEVENT
BEGIN:VEVENT
CLASS:PUBLIC
DTSTART:20231102T183000Z
DURATION:PT2H30M
STATUS:CONFIRMED
SUMMARY:Gadgettos II (NR) vs. JLZ NortHHunters (NR)
DESCRIPTION:1.Liga (4. Spieltag)\nErgebnis: 15:17 (76:78)
LOCATION:KIXX, Nobistor 38, 22767 Hamburg-Altona-Altstadt
UID:SM-B14776@kickern-hamburg.de
PRIORITY:5
SEQUENCE:1
CATEGORIES:SPORT
DTSTAMP:20260420T194556
END:VEVENT
BEGIN:VEVENT
CLASS:PUBLIC
DTSTART:20231115T190000Z
DURATION:PT2H30M
STATUS:CONFIRMED
SUMMARY:Nen Rudel Gurken vs. Gadgettos II (NR)
DESCRIPTION:Landespokal (2. Runde)\nErgebnis: 8:24 (57:88)
LOCATION:Bambi Bar, Hamburger Berg 14, 20359 Hamburg
UID:SM-B15687@kickern-hamburg.de
PRIORITY:5
SEQUENCE:1
CATEGORIES:SPORT
DTSTAMP:20260420T194556
END:VEVENT
BEGIN:VEVENT
CLASS:PUBLIC
DTSTART:20231123T190000Z
DURATION:PT2H30M
STATUS:CONFIRMED
SUMMARY:BSC Überbande II vs. Gadgettos II (NR)
DESCRIPTION:1.Liga (5. Spieltag)\nErgebnis: 26:6 (90:62)
LOCATION:KIXX, Nobistor 38, 22767 Hamburg-Altona-Altstadt
UID:SM-B14782@kickern-hamburg.de
PRIORITY:5
SEQUENCE:1
CATEGORIES:SPORT
DTSTAMP:20260420T194556
END:VEVENT
BEGIN:VEVENT
CLASS:PUBLIC
DTSTART:20231207T183000Z
DURATION:PT2H30M
STATUS:CONFIRMED
SUMMARY:Gadgettos II (NR) vs. HSV II Kurbelkraft (NR)
DESCRIPTION:1.Liga (6. Spieltag)\nErgebnis: 10:22 (57:85)
LOCATION:KIXX, Nobistor 38, 22767 Hamburg-Altona-Altstadt
UID:SM-B14792@kickern-hamburg.de
PRIORITY:5
SEQUENCE:1
CATEGORIES:SPORT
DTSTAMP:20260420T194556
END:VEVENT
BEGIN:VEVENT
CLASS:PUBLIC
DTSTART:20240111T183000Z
DURATION:PT2H30M
STATUS:CONFIRMED
SUMMARY:Gadgettos II (NR) vs. Lotterie (NR)
DESCRIPTION:1.Liga (7. Spieltag)\nErgebnis: 17:15 (74:76)
LOCATION:KIXX, Nobistor 38, 22767 Hamburg-Altona-Altstadt
UID:SM-B14808@kickern-hamburg.de
PRIORITY:5
SEQUENCE:1
CATEGORIES:SPORT
DTSTAMP:20260420T194556
END:VEVENT
BEGIN:VEVENT
CLASS:PUBLIC
DTSTART:20240125T180000Z
DURATION:PT2H30M
STATUS:CONFIRMED
SUMMARY:Gadgettos II (NR) vs. Fightclub FC St. Pauli II
DESCRIPTION:Landespokal (3. Runde)\nErgebnis: 20:6 (71:53)
LOCATION:KIXX, Nobistor 38, 22767 Hamburg-Altona-Altstadt
UID:SM-B15718@kickern-hamburg.de
PRIORITY:5
SEQUENCE:1
CATEGORIES:SPORT
DTSTAMP:20260420T194556
END:VEVENT
BEGIN:VEVENT
CLASS:PUBLIC
DTSTART:20240202T190000Z
DURATION:PT2H30M
STATUS:CONFIRMED
SUMMARY:Fightclub FC St. Pauli II vs. Gadgettos II (NR)
DESCRIPTION:1.Liga (8. Spieltag)\nErgebnis: 8:24 (63:88)
LOCATION:FC St. Pauli Clubheim, Harald-Stender-Platz 1, 20359 Hamburg-St. Pauli
UID:SM-B14816@kickern-hamburg.de
PRIORITY:5
SEQUENCE:1
CATEGORIES:SPORT
DTSTAMP:20260420T194556
END:VEVENT
BEGIN:VEVENT
CLASS:PUBLIC
DTSTART:20240215T183000Z
DURATION:PT2H30M
STATUS:CONFIRMED
SUMMARY:Gadgettos II (NR) vs. Die Maschinerie II
DESCRIPTION:1.Liga (9. Spieltag)\nErgebnis: 8:24 (56:87)
LOCATION:KIXX, Nobistor 38, 22767 Hamburg-Altona-Altstadt
UID:SM-B14828@kickern-hamburg.de
PRIORITY:5
SEQUENCE:1
CATEGORIES:SPORT
DTSTAMP:20260420T194556
END:VEVENT
BEGIN:VEVENT
CLASS:PUBLIC
DTSTART:20240229T190000Z
DURATION:PT2H30M
STATUS:CONFIRMED
SUMMARY:Gadgettos II (NR) vs. Chupacabras
DESCRIPTION:1.Liga (10. Spieltag)\nErgebnis: 17:15 (77:73)
LOCATION:KIXX, Nobistor 38, 22767 Hamburg-Altona-Altstadt
UID:SM-B14745@kickern-hamburg.de
PRIORITY:5
SEQUENCE:1
CATEGORIES:SPORT
DTSTAMP:20260420T194556
END:VEVENT
BEGIN:VEVENT
CLASS:PUBLIC
DTSTART:20240305T180000Z
DURATION:PT2H30M
STATUS:CONFIRMED
SUMMARY:Goalzillas 2 (NR) vs. Gadgettos II (NR)
DESCRIPTION:Landespokal (4. Runde)\nErgebnis: 15:17 (72:75)
LOCATION:KIXX, Nobistor 38, 22767 Hamburg-Altona-Altstadt
UID:SM-B15747@kickern-hamburg.de
PRIORITY:5
SEQUENCE:1
CATEGORIES:SPORT
DTSTAMP:20260420T194556
END:VEVENT
BEGIN:VEVENT
CLASS:PUBLIC
DTSTART:20240312T183000Z
DURATION:PT2H30M
STATUS:CONFIRMED
SUMMARY:Cim Bom Bom II (NR) vs. Gadgettos II (NR)
DESCRIPTION:1.Liga (11. Spieltag)\nErgebnis: 24:8 (85:65)
LOCATION:KIXX, Nobistor 38, 22767 Hamburg-Altona-Altstadt
UID:SM-B14755@kickern-hamburg.de
PRIORITY:5
SEQUENCE:1
CATEGORIES:SPORT
DTSTAMP:20260420T194556
END:VEVENT
BEGIN:VEVENT
CLASS:PUBLIC
DTSTART:20240411T173000Z
DURATION:PT2H30M
STATUS:CONFIRMED
SUMMARY:Gadgettos II (NR) vs. Fivebar II
DESCRIPTION:1.Liga (12. Spieltag)\nErgebnis: 11:21 (63:81)
LOCATION:KIXX, Nobistor 38, 22767 Hamburg-Altona-Altstadt
UID:SM-B14767@kickern-hamburg.de
PRIORITY:5
SEQUENCE:1
CATEGORIES:SPORT
DTSTAMP:20260420T194556
END:VEVENT
BEGIN:VEVENT
CLASS:PUBLIC
DTSTART:20240418T180000Z
DURATION:PT2H30M
STATUS:CONFIRMED
SUMMARY:FC St. Pauli Kneipenstyle vs. Gadgettos II (NR)
DESCRIPTION:Landespokal (5. Runde)\nErgebnis: 9:23 (57:85)
LOCATION:KIXX, Nobistor 38, 22767 Hamburg-Altona-Altstadt
UID:SM-B15754@kickern-hamburg.de
PRIORITY:5
SEQUENCE:1
CATEGORIES:SPORT
DTSTAMP:20260420T194556
END:VEVENT
BEGIN:VEVENT
CLASS:PUBLIC
DTSTART:20240423T180000Z
DURATION:PT2H30M
STATUS:CONFIRMED
SUMMARY:JLZ NortHHunters (NR) vs. Gadgettos II (NR)
DESCRIPTION:1.Liga (13. Spieltag)\nErgebnis: 15:17 (73:79)
LOCATION:Jugendleistungszentrum HdJ Lattenkamp, Bebelallee 22, 22299 Hamburg-Winterhude
UID:SM-B14777@kickern-hamburg.de
PRIORITY:5
SEQUENCE:1
CATEGORIES:SPORT
DTSTAMP:20260420T194556
END:VEVENT
BEGIN:VEVENT
CLASS:PUBLIC
DTSTART:20240502T173000Z
DURATION:PT2H30M
STATUS:CONFIRMED
SUMMARY:Gadgettos II (NR) vs. BSC Überbande II
DESCRIPTION:1.Liga (14. Spieltag)\nErgebnis: 22:10 (86:65)
LOCATION:KIXX, Nobistor 38, 22767 Hamburg-Altona-Altstadt
UID:SM-B14783@kickern-hamburg.de
PRIORITY:5
SEQUENCE:1
CATEGORIES:SPORT
DTSTAMP:20260420T194556
END:VEVENT
BEGIN:VEVENT
CLASS:PUBLIC
DTSTART:20240528T170000Z
DURATION:PT2H30M
STATUS:CONFIRMED
SUMMARY:HSV II Kurbelkraft (NR) vs. Gadgettos II (NR)
DESCRIPTION:1.Liga (15. Spieltag)\nErgebnis: 20:12 (79:72)
LOCATION:KIXX, Nobistor 38, 22767 Hamburg-Altona-Altstadt
UID:SM-B14793@kickern-hamburg.de
PRIORITY:5
SEQUENCE:1
CATEGORIES:SPORT
DTSTAMP:20260420T194556
END:VEVENT
BEGIN:VEVENT
CLASS:PUBLIC
DTSTART:20240601T140000Z
DURATION:PT2H30M
STATUS:CONFIRMED
SUMMARY:BSC Überbande II vs. Gadgettos II (NR)
DESCRIPTION:Landespokal (Halbfinale)\nErgebnis: 17:11 (72:62)
LOCATION:KIXX, Nobistor 38, 22767 Hamburg-Altona-Altstadt
UID:SM-B15759@kickern-hamburg.de
PRIORITY:5
SEQUENCE:1
CATEGORIES:SPORT
DTSTAMP:20260420T194556
END:VEVENT
BEGIN:VEVENT
CLASS:PUBLIC
DTSTART:20240613T180000Z
DURATION:PT2H30M
STATUS:CONFIRMED
SUMMARY:Lotterie (NR) vs. Gadgettos II (NR)
DESCRIPTION:1.Liga (16. Spieltag)\nErgebnis: 17:15 (75:68)
LOCATION:Deutsche Seemannsmission Hamburg-Altona, Große Elbstraße 132, 22767 Hamburg-Altona
UID:SM-B14809@kickern-hamburg.de
PRIORITY:5
SEQUENCE:1
CATEGORIES:SPORT
DTSTAMP:20260420T194556
END:VEVENT
BEGIN:VEVENT
CLASS:PUBLIC
DTSTART:20240620T173000Z
DURATION:PT2H30M
STATUS:CONFIRMED
SUMMARY:Gadgettos II (NR) vs. Fightclub FC St. Pauli II
DESCRIPTION:1.Liga (17. Spieltag)\nErgebnis: 16:16 (73:75)
LOCATION:KIXX, Nobistor 38, 22767 Hamburg-Altona-Altstadt
UID:SM-B14817@kickern-hamburg.de
PRIORITY:5
SEQUENCE:1
CATEGORIES:SPORT
DTSTAMP:20260420T194556
END:VEVENT
BEGIN:VEVENT
CLASS:PUBLIC
DTSTART:20240709T180000Z
DURATION:PT2H30M
STATUS:CONFIRMED
SUMMARY:Die Maschinerie II vs. Gadgettos II (NR)
DESCRIPTION:1.Liga (18. Spieltag)\nErgebnis: 21:11 (81:63)
LOCATION:KIXX, Nobistor 38, 22767 Hamburg-Altona-Altstadt
UID:SM-B14829@kickern-hamburg.de
PRIORITY:5
SEQUENCE:1
CATEGORIES:SPORT
DTSTAMP:20260420T194556
END:VEVENT
END:VCALENDAR
