BEGIN:VCALENDAR
VERSION:2.0
PRODID:PHP
METHOD:REQUEST
X-ORIGINAL-URL:https://kickern-hamburg.de/liga/aktuelle-partien?task=team_begegnungen_ical&id=4386
X-WR-CALNAME;VALUE=TEXT:Dampframme St. Pauli
BEGIN:VEVENT
CLASS:PUBLIC
DTSTART:20230906T180000Z
DURATION:PT2H30M
STATUS:CONFIRMED
SUMMARY:FC St. Pauli Die Anfänger vs. Dampframme St. Pauli
DESCRIPTION:4.Liga, Gruppe A (1. Spieltag)\nErgebnis: 25:7 (87:55)
LOCATION:FC St. Pauli Clubheim, Harald-Stender-Platz 1, 20359 Hamburg-St. Pauli
UID:SM-B15551@kickern-hamburg.de
PRIORITY:5
SEQUENCE:1
CATEGORIES:SPORT
DTSTAMP:20260420T194654
END:VEVENT
BEGIN:VEVENT
CLASS:PUBLIC
DTSTART:20230921T180000Z
DURATION:PT2H30M
STATUS:CONFIRMED
SUMMARY:Dampframme St. Pauli vs. HSV Norderstedt (NR)
DESCRIPTION:4.Liga, Gruppe A (2. Spieltag)\nErgebnis: 12:20 (58:82)
LOCATION:KIXX, Nobistor 38, 22767 Hamburg-Altona-Altstadt
UID:SM-B15561@kickern-hamburg.de
PRIORITY:5
SEQUENCE:1
CATEGORIES:SPORT
DTSTAMP:20260420T194654
END:VEVENT
BEGIN:VEVENT
CLASS:PUBLIC
DTSTART:20231005T180000Z
DURATION:PT2H30M
STATUS:CONFIRMED
SUMMARY:Dampframme St. Pauli vs. Kickericki
DESCRIPTION:4.Liga, Gruppe A (3. Spieltag)\nErgebnis: 18:14 (76:64)
LOCATION:KIXX, Nobistor 38, 22767 Hamburg-Altona-Altstadt
UID:SM-B15575@kickern-hamburg.de
PRIORITY:5
SEQUENCE:1
CATEGORIES:SPORT
DTSTAMP:20260420T194654
END:VEVENT
BEGIN:VEVENT
CLASS:PUBLIC
DTSTART:20231018T180000Z
DURATION:PT2H30M
STATUS:CONFIRMED
SUMMARY:Wohnzimmer Kapeiken vs. Dampframme St. Pauli
DESCRIPTION:Ligapokal 4. Liga (1. Runde)\nErgebnis: 11:21 (63:82)
LOCATION:Hannes & Hanna Wohnzimmer (Raucher), Weidenallee 60, 20357 Hamburg-Eimsbüttel
UID:SM-B15652@kickern-hamburg.de
PRIORITY:5
SEQUENCE:1
CATEGORIES:SPORT
DTSTAMP:20260420T194654
END:VEVENT
BEGIN:VEVENT
CLASS:PUBLIC
DTSTART:20231102T190000Z
DURATION:PT2H30M
STATUS:CONFIRMED
SUMMARY:Torfabrik 2. Silpion (NR) vs. Dampframme St. Pauli
DESCRIPTION:4.Liga, Gruppe A (4. Spieltag)\nErgebnis: 25:7 (86:52)
LOCATION:Die Torfabrik, Zum Sportplatz 10, 21220 Seevetal
UID:SM-B15583@kickern-hamburg.de
PRIORITY:5
SEQUENCE:1
CATEGORIES:SPORT
DTSTAMP:20260420T194654
END:VEVENT
BEGIN:VEVENT
CLASS:PUBLIC
DTSTART:20231116T190000Z
DURATION:PT2H30M
STATUS:CONFIRMED
SUMMARY:Dampframme St. Pauli vs. Exorbitanter Mumpitz
DESCRIPTION:4.Liga, Gruppe A (5. Spieltag)\nErgebnis: 9:23 (51:85)
LOCATION:KIXX, Nobistor 38, 22767 Hamburg-Altona-Altstadt
UID:SM-B15599@kickern-hamburg.de
PRIORITY:5
SEQUENCE:1
CATEGORIES:SPORT
DTSTAMP:20260420T194654
END:VEVENT
BEGIN:VEVENT
CLASS:PUBLIC
DTSTART:20231123T190000Z
DURATION:PT2H30M
STATUS:CONFIRMED
SUMMARY:Dampframme St. Pauli vs. Foosball Club FC St. Pauli
DESCRIPTION:Landespokal (2. Runde)\nErgebnis: 0:2 (0:2)
LOCATION:KIXX, Nobistor 38, 22767 Hamburg-Altona-Altstadt
UID:SM-B15678@kickern-hamburg.de
PRIORITY:5
SEQUENCE:1
CATEGORIES:SPORT
DTSTAMP:20260420T194654
END:VEVENT
BEGIN:VEVENT
CLASS:PUBLIC
DTSTART:20231129T190000Z
DURATION:PT2H30M
STATUS:CONFIRMED
SUMMARY:FC St. Pauli LMB Zwo vs. Dampframme St. Pauli
DESCRIPTION:4.Liga, Gruppe A (6. Spieltag)\nErgebnis: 12:20 (60:79)
LOCATION:FC St. Pauli Clubheim, Harald-Stender-Platz 1, 20359 Hamburg-St. Pauli
UID:SM-B15607@kickern-hamburg.de
PRIORITY:5
SEQUENCE:1
CATEGORIES:SPORT
DTSTAMP:20260420T194654
END:VEVENT
BEGIN:VEVENT
CLASS:PUBLIC
DTSTART:20240104T190000Z
DURATION:PT2H30M
STATUS:CONFIRMED
SUMMARY:Dampframme St. Pauli vs. Trash N' Talk
DESCRIPTION:Ligapokal 4. Liga (2. Runde)\nErgebnis: 10:22 (65:82)
LOCATION:KIXX, Nobistor 38, 22767 Hamburg-Altona-Altstadt
UID:SM-B15702@kickern-hamburg.de
PRIORITY:5
SEQUENCE:1
CATEGORIES:SPORT
DTSTAMP:20260420T194654
END:VEVENT
BEGIN:VEVENT
CLASS:PUBLIC
DTSTART:20240118T190000Z
DURATION:PT2H30M
STATUS:CONFIRMED
SUMMARY:Dampframme St. Pauli vs. Old School
DESCRIPTION:4.Liga, Gruppe A (7. Spieltag)\nErgebnis: 7:25 (48:84)
LOCATION:KIXX, Nobistor 38, 22767 Hamburg-Altona-Altstadt
UID:SM-B15613@kickern-hamburg.de
PRIORITY:5
SEQUENCE:1
CATEGORIES:SPORT
DTSTAMP:20260420T194654
END:VEVENT
BEGIN:VEVENT
CLASS:PUBLIC
DTSTART:20240123T190000Z
DURATION:PT2H30M
STATUS:CONFIRMED
SUMMARY:Ex Orbit Ants (NR) vs. Dampframme St. Pauli
DESCRIPTION:4.Liga, Gruppe A (8. Spieltag)\nErgebnis: 27:5 (89:51)
LOCATION:Joy, Winterhuder Weg 69, 22085 Hamburg-Uhlenhorst
UID:SM-B15621@kickern-hamburg.de
PRIORITY:5
SEQUENCE:1
CATEGORIES:SPORT
DTSTAMP:20260420T194654
END:VEVENT
BEGIN:VEVENT
CLASS:PUBLIC
DTSTART:20240208T190000Z
DURATION:PT2H30M
STATUS:CONFIRMED
SUMMARY:Dampframme St. Pauli vs. The Walking Dead
DESCRIPTION:4.Liga, Gruppe A (9. Spieltag)\nErgebnis: 9:23 (56:85)
LOCATION:KIXX, Nobistor 38, 22767 Hamburg-Altona-Altstadt
UID:SM-B15633@kickern-hamburg.de
PRIORITY:5
SEQUENCE:1
CATEGORIES:SPORT
DTSTAMP:20260420T194654
END:VEVENT
BEGIN:VEVENT
CLASS:PUBLIC
DTSTART:20240222T190000Z
DURATION:PT2H30M
STATUS:CONFIRMED
SUMMARY:Dampframme St. Pauli vs. FC St. Pauli Die Anfänger
DESCRIPTION:4.Liga, Gruppe A (10. Spieltag)\nErgebnis: 13:19 (68:79)
LOCATION:KIXX, Nobistor 38, 22767 Hamburg-Altona-Altstadt
UID:SM-B15552@kickern-hamburg.de
PRIORITY:5
SEQUENCE:1
CATEGORIES:SPORT
DTSTAMP:20260420T194654
END:VEVENT
BEGIN:VEVENT
CLASS:PUBLIC
DTSTART:20240305T183000Z
DURATION:PT2H30M
STATUS:CONFIRMED
SUMMARY:HSV Norderstedt (NR) vs. Dampframme St. Pauli
DESCRIPTION:4.Liga, Gruppe A (11. Spieltag)\nErgebnis: 26:6 (88:51)
LOCATION:HSV Tischfußball Sportzentrum, Ulzburger Strasse 94, 22850 Norderstedt
UID:SM-B15562@kickern-hamburg.de
PRIORITY:5
SEQUENCE:1
CATEGORIES:SPORT
DTSTAMP:20260420T194654
END:VEVENT
BEGIN:VEVENT
CLASS:PUBLIC
DTSTART:20240404T180000Z
DURATION:PT2H30M
STATUS:CONFIRMED
SUMMARY:Kickericki vs. Dampframme St. Pauli
DESCRIPTION:4.Liga, Gruppe A (12. Spieltag)\nErgebnis: 23:9 (84:58)
LOCATION:Parzelle 15 (RAUCHER), Hamburger Berg 15, 20359 Hamburg-St. Pauli
UID:SM-B15576@kickern-hamburg.de
PRIORITY:5
SEQUENCE:1
CATEGORIES:SPORT
DTSTAMP:20260420T194654
END:VEVENT
BEGIN:VEVENT
CLASS:PUBLIC
DTSTART:20240418T180000Z
DURATION:PT2H30M
STATUS:CONFIRMED
SUMMARY:Dampframme St. Pauli vs. Torfabrik 2. Silpion (NR)
DESCRIPTION:4.Liga, Gruppe A (13. Spieltag)\nErgebnis: 14:18 (66:75)
LOCATION:KIXX, Nobistor 38, 22767 Hamburg-Altona-Altstadt
UID:SM-B15584@kickern-hamburg.de
PRIORITY:5
SEQUENCE:1
CATEGORIES:SPORT
DTSTAMP:20260420T194654
END:VEVENT
BEGIN:VEVENT
CLASS:PUBLIC
DTSTART:20240502T180000Z
DURATION:PT2H30M
STATUS:CONFIRMED
SUMMARY:Exorbitanter Mumpitz vs. Dampframme St. Pauli
DESCRIPTION:4.Liga, Gruppe A (14. Spieltag)\nErgebnis: 28:4 (92:37)
LOCATION:Joy, Winterhuder Weg 69, 22085 Hamburg-Uhlenhorst
UID:SM-B15600@kickern-hamburg.de
PRIORITY:5
SEQUENCE:1
CATEGORIES:SPORT
DTSTAMP:20260420T194654
END:VEVENT
BEGIN:VEVENT
CLASS:PUBLIC
DTSTART:20240515T180000Z
DURATION:PT2H30M
STATUS:CONFIRMED
SUMMARY:FC St. Pauli LMB Zwo vs. Dampframme St. Pauli
DESCRIPTION:4.Liga, Gruppe A (15. Spieltag)\nErgebnis: 9:23 (54:84)
LOCATION:FC St. Pauli Clubheim, Harald-Stender-Platz 1, 20359 Hamburg-St. Pauli
UID:SM-B15608@kickern-hamburg.de
PRIORITY:5
SEQUENCE:1
CATEGORIES:SPORT
DTSTAMP:20260420T194654
END:VEVENT
BEGIN:VEVENT
CLASS:PUBLIC
DTSTART:20240604T180000Z
DURATION:PT2H30M
STATUS:CONFIRMED
SUMMARY:Old School vs. Dampframme St. Pauli
DESCRIPTION:4.Liga, Gruppe A (16. Spieltag)\nErgebnis: 23:9 (82:55)
LOCATION:Hannes & Hanna Wohnzimmer (Raucher), Weidenallee 60, 20357 Hamburg-Eimsbüttel
UID:SM-B15614@kickern-hamburg.de
PRIORITY:5
SEQUENCE:1
CATEGORIES:SPORT
DTSTAMP:20260420T194654
END:VEVENT
BEGIN:VEVENT
CLASS:PUBLIC
DTSTART:20240626T180000Z
DURATION:PT2H30M
STATUS:CONFIRMED
SUMMARY:Dampframme St. Pauli vs. Ex Orbit Ants (NR)
DESCRIPTION:4.Liga, Gruppe A (17. Spieltag)\nErgebnis: 9:23 (62:85)
LOCATION:KIXX, Nobistor 38, 22767 Hamburg-Altona-Altstadt
UID:SM-B15622@kickern-hamburg.de
PRIORITY:5
SEQUENCE:1
CATEGORIES:SPORT
DTSTAMP:20260420T194654
END:VEVENT
BEGIN:VEVENT
CLASS:PUBLIC
DTSTART:20240704T180000Z
DURATION:PT2H30M
STATUS:CONFIRMED
SUMMARY:The Walking Dead vs. Dampframme St. Pauli
DESCRIPTION:4.Liga, Gruppe A (18. Spieltag)\nErgebnis: 21:11 (77:59)
LOCATION:Parzelle 15 (RAUCHER), Hamburger Berg 15, 20359 Hamburg-St. Pauli
UID:SM-B15634@kickern-hamburg.de
PRIORITY:5
SEQUENCE:1
CATEGORIES:SPORT
DTSTAMP:20260420T194654
END:VEVENT
END:VCALENDAR
