BEGIN:VCALENDAR
VERSION:2.0
PRODID:PHP
METHOD:REQUEST
X-ORIGINAL-URL:https://kickern-hamburg.de/liga/aktuelle-partien?task=team_begegnungen_ical&id=4806
X-WR-CALNAME;VALUE=TEXT:Trash N' Talk
BEGIN:VEVENT
CLASS:PUBLIC
DTSTART:20230906T180000Z
DURATION:PT2H30M
STATUS:CONFIRMED
SUMMARY:Spaceshots Hamburg vs. Trash N' Talk
DESCRIPTION:4.Liga, Gruppe B (1. Spieltag)\nErgebnis: 10:22 (62:84)
LOCATION:KIXX, Nobistor 38, 22767 Hamburg-Altona-Altstadt
UID:SM-B15379@kickern-hamburg.de
PRIORITY:5
SEQUENCE:1
CATEGORIES:SPORT
DTSTAMP:20260420T182611
BEGIN:VALARM
ACTION:DISPLAY
TRIGGER:-PT2H
END:VALARM
END:VEVENT
BEGIN:VEVENT
CLASS:PUBLIC
DTSTART:20230920T180000Z
DURATION:PT2H30M
STATUS:CONFIRMED
SUMMARY:FC St. Pauli LMB vs. Trash N' Talk
DESCRIPTION:4.Liga, Gruppe B (2. Spieltag)\nErgebnis: 5:27 (45:88)
LOCATION:FC St. Pauli Clubheim, Harald-Stender-Platz 1, 20359 Hamburg-St. Pauli
UID:SM-B15389@kickern-hamburg.de
PRIORITY:5
SEQUENCE:1
CATEGORIES:SPORT
DTSTAMP:20260420T182611
BEGIN:VALARM
ACTION:DISPLAY
TRIGGER:-PT2H
END:VALARM
END:VEVENT
BEGIN:VEVENT
CLASS:PUBLIC
DTSTART:20231006T170000Z
DURATION:PT2H30M
STATUS:CONFIRMED
SUMMARY:Kellerkicker Bergedorf vs. Trash N' Talk
DESCRIPTION:4.Liga, Gruppe B (3. Spieltag)\nErgebnis: 14:18 (66:80)
LOCATION:„Kickerkeller“ Stadtteilschule Richard-L, Richard-Linde-Weg 49, 21033 Hamburg-Lohbrügge
UID:SM-B15397@kickern-hamburg.de
PRIORITY:5
SEQUENCE:1
CATEGORIES:SPORT
DTSTAMP:20260420T182611
BEGIN:VALARM
ACTION:DISPLAY
TRIGGER:-PT2H
END:VALARM
END:VEVENT
BEGIN:VEVENT
CLASS:PUBLIC
DTSTART:20231012T180000Z
DURATION:PT2H30M
STATUS:CONFIRMED
SUMMARY:Mauzis vs. Trash N' Talk
DESCRIPTION:Landespokal (1. Runde)\nErgebnis: 20:12 (76:66)
LOCATION:KIXX, Nobistor 38, 22767 Hamburg-Altona-Altstadt
UID:SM-B15264@kickern-hamburg.de
PRIORITY:5
SEQUENCE:1
CATEGORIES:SPORT
DTSTAMP:20260420T182611
BEGIN:VALARM
ACTION:DISPLAY
TRIGGER:-PT2H
END:VALARM
END:VEVENT
BEGIN:VEVENT
CLASS:PUBLIC
DTSTART:20231026T180000Z
DURATION:PT2H30M
STATUS:CONFIRMED
SUMMARY:Trash N' Talk vs. JLZ Kaderschmiede
DESCRIPTION:Ligapokal 4. Liga (1. Runde)\nErgebnis: 2:0 (2:0)
LOCATION:Ilohh Bar (RAUCHER), Repsoldstraße 52, 20097 Hamburg-Hammerbrook
UID:SM-B15653@kickern-hamburg.de
PRIORITY:5
SEQUENCE:1
CATEGORIES:SPORT
DTSTAMP:20260420T182611
BEGIN:VALARM
ACTION:DISPLAY
TRIGGER:-PT2H
END:VALARM
END:VEVENT
BEGIN:VEVENT
CLASS:PUBLIC
DTSTART:20231102T190000Z
DURATION:PT2H30M
STATUS:CONFIRMED
SUMMARY:Trash N' Talk vs. FC St. Pauli Kicker der Kokosnuss
DESCRIPTION:4.Liga, Gruppe B (4. Spieltag)\nErgebnis: 12:20 (68:79)
LOCATION:Ilohh Bar (RAUCHER), Repsoldstraße 52, 20097 Hamburg-Hammerbrook
UID:SM-B15407@kickern-hamburg.de
PRIORITY:5
SEQUENCE:1
CATEGORIES:SPORT
DTSTAMP:20260420T182611
BEGIN:VALARM
ACTION:DISPLAY
TRIGGER:-PT2H
END:VALARM
END:VEVENT
BEGIN:VEVENT
CLASS:PUBLIC
DTSTART:20231114T180000Z
DURATION:PT2H30M
STATUS:CONFIRMED
SUMMARY:Fellow Unicorns vs. Trash N' Talk
DESCRIPTION:4.Liga, Gruppe B (5. Spieltag)\nErgebnis: 25:7 (89:57)
LOCATION:KIXX, Nobistor 38, 22767 Hamburg-Altona-Altstadt
UID:SM-B15417@kickern-hamburg.de
PRIORITY:5
SEQUENCE:1
CATEGORIES:SPORT
DTSTAMP:20260420T182611
BEGIN:VALARM
ACTION:DISPLAY
TRIGGER:-PT2H
END:VALARM
END:VEVENT
BEGIN:VEVENT
CLASS:PUBLIC
DTSTART:20231207T190000Z
DURATION:PT2H30M
STATUS:CONFIRMED
SUMMARY:Trash N' Talk vs. TischING für Kühlschränke
DESCRIPTION:4.Liga, Gruppe B (6. Spieltag)\nErgebnis: 18:14 (76:66)
LOCATION:Ilohh Bar (RAUCHER), Repsoldstraße 52, 20097 Hamburg-Hammerbrook
UID:SM-B15427@kickern-hamburg.de
PRIORITY:5
SEQUENCE:1
CATEGORIES:SPORT
DTSTAMP:20260420T182611
BEGIN:VALARM
ACTION:DISPLAY
TRIGGER:-PT2H
END:VALARM
END:VEVENT
BEGIN:VEVENT
CLASS:PUBLIC
DTSTART:20240104T190000Z
DURATION:PT2H30M
STATUS:CONFIRMED
SUMMARY:Dampframme St. Pauli vs. Trash N' Talk
DESCRIPTION:Ligapokal 4. Liga (2. Runde)\nErgebnis: 10:22 (65:82)
LOCATION:KIXX, Nobistor 38, 22767 Hamburg-Altona-Altstadt
UID:SM-B15702@kickern-hamburg.de
PRIORITY:5
SEQUENCE:1
CATEGORIES:SPORT
DTSTAMP:20260420T182611
BEGIN:VALARM
ACTION:DISPLAY
TRIGGER:-PT2H
END:VALARM
END:VEVENT
BEGIN:VEVENT
CLASS:PUBLIC
DTSTART:20240110T190000Z
DURATION:PT2H30M
STATUS:CONFIRMED
SUMMARY:FC St. Pauli Waldmeisterin vs. Trash N' Talk
DESCRIPTION:4.Liga, Gruppe B (7. Spieltag)\nErgebnis: 18:14 (75:61)
LOCATION:FC St. Pauli Clubheim, Harald-Stender-Platz 1, 20359 Hamburg-St. Pauli
UID:SM-B15437@kickern-hamburg.de
PRIORITY:5
SEQUENCE:1
CATEGORIES:SPORT
DTSTAMP:20260420T182611
BEGIN:VALARM
ACTION:DISPLAY
TRIGGER:-PT2H
END:VALARM
END:VEVENT
BEGIN:VEVENT
CLASS:PUBLIC
DTSTART:20240125T190000Z
DURATION:PT2H30M
STATUS:CONFIRMED
SUMMARY:Trash N' Talk vs. Kicking Me Softly
DESCRIPTION:4.Liga, Gruppe B (8. Spieltag)\nErgebnis: 12:20 (67:80)
LOCATION:Ilohh Bar (RAUCHER), Repsoldstraße 52, 20097 Hamburg-Hammerbrook
UID:SM-B15447@kickern-hamburg.de
PRIORITY:5
SEQUENCE:1
CATEGORIES:SPORT
DTSTAMP:20260420T182611
BEGIN:VALARM
ACTION:DISPLAY
TRIGGER:-PT2H
END:VALARM
END:VEVENT
BEGIN:VEVENT
CLASS:PUBLIC
DTSTART:20240206T190000Z
DURATION:PT2H30M
STATUS:CONFIRMED
SUMMARY:Glashoch Rangers Hamburg vs. Trash N' Talk
DESCRIPTION:4.Liga, Gruppe B (9. Spieltag)\nErgebnis: 11:21 (60:80)
LOCATION:KIXX, Nobistor 38, 22767 Hamburg-Altona-Altstadt
UID:SM-B15459@kickern-hamburg.de
PRIORITY:5
SEQUENCE:1
CATEGORIES:SPORT
DTSTAMP:20260420T182611
BEGIN:VALARM
ACTION:DISPLAY
TRIGGER:-PT2H
END:VALARM
END:VEVENT
BEGIN:VEVENT
CLASS:PUBLIC
DTSTART:20240213T190000Z
DURATION:PT2H30M
STATUS:CONFIRMED
SUMMARY:Ex Orbit Ants (NR) vs. Trash N' Talk
DESCRIPTION:Ligapokal 4. Liga (3. Runde)\nErgebnis: 22:10 (81:66)
LOCATION:Joy, Winterhuder Weg 69, 22085 Hamburg-Uhlenhorst
UID:SM-B15744@kickern-hamburg.de
PRIORITY:5
SEQUENCE:1
CATEGORIES:SPORT
DTSTAMP:20260420T182611
BEGIN:VALARM
ACTION:DISPLAY
TRIGGER:-PT2H
END:VALARM
END:VEVENT
BEGIN:VEVENT
CLASS:PUBLIC
DTSTART:20240229T190000Z
DURATION:PT2H30M
STATUS:CONFIRMED
SUMMARY:Trash N' Talk vs. Spaceshots Hamburg
DESCRIPTION:4.Liga, Gruppe B (10. Spieltag)\nErgebnis: 25:7 (88:51)
LOCATION:Ilohh Bar (RAUCHER), Repsoldstraße 52, 20097 Hamburg-Hammerbrook
UID:SM-B15380@kickern-hamburg.de
PRIORITY:5
SEQUENCE:1
CATEGORIES:SPORT
DTSTAMP:20260420T182611
BEGIN:VALARM
ACTION:DISPLAY
TRIGGER:-PT2H
END:VALARM
END:VEVENT
BEGIN:VEVENT
CLASS:PUBLIC
DTSTART:20240306T190000Z
DURATION:PT2H30M
STATUS:CONFIRMED
SUMMARY:FC St. Pauli LMB vs. Trash N' Talk
DESCRIPTION:4.Liga, Gruppe B (11. Spieltag)\nErgebnis: 9:23 (54:83)
LOCATION:FC St. Pauli Clubheim, Harald-Stender-Platz 1, 20359 Hamburg-St. Pauli
UID:SM-B15390@kickern-hamburg.de
PRIORITY:5
SEQUENCE:1
CATEGORIES:SPORT
DTSTAMP:20260420T182611
BEGIN:VALARM
ACTION:DISPLAY
TRIGGER:-PT2H
END:VALARM
END:VEVENT
BEGIN:VEVENT
CLASS:PUBLIC
DTSTART:20240411T180000Z
DURATION:PT2H30M
STATUS:CONFIRMED
SUMMARY:Trash N' Talk vs. Kellerkicker Bergedorf
DESCRIPTION:4.Liga, Gruppe B (12. Spieltag)\nErgebnis: 20:12 (78:62)
LOCATION:Ilohh Bar (RAUCHER), Repsoldstraße 52, 20097 Hamburg-Hammerbrook
UID:SM-B15398@kickern-hamburg.de
PRIORITY:5
SEQUENCE:1
CATEGORIES:SPORT
DTSTAMP:20260420T182611
BEGIN:VALARM
ACTION:DISPLAY
TRIGGER:-PT2H
END:VALARM
END:VEVENT
BEGIN:VEVENT
CLASS:PUBLIC
DTSTART:20240417T180000Z
DURATION:PT2H30M
STATUS:CONFIRMED
SUMMARY:FC St. Pauli Kicker der Kokosnuss vs. Trash N' Talk
DESCRIPTION:4.Liga, Gruppe B (13. Spieltag)\nErgebnis: 25:7 (85:52)
LOCATION:FC St. Pauli Clubheim, Harald-Stender-Platz 1, 20359 Hamburg-St. Pauli
UID:SM-B15408@kickern-hamburg.de
PRIORITY:5
SEQUENCE:1
CATEGORIES:SPORT
DTSTAMP:20260420T182611
BEGIN:VALARM
ACTION:DISPLAY
TRIGGER:-PT2H
END:VALARM
END:VEVENT
BEGIN:VEVENT
CLASS:PUBLIC
DTSTART:20240508T180000Z
DURATION:PT2H30M
STATUS:CONFIRMED
SUMMARY:Trash N' Talk vs. Fellow Unicorns
DESCRIPTION:4.Liga, Gruppe B (14. Spieltag)\nErgebnis: 6:26 (44:88)
LOCATION:Ilohh Bar (RAUCHER), Repsoldstraße 52, 20097 Hamburg-Hammerbrook
UID:SM-B15418@kickern-hamburg.de
PRIORITY:5
SEQUENCE:1
CATEGORIES:SPORT
DTSTAMP:20260420T182611
BEGIN:VALARM
ACTION:DISPLAY
TRIGGER:-PT2H
END:VALARM
END:VEVENT
BEGIN:VEVENT
CLASS:PUBLIC
DTSTART:20240530T180000Z
DURATION:PT2H30M
STATUS:CONFIRMED
SUMMARY:TischING für Kühlschränke vs. Trash N' Talk
DESCRIPTION:4.Liga, Gruppe B (15. Spieltag)\nErgebnis: 13:19 (69:81)
LOCATION:TUHH Hauptgebäude A, Am Schwarzenberg-Campus 1, 21073 Hamburg
UID:SM-B15428@kickern-hamburg.de
PRIORITY:5
SEQUENCE:1
CATEGORIES:SPORT
DTSTAMP:20260420T182611
BEGIN:VALARM
ACTION:DISPLAY
TRIGGER:-PT2H
END:VALARM
END:VEVENT
BEGIN:VEVENT
CLASS:PUBLIC
DTSTART:20240606T180000Z
DURATION:PT2H30M
STATUS:CONFIRMED
SUMMARY:Trash N' Talk vs. FC St. Pauli Waldmeisterin
DESCRIPTION:4.Liga, Gruppe B (16. Spieltag)\nErgebnis: 12:20 (63:79)
LOCATION:Ilohh Bar (RAUCHER), Repsoldstraße 52, 20097 Hamburg-Hammerbrook
UID:SM-B15438@kickern-hamburg.de
PRIORITY:5
SEQUENCE:1
CATEGORIES:SPORT
DTSTAMP:20260420T182611
BEGIN:VALARM
ACTION:DISPLAY
TRIGGER:-PT2H
END:VALARM
END:VEVENT
BEGIN:VEVENT
CLASS:PUBLIC
DTSTART:20240626T180000Z
DURATION:PT2H30M
STATUS:CONFIRMED
SUMMARY:Kicking Me Softly vs. Trash N' Talk
DESCRIPTION:4.Liga, Gruppe B (17. Spieltag)\nErgebnis: 18:14 (70:70)
LOCATION:The Pub formerly known as Froggys (RAUCH, Eimbütteler Chaussee 29, 20259 Hamburg-Eimsbüttel
UID:SM-B15448@kickern-hamburg.de
PRIORITY:5
SEQUENCE:1
CATEGORIES:SPORT
DTSTAMP:20260420T182611
BEGIN:VALARM
ACTION:DISPLAY
TRIGGER:-PT2H
END:VALARM
END:VEVENT
BEGIN:VEVENT
CLASS:PUBLIC
DTSTART:20240704T180000Z
DURATION:PT2H30M
STATUS:CONFIRMED
SUMMARY:Trash N' Talk vs. Glashoch Rangers Hamburg
DESCRIPTION:4.Liga, Gruppe B (18. Spieltag)\nErgebnis: 6:26 (54:87)
LOCATION:Ilohh Bar (RAUCHER), Repsoldstraße 52, 20097 Hamburg-Hammerbrook
UID:SM-B15460@kickern-hamburg.de
PRIORITY:5
SEQUENCE:1
CATEGORIES:SPORT
DTSTAMP:20260420T182611
BEGIN:VALARM
ACTION:DISPLAY
TRIGGER:-PT2H
END:VALARM
END:VEVENT
END:VCALENDAR
