BEGIN:VCALENDAR
VERSION:2.0
PRODID:PHP
METHOD:REQUEST
X-ORIGINAL-URL:https://kickern-hamburg.de/liga/aktuelle-partien?task=team_begegnungen_ical&id=4740
X-WR-CALNAME;VALUE=TEXT:Fellow Unicorns
BEGIN:VEVENT
CLASS:PUBLIC
DTSTART:20230907T170000Z
DURATION:PT2H30M
STATUS:CONFIRMED
SUMMARY:Fellow Unicorns vs. Kellerkicker Bergedorf
DESCRIPTION:4.Liga, Gruppe B (1. Spieltag)\nErgebnis: 32:0 (96:30)
LOCATION:KIXX, Nobistor 38, 22767 Hamburg-Altona-Altstadt
UID:SM-B15377@kickern-hamburg.de
PRIORITY:5
SEQUENCE:1
CATEGORIES:SPORT
DTSTAMP:20260420T182659
BEGIN:VALARM
ACTION:DISPLAY
TRIGGER:-PT2H
END:VALARM
END:VEVENT
BEGIN:VEVENT
CLASS:PUBLIC
DTSTART:20230928T170000Z
DURATION:PT2H30M
STATUS:CONFIRMED
SUMMARY:Fellow Unicorns vs. Rakshasa
DESCRIPTION:Landespokal (1. Runde)\nErgebnis: 13:19 (64:74)
LOCATION:KIXX, Nobistor 38, 22767 Hamburg-Altona-Altstadt
UID:SM-B15273@kickern-hamburg.de
PRIORITY:5
SEQUENCE:1
CATEGORIES:SPORT
DTSTAMP:20260420T182659
BEGIN:VALARM
ACTION:DISPLAY
TRIGGER:-PT2H
END:VALARM
END:VEVENT
BEGIN:VEVENT
CLASS:PUBLIC
DTSTART:20230929T180000Z
DURATION:PT2H30M
STATUS:CONFIRMED
SUMMARY:FC St. Pauli Kicker der Kokosnuss vs. Fellow Unicorns
DESCRIPTION:4.Liga, Gruppe B (2. Spieltag)\nErgebnis: 19:13 (78:63)
LOCATION:FC St. Pauli Clubheim, Harald-Stender-Platz 1, 20359 Hamburg-St. Pauli
UID:SM-B15385@kickern-hamburg.de
PRIORITY:5
SEQUENCE:1
CATEGORIES:SPORT
DTSTAMP:20260420T182659
BEGIN:VALARM
ACTION:DISPLAY
TRIGGER:-PT2H
END:VALARM
END:VEVENT
BEGIN:VEVENT
CLASS:PUBLIC
DTSTART:20231010T180000Z
DURATION:PT2H30M
STATUS:CONFIRMED
SUMMARY:Glashoch Rangers Hamburg vs. Fellow Unicorns
DESCRIPTION:4.Liga, Gruppe B (3. Spieltag)\nErgebnis: 11:21 (62:77)
LOCATION:KIXX, Nobistor 38, 22767 Hamburg-Altona-Altstadt
UID:SM-B15393@kickern-hamburg.de
PRIORITY:5
SEQUENCE:1
CATEGORIES:SPORT
DTSTAMP:20260420T182659
BEGIN:VALARM
ACTION:DISPLAY
TRIGGER:-PT2H
END:VALARM
END:VEVENT
BEGIN:VEVENT
CLASS:PUBLIC
DTSTART:20231024T170000Z
DURATION:PT2H30M
STATUS:CONFIRMED
SUMMARY:Fellow Unicorns vs. FC St. Pauli Kicker der Kokosnuss
DESCRIPTION:Ligapokal 4. Liga (1. Runde)\nErgebnis: 18:14 (75:71)
LOCATION:KIXX, Nobistor 38, 22767 Hamburg-Altona-Altstadt
UID:SM-B15654@kickern-hamburg.de
PRIORITY:5
SEQUENCE:1
CATEGORIES:SPORT
DTSTAMP:20260420T182659
BEGIN:VALARM
ACTION:DISPLAY
TRIGGER:-PT2H
END:VALARM
END:VEVENT
BEGIN:VEVENT
CLASS:PUBLIC
DTSTART:20231109T190000Z
DURATION:PT2H30M
STATUS:CONFIRMED
SUMMARY:Fellow Unicorns vs. TischING für Kühlschränke
DESCRIPTION:4.Liga, Gruppe B (4. Spieltag)\nErgebnis: 29:3 (91:45)
LOCATION:KIXX, Nobistor 38, 22767 Hamburg-Altona-Altstadt
UID:SM-B15403@kickern-hamburg.de
PRIORITY:5
SEQUENCE:1
CATEGORIES:SPORT
DTSTAMP:20260420T182659
BEGIN:VALARM
ACTION:DISPLAY
TRIGGER:-PT2H
END:VALARM
END:VEVENT
BEGIN:VEVENT
CLASS:PUBLIC
DTSTART:20231114T180000Z
DURATION:PT2H30M
STATUS:CONFIRMED
SUMMARY:Fellow Unicorns vs. Trash N' Talk
DESCRIPTION:4.Liga, Gruppe B (5. Spieltag)\nErgebnis: 25:7 (89:57)
LOCATION:KIXX, Nobistor 38, 22767 Hamburg-Altona-Altstadt
UID:SM-B15417@kickern-hamburg.de
PRIORITY:5
SEQUENCE:1
CATEGORIES:SPORT
DTSTAMP:20260420T182659
BEGIN:VALARM
ACTION:DISPLAY
TRIGGER:-PT2H
END:VALARM
END:VEVENT
BEGIN:VEVENT
CLASS:PUBLIC
DTSTART:20231206T190000Z
DURATION:PT2H30M
STATUS:CONFIRMED
SUMMARY:Spaceshots Hamburg vs. Fellow Unicorns
DESCRIPTION:4.Liga, Gruppe B (6. Spieltag)\nErgebnis: 0:2 (0:2)
LOCATION:KIXX, Nobistor 38, 22767 Hamburg-Altona-Altstadt
UID:SM-B15425@kickern-hamburg.de
PRIORITY:5
SEQUENCE:1
CATEGORIES:SPORT
DTSTAMP:20260420T182659
BEGIN:VALARM
ACTION:DISPLAY
TRIGGER:-PT2H
END:VALARM
END:VEVENT
BEGIN:VEVENT
CLASS:PUBLIC
DTSTART:20240103T190000Z
DURATION:PT2H30M
STATUS:CONFIRMED
SUMMARY:FC St. Pauli Waldmeisterin vs. Fellow Unicorns
DESCRIPTION:Ligapokal 4. Liga (2. Runde)\nErgebnis: 10:22 (60:85)
LOCATION:FC St. Pauli Clubheim, Harald-Stender-Platz 1, 20359 Hamburg-St. Pauli
UID:SM-B15703@kickern-hamburg.de
PRIORITY:5
SEQUENCE:1
CATEGORIES:SPORT
DTSTAMP:20260420T182659
BEGIN:VALARM
ACTION:DISPLAY
TRIGGER:-PT2H
END:VALARM
END:VEVENT
BEGIN:VEVENT
CLASS:PUBLIC
DTSTART:20240110T190000Z
DURATION:PT2H30M
STATUS:CONFIRMED
SUMMARY:Kicking Me Softly vs. Fellow Unicorns
DESCRIPTION:4.Liga, Gruppe B (7. Spieltag)\nErgebnis: 11:21 (69:82)
LOCATION:The Pub formerly known as Froggys (RAUCH, Eimbütteler Chaussee 29, 20259 Hamburg-Eimsbüttel
UID:SM-B15439@kickern-hamburg.de
PRIORITY:5
SEQUENCE:1
CATEGORIES:SPORT
DTSTAMP:20260420T182659
BEGIN:VALARM
ACTION:DISPLAY
TRIGGER:-PT2H
END:VALARM
END:VEVENT
BEGIN:VEVENT
CLASS:PUBLIC
DTSTART:20240130T180000Z
DURATION:PT2H30M
STATUS:CONFIRMED
SUMMARY:Fellow Unicorns vs. Dynamo & Durchstarters Grete Hamburg
DESCRIPTION:Ligapokal 4. Liga (3. Runde)\nErgebnis: 26:6 (88:48)
LOCATION:KIXX, Nobistor 38, 22767 Hamburg-Altona-Altstadt
UID:SM-B15745@kickern-hamburg.de
PRIORITY:5
SEQUENCE:1
CATEGORIES:SPORT
DTSTAMP:20260420T182659
BEGIN:VALARM
ACTION:DISPLAY
TRIGGER:-PT2H
END:VALARM
END:VEVENT
BEGIN:VEVENT
CLASS:PUBLIC
DTSTART:20240131T190000Z
DURATION:PT2H30M
STATUS:CONFIRMED
SUMMARY:FC St. Pauli LMB vs. Fellow Unicorns
DESCRIPTION:4.Liga, Gruppe B (8. Spieltag)\nErgebnis: 1:31 (26:95)
LOCATION:FC St. Pauli Clubheim, Harald-Stender-Platz 1, 20359 Hamburg-St. Pauli
UID:SM-B15449@kickern-hamburg.de
PRIORITY:5
SEQUENCE:1
CATEGORIES:SPORT
DTSTAMP:20260420T182659
BEGIN:VALARM
ACTION:DISPLAY
TRIGGER:-PT2H
END:VALARM
END:VEVENT
BEGIN:VEVENT
CLASS:PUBLIC
DTSTART:20240214T190000Z
DURATION:PT2H30M
STATUS:CONFIRMED
SUMMARY:FC St. Pauli Waldmeisterin vs. Fellow Unicorns
DESCRIPTION:4.Liga, Gruppe B (9. Spieltag)\nErgebnis: 10:22 (65:80)
LOCATION:FC St. Pauli Clubheim, Harald-Stender-Platz 1, 20359 Hamburg-St. Pauli
UID:SM-B15457@kickern-hamburg.de
PRIORITY:5
SEQUENCE:1
CATEGORIES:SPORT
DTSTAMP:20260420T182659
BEGIN:VALARM
ACTION:DISPLAY
TRIGGER:-PT2H
END:VALARM
END:VEVENT
BEGIN:VEVENT
CLASS:PUBLIC
DTSTART:20240223T180000Z
DURATION:PT2H30M
STATUS:CONFIRMED
SUMMARY:Kellerkicker Bergedorf vs. Fellow Unicorns
DESCRIPTION:4.Liga, Gruppe B (10. Spieltag)\nErgebnis: 10:22 (57:81)
LOCATION:„Kickerkeller“ Stadtteilschule Richard-L, Richard-Linde-Weg 49, 21033 Hamburg-Lohbrügge
UID:SM-B15378@kickern-hamburg.de
PRIORITY:5
SEQUENCE:1
CATEGORIES:SPORT
DTSTAMP:20260420T182659
BEGIN:VALARM
ACTION:DISPLAY
TRIGGER:-PT2H
END:VALARM
END:VEVENT
BEGIN:VEVENT
CLASS:PUBLIC
DTSTART:20240312T190000Z
DURATION:PT2H30M
STATUS:CONFIRMED
SUMMARY:Fellow Unicorns vs. FC St. Pauli Kicker der Kokosnuss
DESCRIPTION:4.Liga, Gruppe B (11. Spieltag)\nErgebnis: 21:11 (80:67)
LOCATION:KIXX, Nobistor 38, 22767 Hamburg-Altona-Altstadt
UID:SM-B15386@kickern-hamburg.de
PRIORITY:5
SEQUENCE:1
CATEGORIES:SPORT
DTSTAMP:20260420T182659
BEGIN:VALARM
ACTION:DISPLAY
TRIGGER:-PT2H
END:VALARM
END:VEVENT
BEGIN:VEVENT
CLASS:PUBLIC
DTSTART:20240402T170000Z
DURATION:PT2H30M
STATUS:CONFIRMED
SUMMARY:Fellow Unicorns vs. Glashoch Rangers Hamburg
DESCRIPTION:4.Liga, Gruppe B (12. Spieltag)\nErgebnis: 27:5 (91:38)
LOCATION:KIXX, Nobistor 38, 22767 Hamburg-Altona-Altstadt
UID:SM-B15394@kickern-hamburg.de
PRIORITY:5
SEQUENCE:1
CATEGORIES:SPORT
DTSTAMP:20260420T182659
BEGIN:VALARM
ACTION:DISPLAY
TRIGGER:-PT2H
END:VALARM
END:VEVENT
BEGIN:VEVENT
CLASS:PUBLIC
DTSTART:20240418T180000Z
DURATION:PT2H30M
STATUS:CONFIRMED
SUMMARY:TischING für Kühlschränke vs. Fellow Unicorns
DESCRIPTION:4.Liga, Gruppe B (13. Spieltag)\nErgebnis: 13:19 (61:78)
LOCATION:TUHH Hauptgebäude A, Am Schwarzenberg-Campus 1, 21073 Hamburg
UID:SM-B15404@kickern-hamburg.de
PRIORITY:5
SEQUENCE:1
CATEGORIES:SPORT
DTSTAMP:20260420T182659
BEGIN:VALARM
ACTION:DISPLAY
TRIGGER:-PT2H
END:VALARM
END:VEVENT
BEGIN:VEVENT
CLASS:PUBLIC
DTSTART:20240508T180000Z
DURATION:PT2H30M
STATUS:CONFIRMED
SUMMARY:Trash N' Talk vs. Fellow Unicorns
DESCRIPTION:4.Liga, Gruppe B (14. Spieltag)\nErgebnis: 6:26 (44:88)
LOCATION:Ilohh Bar (RAUCHER), Repsoldstraße 52, 20097 Hamburg-Hammerbrook
UID:SM-B15418@kickern-hamburg.de
PRIORITY:5
SEQUENCE:1
CATEGORIES:SPORT
DTSTAMP:20260420T182659
BEGIN:VALARM
ACTION:DISPLAY
TRIGGER:-PT2H
END:VALARM
END:VEVENT
BEGIN:VEVENT
CLASS:PUBLIC
DTSTART:20240521T170000Z
DURATION:PT2H30M
STATUS:CONFIRMED
SUMMARY:Fellow Unicorns vs. Spaceshots Hamburg
DESCRIPTION:4.Liga, Gruppe B (15. Spieltag)\nErgebnis: 2:0 (2:0)
LOCATION:KIXX, Nobistor 38, 22767 Hamburg-Altona-Altstadt
UID:SM-B15426@kickern-hamburg.de
PRIORITY:5
SEQUENCE:1
CATEGORIES:SPORT
DTSTAMP:20260420T182659
BEGIN:VALARM
ACTION:DISPLAY
TRIGGER:-PT2H
END:VALARM
END:VEVENT
BEGIN:VEVENT
CLASS:PUBLIC
DTSTART:20240601T140000Z
DURATION:PT2H30M
STATUS:CONFIRMED
SUMMARY:Fellow Unicorns vs. Exorbitanter Mumpitz
DESCRIPTION:Ligapokal 4. Liga (Halbfinale)\nErgebnis: 18:14 (78:71)
LOCATION:KIXX, Nobistor 38, 22767 Hamburg-Altona-Altstadt
UID:SM-B15764@kickern-hamburg.de
PRIORITY:5
SEQUENCE:1
CATEGORIES:SPORT
DTSTAMP:20260420T182659
BEGIN:VALARM
ACTION:DISPLAY
TRIGGER:-PT2H
END:VALARM
END:VEVENT
BEGIN:VEVENT
CLASS:PUBLIC
DTSTART:20240601T170000Z
DURATION:PT2H30M
STATUS:CONFIRMED
SUMMARY:Fellow Unicorns vs. TishING for Compliments
DESCRIPTION:Ligapokal 4. Liga (Finale)\nErgebnis: 18:14 (78:64)
LOCATION:KIXX, Nobistor 38, 22767 Hamburg-Altona-Altstadt
UID:SM-B15765@kickern-hamburg.de
PRIORITY:5
SEQUENCE:1
CATEGORIES:SPORT
DTSTAMP:20260420T182659
BEGIN:VALARM
ACTION:DISPLAY
TRIGGER:-PT2H
END:VALARM
END:VEVENT
BEGIN:VEVENT
CLASS:PUBLIC
DTSTART:20240611T170000Z
DURATION:PT2H30M
STATUS:CONFIRMED
SUMMARY:Fellow Unicorns vs. Kicking Me Softly
DESCRIPTION:4.Liga, Gruppe B (16. Spieltag)\nErgebnis: 15:17 (76:76)
LOCATION:KIXX, Nobistor 38, 22767 Hamburg-Altona-Altstadt
UID:SM-B15440@kickern-hamburg.de
PRIORITY:5
SEQUENCE:1
CATEGORIES:SPORT
DTSTAMP:20260420T182659
BEGIN:VALARM
ACTION:DISPLAY
TRIGGER:-PT2H
END:VALARM
END:VEVENT
BEGIN:VEVENT
CLASS:PUBLIC
DTSTART:20240619T180000Z
DURATION:PT2H30M
STATUS:CONFIRMED
SUMMARY:FC St. Pauli LMB vs. Fellow Unicorns
DESCRIPTION:4.Liga, Gruppe B (17. Spieltag)\nErgebnis: 4:28 (40:91)
LOCATION:FC St. Pauli Clubheim, Harald-Stender-Platz 1, 20359 Hamburg-St. Pauli
UID:SM-B15450@kickern-hamburg.de
PRIORITY:5
SEQUENCE:1
CATEGORIES:SPORT
DTSTAMP:20260420T182659
BEGIN:VALARM
ACTION:DISPLAY
TRIGGER:-PT2H
END:VALARM
END:VEVENT
BEGIN:VEVENT
CLASS:PUBLIC
DTSTART:20240702T170000Z
DURATION:PT2H30M
STATUS:CONFIRMED
SUMMARY:Fellow Unicorns vs. FC St. Pauli Waldmeisterin
DESCRIPTION:4.Liga, Gruppe B (18. Spieltag)\nErgebnis: 22:10 (82:63)
LOCATION:KIXX, Nobistor 38, 22767 Hamburg-Altona-Altstadt
UID:SM-B15458@kickern-hamburg.de
PRIORITY:5
SEQUENCE:1
CATEGORIES:SPORT
DTSTAMP:20260420T182659
BEGIN:VALARM
ACTION:DISPLAY
TRIGGER:-PT2H
END:VALARM
END:VEVENT
END:VCALENDAR
