BEGIN:VCALENDAR
VERSION:2.0
PRODID:PHP
METHOD:REQUEST
X-ORIGINAL-URL:https://kickern-hamburg.de/liga/aktuelle-partien?task=team_begegnungen_ical&id=4578
X-WR-CALNAME;VALUE=TEXT:TishING for Compliments
BEGIN:VEVENT
CLASS:PUBLIC
DTSTART:20230913T173000Z
DURATION:PT2H30M
STATUS:CONFIRMED
SUMMARY:JLZ Kaderschmiede vs. TishING for Compliments
DESCRIPTION:4.Liga, Gruppe C (1. Spieltag)\nErgebnis: 5:27 (46:91)
LOCATION:Jugendleistungszentrum HdJ Lattenkamp, Bebelallee 22, 22299 Hamburg-Winterhude
UID:SM-B15467@kickern-hamburg.de
PRIORITY:5
SEQUENCE:1
CATEGORIES:SPORT
DTSTAMP:20260420T195458
BEGIN:VALARM
ACTION:DISPLAY
TRIGGER:-PT2H
END:VALARM
END:VEVENT
BEGIN:VEVENT
CLASS:PUBLIC
DTSTART:20230927T180000Z
DURATION:PT2H30M
STATUS:CONFIRMED
SUMMARY:TishING for Compliments vs. Exorbitante Eskalation
DESCRIPTION:4.Liga, Gruppe C (2. Spieltag)\nErgebnis: 29:3 (93:42)
LOCATION:TUHH Hauptgebäude A, Am Schwarzenberg-Campus 1, 21073 Hamburg
UID:SM-B15477@kickern-hamburg.de
PRIORITY:5
SEQUENCE:1
CATEGORIES:SPORT
DTSTAMP:20260420T195458
BEGIN:VALARM
ACTION:DISPLAY
TRIGGER:-PT2H
END:VALARM
END:VEVENT
BEGIN:VEVENT
CLASS:PUBLIC
DTSTART:20231011T180000Z
DURATION:PT2H30M
STATUS:CONFIRMED
SUMMARY:TishING for Compliments vs. Wohnzimmer Kapeiken
DESCRIPTION:4.Liga, Gruppe C (3. Spieltag)\nErgebnis: 24:8 (82:52)
LOCATION:TUHH Hauptgebäude A, Am Schwarzenberg-Campus 1, 21073 Hamburg
UID:SM-B15487@kickern-hamburg.de
PRIORITY:5
SEQUENCE:1
CATEGORIES:SPORT
DTSTAMP:20260420T195458
BEGIN:VALARM
ACTION:DISPLAY
TRIGGER:-PT2H
END:VALARM
END:VEVENT
BEGIN:VEVENT
CLASS:PUBLIC
DTSTART:20231025T180000Z
DURATION:PT2H30M
STATUS:CONFIRMED
SUMMARY:TishING for Compliments vs. Ex Orbit Ants (NR)
DESCRIPTION:Landespokal (2. Runde)\nErgebnis: 13:19 (59:75)
LOCATION:TUHH Hauptgebäude A, Am Schwarzenberg-Campus 1, 21073 Hamburg
UID:SM-B15686@kickern-hamburg.de
PRIORITY:5
SEQUENCE:1
CATEGORIES:SPORT
DTSTAMP:20260420T195458
BEGIN:VALARM
ACTION:DISPLAY
TRIGGER:-PT2H
END:VALARM
END:VEVENT
BEGIN:VEVENT
CLASS:PUBLIC
DTSTART:20231108T190000Z
DURATION:PT2H30M
STATUS:CONFIRMED
SUMMARY:Likedeeler FC St. Pauli vs. TishING for Compliments
DESCRIPTION:4.Liga, Gruppe C (4. Spieltag)\nErgebnis: 11:21 (56:76)
LOCATION:St. Pauli Wohnzimmer(Raucher) Ahoi, Hafenstr. 122, 20359 Hamburg-Hamburg
UID:SM-B15495@kickern-hamburg.de
PRIORITY:5
SEQUENCE:1
CATEGORIES:SPORT
DTSTAMP:20260420T195458
BEGIN:VALARM
ACTION:DISPLAY
TRIGGER:-PT2H
END:VALARM
END:VEVENT
BEGIN:VEVENT
CLASS:PUBLIC
DTSTART:20231121T180000Z
DURATION:PT2H30M
STATUS:CONFIRMED
SUMMARY:WPS vs. TishING for Compliments
DESCRIPTION:4.Liga, Gruppe C (5. Spieltag)\nErgebnis: 14:18 (67:75)
LOCATION:Workplace Solutions GmbH, Dorotheenstraße 60, 22301 Hamburg
UID:SM-B15503@kickern-hamburg.de
PRIORITY:5
SEQUENCE:1
CATEGORIES:SPORT
DTSTAMP:20260420T195458
BEGIN:VALARM
ACTION:DISPLAY
TRIGGER:-PT2H
END:VALARM
END:VEVENT
BEGIN:VEVENT
CLASS:PUBLIC
DTSTART:20231122T190000Z
DURATION:PT2H30M
STATUS:CONFIRMED
SUMMARY:TishING for Compliments vs. Glashoch Rangers Hamburg
DESCRIPTION:Ligapokal 4. Liga (1. Runde)\nErgebnis: 2:0 (2:0)
LOCATION:TUHH Hauptgebäude A, Am Schwarzenberg-Campus 1, 21073 Hamburg
UID:SM-B15649@kickern-hamburg.de
PRIORITY:5
SEQUENCE:1
CATEGORIES:SPORT
DTSTAMP:20260420T195458
BEGIN:VALARM
ACTION:DISPLAY
TRIGGER:-PT2H
END:VALARM
END:VEVENT
BEGIN:VEVENT
CLASS:PUBLIC
DTSTART:20231129T190000Z
DURATION:PT2H30M
STATUS:CONFIRMED
SUMMARY:TishING for Compliments vs. Mauzis
DESCRIPTION:4.Liga, Gruppe C (6. Spieltag)\nErgebnis: 13:19 (67:76)
LOCATION:TUHH Hauptgebäude A, Am Schwarzenberg-Campus 1, 21073 Hamburg
UID:SM-B15513@kickern-hamburg.de
PRIORITY:5
SEQUENCE:1
CATEGORIES:SPORT
DTSTAMP:20260420T195458
BEGIN:VALARM
ACTION:DISPLAY
TRIGGER:-PT2H
END:VALARM
END:VEVENT
BEGIN:VEVENT
CLASS:PUBLIC
DTSTART:20231212T190000Z
DURATION:PT2H30M
STATUS:CONFIRMED
SUMMARY:Torfabrik 2. Silpion (NR) vs. TishING for Compliments
DESCRIPTION:Ligapokal 4. Liga (2. Runde)\nErgebnis: 15:17 (72:67)
LOCATION:Die Torfabrik, Zum Sportplatz 10, 21220 Seevetal
UID:SM-B15717@kickern-hamburg.de
PRIORITY:5
SEQUENCE:1
CATEGORIES:SPORT
DTSTAMP:20260420T195458
BEGIN:VALARM
ACTION:DISPLAY
TRIGGER:-PT2H
END:VALARM
END:VEVENT
BEGIN:VEVENT
CLASS:PUBLIC
DTSTART:20240109T180000Z
DURATION:PT2H30M
STATUS:CONFIRMED
SUMMARY:Roter Stern Kickers 2 (NR) vs. TishING for Compliments
DESCRIPTION:4.Liga, Gruppe C (7. Spieltag)\nErgebnis: 19:13 (80:72)
LOCATION:JuKI 42, An der Reitbahn 2, 22926 Ahrensburg
UID:SM-B15523@kickern-hamburg.de
PRIORITY:5
SEQUENCE:1
CATEGORIES:SPORT
DTSTAMP:20260420T195458
BEGIN:VALARM
ACTION:DISPLAY
TRIGGER:-PT2H
END:VALARM
END:VEVENT
BEGIN:VEVENT
CLASS:PUBLIC
DTSTART:20240131T190000Z
DURATION:PT2H30M
STATUS:CONFIRMED
SUMMARY:TishING for Compliments vs. Sidekickstarters (NR)
DESCRIPTION:4.Liga, Gruppe C (8. Spieltag)\nErgebnis: 19:13 (76:64)
LOCATION:TUHH Hauptgebäude A, Am Schwarzenberg-Campus 1, 21073 Hamburg
UID:SM-B15533@kickern-hamburg.de
PRIORITY:5
SEQUENCE:1
CATEGORIES:SPORT
DTSTAMP:20260420T195458
BEGIN:VALARM
ACTION:DISPLAY
TRIGGER:-PT2H
END:VALARM
END:VEVENT
BEGIN:VEVENT
CLASS:PUBLIC
DTSTART:20240215T190000Z
DURATION:PT2H30M
STATUS:CONFIRMED
SUMMARY:Dynamo & Durchstarters Grete Hamburg vs. TishING for Compliments
DESCRIPTION:4.Liga, Gruppe C (9. Spieltag)\nErgebnis: 17:15 (77:74)
LOCATION:Grete (Kulturverein), Margaretenstraße 33, 20357 Hamburg
UID:SM-B15541@kickern-hamburg.de
PRIORITY:5
SEQUENCE:1
CATEGORIES:SPORT
DTSTAMP:20260420T195458
BEGIN:VALARM
ACTION:DISPLAY
TRIGGER:-PT2H
END:VALARM
END:VEVENT
BEGIN:VEVENT
CLASS:PUBLIC
DTSTART:20240228T190000Z
DURATION:PT2H30M
STATUS:CONFIRMED
SUMMARY:TishING for Compliments vs. JLZ Kaderschmiede
DESCRIPTION:4.Liga, Gruppe C (10. Spieltag)\nErgebnis: 23:9 (71:29)
LOCATION:TUHH Hauptgebäude A, Am Schwarzenberg-Campus 1, 21073 Hamburg
UID:SM-B15468@kickern-hamburg.de
PRIORITY:5
SEQUENCE:1
CATEGORIES:SPORT
DTSTAMP:20260420T195458
BEGIN:VALARM
ACTION:DISPLAY
TRIGGER:-PT2H
END:VALARM
END:VEVENT
BEGIN:VEVENT
CLASS:PUBLIC
DTSTART:20240313T190000Z
DURATION:PT2H30M
STATUS:CONFIRMED
SUMMARY:Exorbitante Eskalation vs. TishING for Compliments
DESCRIPTION:4.Liga, Gruppe C (11. Spieltag)\nErgebnis: 5:27 (50:91)
LOCATION:Joy, Winterhuder Weg 69, 22085 Hamburg-Uhlenhorst
UID:SM-B15478@kickern-hamburg.de
PRIORITY:5
SEQUENCE:1
CATEGORIES:SPORT
DTSTAMP:20260420T195458
BEGIN:VALARM
ACTION:DISPLAY
TRIGGER:-PT2H
END:VALARM
END:VEVENT
BEGIN:VEVENT
CLASS:PUBLIC
DTSTART:20240403T180000Z
DURATION:PT2H30M
STATUS:CONFIRMED
SUMMARY:Wohnzimmer Kapeiken vs. TishING for Compliments
DESCRIPTION:4.Liga, Gruppe C (12. Spieltag)\nErgebnis: 6:26 (43:89)
LOCATION:Hannes & Hanna Wohnzimmer (Raucher), Weidenallee 60, 20357 Hamburg-Eimsbüttel
UID:SM-B15488@kickern-hamburg.de
PRIORITY:5
SEQUENCE:1
CATEGORIES:SPORT
DTSTAMP:20260420T195458
BEGIN:VALARM
ACTION:DISPLAY
TRIGGER:-PT2H
END:VALARM
END:VEVENT
BEGIN:VEVENT
CLASS:PUBLIC
DTSTART:20240424T180000Z
DURATION:PT2H30M
STATUS:CONFIRMED
SUMMARY:TishING for Compliments vs. Likedeeler FC St. Pauli
DESCRIPTION:4.Liga, Gruppe C (13. Spieltag)\nErgebnis: 22:10 (84:62)
LOCATION:TUHH Hauptgebäude A, Am Schwarzenberg-Campus 1, 21073 Hamburg
UID:SM-B15496@kickern-hamburg.de
PRIORITY:5
SEQUENCE:1
CATEGORIES:SPORT
DTSTAMP:20260420T195458
BEGIN:VALARM
ACTION:DISPLAY
TRIGGER:-PT2H
END:VALARM
END:VEVENT
BEGIN:VEVENT
CLASS:PUBLIC
DTSTART:20240508T180000Z
DURATION:PT2H30M
STATUS:CONFIRMED
SUMMARY:TishING for Compliments vs. WPS
DESCRIPTION:4.Liga, Gruppe C (14. Spieltag)\nErgebnis: 23:9 (71:29)
LOCATION:TUHH Hauptgebäude A, Am Schwarzenberg-Campus 1, 21073 Hamburg
UID:SM-B15504@kickern-hamburg.de
PRIORITY:5
SEQUENCE:1
CATEGORIES:SPORT
DTSTAMP:20260420T195458
BEGIN:VALARM
ACTION:DISPLAY
TRIGGER:-PT2H
END:VALARM
END:VEVENT
BEGIN:VEVENT
CLASS:PUBLIC
DTSTART:20240523T180000Z
DURATION:PT2H30M
STATUS:CONFIRMED
SUMMARY:Mauzis vs. TishING for Compliments
DESCRIPTION:4.Liga, Gruppe C (15. Spieltag)\nErgebnis: 10:22 (68:84)
LOCATION:KIXX, Nobistor 38, 22767 Hamburg-Altona-Altstadt
UID:SM-B15514@kickern-hamburg.de
PRIORITY:5
SEQUENCE:1
CATEGORIES:SPORT
DTSTAMP:20260420T195458
BEGIN:VALARM
ACTION:DISPLAY
TRIGGER:-PT2H
END:VALARM
END:VEVENT
BEGIN:VEVENT
CLASS:PUBLIC
DTSTART:20240601T140000Z
DURATION:PT2H30M
STATUS:CONFIRMED
SUMMARY:TishING for Compliments vs. Ex Orbit Ants (NR)
DESCRIPTION:Ligapokal 4. Liga (Halbfinale)\nErgebnis: 18:14 (76:70)
LOCATION:TUHH Hauptgebäude A, Am Schwarzenberg-Campus 1, 21073 Hamburg
UID:SM-B15763@kickern-hamburg.de
PRIORITY:5
SEQUENCE:1
CATEGORIES:SPORT
DTSTAMP:20260420T195458
BEGIN:VALARM
ACTION:DISPLAY
TRIGGER:-PT2H
END:VALARM
END:VEVENT
BEGIN:VEVENT
CLASS:PUBLIC
DTSTART:20240601T170000Z
DURATION:PT2H30M
STATUS:CONFIRMED
SUMMARY:Fellow Unicorns vs. TishING for Compliments
DESCRIPTION:Ligapokal 4. Liga (Finale)\nErgebnis: 18:14 (78:64)
LOCATION:KIXX, Nobistor 38, 22767 Hamburg-Altona-Altstadt
UID:SM-B15765@kickern-hamburg.de
PRIORITY:5
SEQUENCE:1
CATEGORIES:SPORT
DTSTAMP:20260420T195458
BEGIN:VALARM
ACTION:DISPLAY
TRIGGER:-PT2H
END:VALARM
END:VEVENT
BEGIN:VEVENT
CLASS:PUBLIC
DTSTART:20240612T180000Z
DURATION:PT2H30M
STATUS:CONFIRMED
SUMMARY:TishING for Compliments vs. Roter Stern Kickers 2 (NR)
DESCRIPTION:4.Liga, Gruppe C (16. Spieltag)\nErgebnis: 21:11 (81:62)
LOCATION:TUHH Hauptgebäude A, Am Schwarzenberg-Campus 1, 21073 Hamburg
UID:SM-B15524@kickern-hamburg.de
PRIORITY:5
SEQUENCE:1
CATEGORIES:SPORT
DTSTAMP:20260420T195458
BEGIN:VALARM
ACTION:DISPLAY
TRIGGER:-PT2H
END:VALARM
END:VEVENT
BEGIN:VEVENT
CLASS:PUBLIC
DTSTART:20240618T180000Z
DURATION:PT2H30M
STATUS:CONFIRMED
SUMMARY:Sidekickstarters (NR) vs. TishING for Compliments
DESCRIPTION:4.Liga, Gruppe C (17. Spieltag)\nErgebnis: 11:21 (58:80)
LOCATION:Sidekick, Winsener Straße 190, 21077 Hamburg-Harburg
UID:SM-B15534@kickern-hamburg.de
PRIORITY:5
SEQUENCE:1
CATEGORIES:SPORT
DTSTAMP:20260420T195458
BEGIN:VALARM
ACTION:DISPLAY
TRIGGER:-PT2H
END:VALARM
END:VEVENT
BEGIN:VEVENT
CLASS:PUBLIC
DTSTART:20240710T180000Z
DURATION:PT2H30M
STATUS:CONFIRMED
SUMMARY:TishING for Compliments vs. Dynamo & Durchstarters Grete Hamburg
DESCRIPTION:4.Liga, Gruppe C (18. Spieltag)\nErgebnis: 22:10 (85:68)
LOCATION:TUHH Hauptgebäude A, Am Schwarzenberg-Campus 1, 21073 Hamburg
UID:SM-B15542@kickern-hamburg.de
PRIORITY:5
SEQUENCE:1
CATEGORIES:SPORT
DTSTAMP:20260420T195458
BEGIN:VALARM
ACTION:DISPLAY
TRIGGER:-PT2H
END:VALARM
END:VEVENT
END:VCALENDAR
