BEGIN:VCALENDAR
VERSION:2.0
PRODID:PHP
METHOD:REQUEST
X-ORIGINAL-URL:https://kickern-hamburg.de/liga/aktuelle-partien?task=team_begegnungen_ical&id=4444
X-WR-CALNAME;VALUE=TEXT:WunderBars (NR)
BEGIN:VEVENT
CLASS:PUBLIC
DTSTART:20230928T173000Z
DURATION:PT2H30M
STATUS:CONFIRMED
SUMMARY:WunderBars (NR) vs. FC Joy
DESCRIPTION:3.Liga, Gruppe C (2. Spieltag)\nErgebnis: 25:7 (84:59)
LOCATION:KIXX, Nobistor 38, 22767 Hamburg-Altona-Altstadt
UID:SM-B15186@kickern-hamburg.de
PRIORITY:5
SEQUENCE:1
CATEGORIES:SPORT
DTSTAMP:20260420T182658
BEGIN:VALARM
ACTION:DISPLAY
TRIGGER:-PT2H
END:VALARM
END:VEVENT
BEGIN:VEVENT
CLASS:PUBLIC
DTSTART:20231012T170000Z
DURATION:PT2H30M
STATUS:CONFIRMED
SUMMARY:WunderBars (NR) vs. UNK Gästeblock
DESCRIPTION:3.Liga, Gruppe C (3. Spieltag)\nErgebnis: 16:16 (73:73)
LOCATION:KIXX, Nobistor 38, 22767 Hamburg-Altona-Altstadt
UID:SM-B15196@kickern-hamburg.de
PRIORITY:5
SEQUENCE:1
CATEGORIES:SPORT
DTSTAMP:20260420T182658
BEGIN:VALARM
ACTION:DISPLAY
TRIGGER:-PT2H
END:VALARM
END:VEVENT
BEGIN:VEVENT
CLASS:PUBLIC
DTSTART:20231109T183000Z
DURATION:PT2H30M
STATUS:CONFIRMED
SUMMARY:WunderBars (NR) vs. Hamburg Privateers 08 (NR)
DESCRIPTION:Landespokal (2. Runde)\nErgebnis: 19:13 (78:69)
LOCATION:KIXX, Nobistor 38, 22767 Hamburg-Altona-Altstadt
UID:SM-B15672@kickern-hamburg.de
PRIORITY:5
SEQUENCE:1
CATEGORIES:SPORT
DTSTAMP:20260420T182658
BEGIN:VALARM
ACTION:DISPLAY
TRIGGER:-PT2H
END:VALARM
END:VEVENT
BEGIN:VEVENT
CLASS:PUBLIC
DTSTART:20231123T183000Z
DURATION:PT2H30M
STATUS:CONFIRMED
SUMMARY:WunderBars (NR) vs. Boltens
DESCRIPTION:3.Liga, Gruppe C (5. Spieltag)\nErgebnis: 28:4 (92:51)
LOCATION:KIXX, Nobistor 38, 22767 Hamburg-Altona-Altstadt
UID:SM-B15208@kickern-hamburg.de
PRIORITY:5
SEQUENCE:1
CATEGORIES:SPORT
DTSTAMP:20260420T182658
BEGIN:VALARM
ACTION:DISPLAY
TRIGGER:-PT2H
END:VALARM
END:VEVENT
BEGIN:VEVENT
CLASS:PUBLIC
DTSTART:20231207T190000Z
DURATION:PT2H30M
STATUS:CONFIRMED
SUMMARY:Tingeltangel FC St. Pauli vs. WunderBars (NR)
DESCRIPTION:3.Liga, Gruppe C (6. Spieltag)\nErgebnis: 17:15 (75:72)
LOCATION:FC St. Pauli Clubheim, Harald-Stender-Platz 1, 20359 Hamburg-St. Pauli
UID:SM-B15214@kickern-hamburg.de
PRIORITY:5
SEQUENCE:1
CATEGORIES:SPORT
DTSTAMP:20260420T182658
BEGIN:VALARM
ACTION:DISPLAY
TRIGGER:-PT2H
END:VALARM
END:VEVENT
BEGIN:VEVENT
CLASS:PUBLIC
DTSTART:20231213T190000Z
DURATION:PT2H30M
STATUS:CONFIRMED
SUMMARY:Schorsch vs. WunderBars (NR)
DESCRIPTION:Ligapokal 3. Liga (2. Runde)\nErgebnis: 9:23 (63:87)
LOCATION:Ilohh Bar (RAUCHER), Repsoldstraße 52, 20097 Hamburg-Hammerbrook
UID:SM-B15668@kickern-hamburg.de
PRIORITY:5
SEQUENCE:1
CATEGORIES:SPORT
DTSTAMP:20260420T182658
BEGIN:VALARM
ACTION:DISPLAY
TRIGGER:-PT2H
END:VALARM
END:VEVENT
BEGIN:VEVENT
CLASS:PUBLIC
DTSTART:20240111T183000Z
DURATION:PT2H30M
STATUS:CONFIRMED
SUMMARY:WunderBars (NR) vs. Foosball Club FC St. Pauli
DESCRIPTION:Landespokal (3. Runde)\nErgebnis: 12:20 (65:79)
LOCATION:KIXX, Nobistor 38, 22767 Hamburg-Altona-Altstadt
UID:SM-B15719@kickern-hamburg.de
PRIORITY:5
SEQUENCE:1
CATEGORIES:SPORT
DTSTAMP:20260420T182658
BEGIN:VALARM
ACTION:DISPLAY
TRIGGER:-PT2H
END:VALARM
END:VEVENT
BEGIN:VEVENT
CLASS:PUBLIC
DTSTART:20240118T180000Z
DURATION:PT2H30M
STATUS:CONFIRMED
SUMMARY:Von der Stange vs. WunderBars (NR)
DESCRIPTION:3.Liga, Gruppe C (7. Spieltag)\nErgebnis: 13:19 (70:81)
LOCATION:Blitz Bar, Schulterblatt 110, 20357 Hamburg
UID:SM-B15222@kickern-hamburg.de
PRIORITY:5
SEQUENCE:1
CATEGORIES:SPORT
DTSTAMP:20260420T182658
BEGIN:VALARM
ACTION:DISPLAY
TRIGGER:-PT2H
END:VALARM
END:VEVENT
BEGIN:VEVENT
CLASS:PUBLIC
DTSTART:20240201T183000Z
DURATION:PT2H30M
STATUS:CONFIRMED
SUMMARY:WunderBars (NR) vs. Bordsteinschmeißer
DESCRIPTION:3.Liga, Gruppe C (8. Spieltag)\nErgebnis: 17:15 (75:68)
LOCATION:KIXX, Nobistor 38, 22767 Hamburg-Altona-Altstadt
UID:SM-B15230@kickern-hamburg.de
PRIORITY:5
SEQUENCE:1
CATEGORIES:SPORT
DTSTAMP:20260420T182658
BEGIN:VALARM
ACTION:DISPLAY
TRIGGER:-PT2H
END:VALARM
END:VEVENT
BEGIN:VEVENT
CLASS:PUBLIC
DTSTART:20240215T180000Z
DURATION:PT2H30M
STATUS:CONFIRMED
SUMMARY:VFT Reflektorschirm Hamburg vs. WunderBars (NR)
DESCRIPTION:3.Liga, Gruppe C (9. Spieltag)\nErgebnis: 9:23 (56:86)
LOCATION:KIXX, Nobistor 38, 22767 Hamburg-Altona-Altstadt
UID:SM-B15242@kickern-hamburg.de
PRIORITY:5
SEQUENCE:1
CATEGORIES:SPORT
DTSTAMP:20260420T182658
BEGIN:VALARM
ACTION:DISPLAY
TRIGGER:-PT2H
END:VALARM
END:VEVENT
BEGIN:VEVENT
CLASS:PUBLIC
DTSTART:20240312T190000Z
DURATION:PT2H30M
STATUS:CONFIRMED
SUMMARY:Boltens vs. WunderBars (NR)
DESCRIPTION:Ligapokal 3. Liga (3. Runde)\nErgebnis: 14:18 (72:75)
LOCATION:Spielhaus Eimsbüttel, Eimsbütteler Marktplatz 1c, 20257 Hamburg-Eimsbüttel
UID:SM-B15742@kickern-hamburg.de
PRIORITY:5
SEQUENCE:1
CATEGORIES:SPORT
DTSTAMP:20260420T182658
BEGIN:VALARM
ACTION:DISPLAY
TRIGGER:-PT2H
END:VALARM
END:VEVENT
BEGIN:VEVENT
CLASS:PUBLIC
DTSTART:20240314T190000Z
DURATION:PT2H30M
STATUS:CONFIRMED
SUMMARY:FC Joy vs. WunderBars (NR)
DESCRIPTION:3.Liga, Gruppe C (11. Spieltag)\nErgebnis: 9:23 (59:83)
LOCATION:KIXX, Nobistor 38, 22767 Hamburg-Altona-Altstadt
UID:SM-B15187@kickern-hamburg.de
PRIORITY:5
SEQUENCE:1
CATEGORIES:SPORT
DTSTAMP:20260420T182658
BEGIN:VALARM
ACTION:DISPLAY
TRIGGER:-PT2H
END:VALARM
END:VEVENT
BEGIN:VEVENT
CLASS:PUBLIC
DTSTART:20240321T183000Z
DURATION:PT2H30M
STATUS:CONFIRMED
SUMMARY:UNK Gästeblock vs. WunderBars (NR)
DESCRIPTION:3.Liga, Gruppe C (12. Spieltag)\nErgebnis: 10:22 (65:82)
LOCATION:Hannes & Hanna Wohnzimmer (Raucher), Weidenallee 60, 20357 Hamburg-Eimsbüttel
UID:SM-B15197@kickern-hamburg.de
PRIORITY:5
SEQUENCE:1
CATEGORIES:SPORT
DTSTAMP:20260420T182658
BEGIN:VALARM
ACTION:DISPLAY
TRIGGER:-PT2H
END:VALARM
END:VEVENT
BEGIN:VEVENT
CLASS:PUBLIC
DTSTART:20240425T173000Z
DURATION:PT2H30M
STATUS:CONFIRMED
SUMMARY:Von der Stange vs. WunderBars (NR)
DESCRIPTION:Ligapokal 3. Liga (5. Runde)\nErgebnis: 22:10 (80:65)
LOCATION:Blitz Bar, Schulterblatt 110, 20357 Hamburg
UID:SM-B15757@kickern-hamburg.de
PRIORITY:5
SEQUENCE:1
CATEGORIES:SPORT
DTSTAMP:20260420T182658
BEGIN:VALARM
ACTION:DISPLAY
TRIGGER:-PT2H
END:VALARM
END:VEVENT
BEGIN:VEVENT
CLASS:PUBLIC
DTSTART:20240502T180000Z
DURATION:PT2H30M
STATUS:CONFIRMED
SUMMARY:Boltens vs. WunderBars (NR)
DESCRIPTION:3.Liga, Gruppe C (14. Spieltag)\nErgebnis: 7:25 (55:89)
LOCATION:Spielhaus Eimsbüttel, Eimsbütteler Marktplatz 1c, 20257 Hamburg-Eimsbüttel
UID:SM-B15209@kickern-hamburg.de
PRIORITY:5
SEQUENCE:1
CATEGORIES:SPORT
DTSTAMP:20260420T182658
BEGIN:VALARM
ACTION:DISPLAY
TRIGGER:-PT2H
END:VALARM
END:VEVENT
BEGIN:VEVENT
CLASS:PUBLIC
DTSTART:20240523T173000Z
DURATION:PT2H30M
STATUS:CONFIRMED
SUMMARY:WunderBars (NR) vs. Tingeltangel FC St. Pauli
DESCRIPTION:3.Liga, Gruppe C (15. Spieltag)\nErgebnis: 16:16 (69:68)
LOCATION:KIXX, Nobistor 38, 22767 Hamburg-Altona-Altstadt
UID:SM-B15215@kickern-hamburg.de
PRIORITY:5
SEQUENCE:1
CATEGORIES:SPORT
DTSTAMP:20260420T182658
BEGIN:VALARM
ACTION:DISPLAY
TRIGGER:-PT2H
END:VALARM
END:VEVENT
BEGIN:VEVENT
CLASS:PUBLIC
DTSTART:20240606T173000Z
DURATION:PT2H30M
STATUS:CONFIRMED
SUMMARY:WunderBars (NR) vs. Von der Stange
DESCRIPTION:3.Liga, Gruppe C (16. Spieltag)\nErgebnis: 19:13 (73:70)
LOCATION:KIXX, Nobistor 38, 22767 Hamburg-Altona-Altstadt
UID:SM-B15223@kickern-hamburg.de
PRIORITY:5
SEQUENCE:1
CATEGORIES:SPORT
DTSTAMP:20260420T182658
BEGIN:VALARM
ACTION:DISPLAY
TRIGGER:-PT2H
END:VALARM
END:VEVENT
BEGIN:VEVENT
CLASS:PUBLIC
DTSTART:20240620T180000Z
DURATION:PT2H30M
STATUS:CONFIRMED
SUMMARY:Bordsteinschmeißer vs. WunderBars (NR)
DESCRIPTION:3.Liga, Gruppe C (17. Spieltag)\nErgebnis: 15:17 (72:71)
LOCATION:Deutsche Seemannsmission Hamburg-Altona, Große Elbstraße 132, 22767 Hamburg-Altona
UID:SM-B15231@kickern-hamburg.de
PRIORITY:5
SEQUENCE:1
CATEGORIES:SPORT
DTSTAMP:20260420T182658
BEGIN:VALARM
ACTION:DISPLAY
TRIGGER:-PT2H
END:VALARM
END:VEVENT
BEGIN:VEVENT
CLASS:PUBLIC
DTSTART:20240711T173000Z
DURATION:PT2H30M
STATUS:CONFIRMED
SUMMARY:WunderBars (NR) vs. VFT Reflektorschirm Hamburg
DESCRIPTION:3.Liga, Gruppe C (18. Spieltag)\nErgebnis: 12:20 (67:80)
LOCATION:KIXX, Nobistor 38, 22767 Hamburg-Altona-Altstadt
UID:SM-B15243@kickern-hamburg.de
PRIORITY:5
SEQUENCE:1
CATEGORIES:SPORT
DTSTAMP:20260420T182658
BEGIN:VALARM
ACTION:DISPLAY
TRIGGER:-PT2H
END:VALARM
END:VEVENT
END:VCALENDAR
