BEGIN:VCALENDAR
VERSION:2.0
PRODID:PHP
METHOD:REQUEST
X-ORIGINAL-URL:https://kickern-hamburg.de/liga/aktuelle-partien?task=team_begegnungen_ical&id=4437
X-WR-CALNAME;VALUE=TEXT:Torfabrik Silpion (NR)
BEGIN:VEVENT
CLASS:PUBLIC
DTSTART:20230914T180000Z
DURATION:PT2H30M
STATUS:CONFIRMED
SUMMARY:Dampframme Aalstars vs. Torfabrik Silpion (NR)
DESCRIPTION:3.Liga, Gruppe B (1. Spieltag)\nErgebnis: 7:25 (53:86)
LOCATION:KIXX, Nobistor 38, 22767 Hamburg-Altona-Altstadt
UID:SM-B15102@kickern-hamburg.de
PRIORITY:5
SEQUENCE:1
CATEGORIES:SPORT
DTSTAMP:20260420T140821
BEGIN:VALARM
ACTION:DISPLAY
TRIGGER:-PT2H
END:VALARM
END:VEVENT
BEGIN:VEVENT
CLASS:PUBLIC
DTSTART:20230920T180000Z
DURATION:PT2H30M
STATUS:CONFIRMED
SUMMARY:Torfabrik Silpion (NR) vs. Die Ilohhminauten FC St. Pauli
DESCRIPTION:3.Liga, Gruppe B (2. Spieltag)\nErgebnis: 20:12 (76:67)
LOCATION:Die Torfabrik, Zum Sportplatz 10, 21220 Seevetal
UID:SM-B15110@kickern-hamburg.de
PRIORITY:5
SEQUENCE:1
CATEGORIES:SPORT
DTSTAMP:20260420T140821
BEGIN:VALARM
ACTION:DISPLAY
TRIGGER:-PT2H
END:VALARM
END:VEVENT
BEGIN:VEVENT
CLASS:PUBLIC
DTSTART:20231012T180000Z
DURATION:PT2H30M
STATUS:CONFIRMED
SUMMARY:Torfabrik Silpion (NR) vs. FC St. Pauli MiDDelDinger (NR)
DESCRIPTION:3.Liga, Gruppe B (3. Spieltag)\nErgebnis: 21:11 (80:66)
LOCATION:Die Torfabrik, Zum Sportplatz 10, 21220 Seevetal
UID:SM-B15122@kickern-hamburg.de
PRIORITY:5
SEQUENCE:1
CATEGORIES:SPORT
DTSTAMP:20260420T140821
BEGIN:VALARM
ACTION:DISPLAY
TRIGGER:-PT2H
END:VALARM
END:VEVENT
BEGIN:VEVENT
CLASS:PUBLIC
DTSTART:20231107T190000Z
DURATION:PT2H30M
STATUS:CONFIRMED
SUMMARY:Kicksiders (NR) vs. Torfabrik Silpion (NR)
DESCRIPTION:3.Liga, Gruppe B (4. Spieltag)\nErgebnis: 19:13 (79:68)
LOCATION:Sidekick, Winsener Straße 190, 21077 Hamburg-Harburg
UID:SM-B15128@kickern-hamburg.de
PRIORITY:5
SEQUENCE:1
CATEGORIES:SPORT
DTSTAMP:20260420T140821
BEGIN:VALARM
ACTION:DISPLAY
TRIGGER:-PT2H
END:VALARM
END:VEVENT
BEGIN:VEVENT
CLASS:PUBLIC
DTSTART:20231130T190000Z
DURATION:PT2H30M
STATUS:CONFIRMED
SUMMARY:Torfabrik Silpion (NR) vs. HSV Torschmuggler (NR)
DESCRIPTION:Landespokal (2. Runde)\nErgebnis: 19:13 (76:64)
LOCATION:Die Torfabrik, Zum Sportplatz 10, 21220 Seevetal
UID:SM-B15698@kickern-hamburg.de
PRIORITY:5
SEQUENCE:1
CATEGORIES:SPORT
DTSTAMP:20260420T140821
BEGIN:VALARM
ACTION:DISPLAY
TRIGGER:-PT2H
END:VALARM
END:VEVENT
BEGIN:VEVENT
CLASS:PUBLIC
DTSTART:20231221T190000Z
DURATION:PT2H30M
STATUS:CONFIRMED
SUMMARY:Torfabrik Silpion (NR) vs. Roter Stern Kickers 1 (NR)
DESCRIPTION:Ligapokal 3. Liga (2. Runde)\nErgebnis: 21:11 (83:70)
LOCATION:Die Torfabrik, Zum Sportplatz 10, 21220 Seevetal
UID:SM-B15664@kickern-hamburg.de
PRIORITY:5
SEQUENCE:1
CATEGORIES:SPORT
DTSTAMP:20260420T140821
BEGIN:VALARM
ACTION:DISPLAY
TRIGGER:-PT2H
END:VALARM
END:VEVENT
BEGIN:VEVENT
CLASS:PUBLIC
DTSTART:20240109T190000Z
DURATION:PT2H30M
STATUS:CONFIRMED
SUMMARY:Torfabrik Silpion (NR) vs. Die Ilohhminauten FC St. Pauli
DESCRIPTION:Landespokal (3. Runde)\nErgebnis: 14:18 (71:76)
LOCATION:Die Torfabrik, Zum Sportplatz 10, 21220 Seevetal
UID:SM-B15721@kickern-hamburg.de
PRIORITY:5
SEQUENCE:1
CATEGORIES:SPORT
DTSTAMP:20260420T140821
BEGIN:VALARM
ACTION:DISPLAY
TRIGGER:-PT2H
END:VALARM
END:VEVENT
BEGIN:VEVENT
CLASS:PUBLIC
DTSTART:20240111T190000Z
DURATION:PT2H30M
STATUS:CONFIRMED
SUMMARY:Torfabrik Silpion (NR) vs. Bolzen Edel
DESCRIPTION:3.Liga, Gruppe B (7. Spieltag)\nErgebnis: 12:20 (67:76)
LOCATION:Die Torfabrik, Zum Sportplatz 10, 21220 Seevetal
UID:SM-B15152@kickern-hamburg.de
PRIORITY:5
SEQUENCE:1
CATEGORIES:SPORT
DTSTAMP:20260420T140821
BEGIN:VALARM
ACTION:DISPLAY
TRIGGER:-PT2H
END:VALARM
END:VEVENT
BEGIN:VEVENT
CLASS:PUBLIC
DTSTART:20240201T183000Z
DURATION:PT2H30M
STATUS:CONFIRMED
SUMMARY:Buffplatzmafia TF vs. Torfabrik Silpion (NR)
DESCRIPTION:3.Liga, Gruppe B (8. Spieltag)\nErgebnis: 15:17 (61:69)
LOCATION:Inline-Zentrale (RAUCHER), Sachsenstraße 7, 20097 Hamburg-Hammerbrook
UID:SM-B15158@kickern-hamburg.de
PRIORITY:5
SEQUENCE:1
CATEGORIES:SPORT
DTSTAMP:20260420T140821
BEGIN:VALARM
ACTION:DISPLAY
TRIGGER:-PT2H
END:VALARM
END:VEVENT
BEGIN:VEVENT
CLASS:PUBLIC
DTSTART:20240208T190000Z
DURATION:PT2H30M
STATUS:CONFIRMED
SUMMARY:Torfabrik Silpion (NR) vs. Bergbarbaren
DESCRIPTION:3.Liga, Gruppe B (9. Spieltag)\nErgebnis: 17:15 (77:75)
LOCATION:Die Torfabrik, Zum Sportplatz 10, 21220 Seevetal
UID:SM-B15168@kickern-hamburg.de
PRIORITY:5
SEQUENCE:1
CATEGORIES:SPORT
DTSTAMP:20260420T140821
BEGIN:VALARM
ACTION:DISPLAY
TRIGGER:-PT2H
END:VALARM
END:VEVENT
BEGIN:VEVENT
CLASS:PUBLIC
DTSTART:20240215T190000Z
DURATION:PT2H30M
STATUS:CONFIRMED
SUMMARY:TkC Rrraddauuuuuh! vs. Torfabrik Silpion (NR)
DESCRIPTION:Ligapokal 3. Liga (3. Runde)\nErgebnis: 12:20 (66:83)
LOCATION:Rrraddauuuuuh! e.V., Friedensallee 44, 22765 Hamburg-Altona
UID:SM-B15740@kickern-hamburg.de
PRIORITY:5
SEQUENCE:1
CATEGORIES:SPORT
DTSTAMP:20260420T140821
BEGIN:VALARM
ACTION:DISPLAY
TRIGGER:-PT2H
END:VALARM
END:VEVENT
BEGIN:VEVENT
CLASS:PUBLIC
DTSTART:20240229T190000Z
DURATION:PT2H30M
STATUS:CONFIRMED
SUMMARY:Torfabrik Silpion (NR) vs. Dampframme Aalstars
DESCRIPTION:3.Liga, Gruppe B (10. Spieltag)\nErgebnis: 25:7 (88:51)
LOCATION:Die Torfabrik, Zum Sportplatz 10, 21220 Seevetal
UID:SM-B15103@kickern-hamburg.de
PRIORITY:5
SEQUENCE:1
CATEGORIES:SPORT
DTSTAMP:20260420T140821
BEGIN:VALARM
ACTION:DISPLAY
TRIGGER:-PT2H
END:VALARM
END:VEVENT
BEGIN:VEVENT
CLASS:PUBLIC
DTSTART:20240307T190000Z
DURATION:PT2H30M
STATUS:CONFIRMED
SUMMARY:Die Ilohhminauten FC St. Pauli vs. Torfabrik Silpion (NR)
DESCRIPTION:3.Liga, Gruppe B (11. Spieltag)\nErgebnis: 14:18 (67:80)
LOCATION:Ilohh Bar (RAUCHER), Repsoldstraße 52, 20097 Hamburg-Hammerbrook
UID:SM-B15111@kickern-hamburg.de
PRIORITY:5
SEQUENCE:1
CATEGORIES:SPORT
DTSTAMP:20260420T140821
BEGIN:VALARM
ACTION:DISPLAY
TRIGGER:-PT2H
END:VALARM
END:VEVENT
BEGIN:VEVENT
CLASS:PUBLIC
DTSTART:20240404T180000Z
DURATION:PT2H30M
STATUS:CONFIRMED
SUMMARY:FC St. Pauli MiDDelDinger (NR) vs. Torfabrik Silpion (NR)
DESCRIPTION:3.Liga, Gruppe B (12. Spieltag)\nErgebnis: 19:13 (80:68)
LOCATION:Hannes & Hanna Wohnzimmer (Raucher), Weidenallee 60, 20357 Hamburg-Eimsbüttel
UID:SM-B15123@kickern-hamburg.de
PRIORITY:5
SEQUENCE:1
CATEGORIES:SPORT
DTSTAMP:20260420T140821
BEGIN:VALARM
ACTION:DISPLAY
TRIGGER:-PT2H
END:VALARM
END:VEVENT
BEGIN:VEVENT
CLASS:PUBLIC
DTSTART:20240411T180000Z
DURATION:PT2H30M
STATUS:CONFIRMED
SUMMARY:Torfabrik Silpion (NR) vs. Kicksiders (NR)
DESCRIPTION:Ligapokal 3. Liga (5. Runde)\nErgebnis: 18:14 (81:78)
LOCATION:Die Torfabrik, Zum Sportplatz 10, 21220 Seevetal
UID:SM-B15752@kickern-hamburg.de
PRIORITY:5
SEQUENCE:1
CATEGORIES:SPORT
DTSTAMP:20260420T140821
BEGIN:VALARM
ACTION:DISPLAY
TRIGGER:-PT2H
END:VALARM
END:VEVENT
BEGIN:VEVENT
CLASS:PUBLIC
DTSTART:20240418T180000Z
DURATION:PT2H30M
STATUS:CONFIRMED
SUMMARY:Torfabrik Silpion (NR) vs. Kicksiders (NR)
DESCRIPTION:3.Liga, Gruppe B (13. Spieltag)\nErgebnis: 10:22 (66:84)
LOCATION:Die Torfabrik, Zum Sportplatz 10, 21220 Seevetal
UID:SM-B15129@kickern-hamburg.de
PRIORITY:5
SEQUENCE:1
CATEGORIES:SPORT
DTSTAMP:20260420T140821
BEGIN:VALARM
ACTION:DISPLAY
TRIGGER:-PT2H
END:VALARM
END:VEVENT
BEGIN:VEVENT
CLASS:PUBLIC
DTSTART:20240601T140000Z
DURATION:PT2H30M
STATUS:CONFIRMED
SUMMARY:Tingeltangel FC St. Pauli vs. Torfabrik Silpion (NR)
DESCRIPTION:Ligapokal 3. Liga (Halbfinale)\nErgebnis: 22:10 (84:62)
LOCATION:FC St. Pauli Clubheim, Harald-Stender-Platz 1, 20359 Hamburg-St. Pauli
UID:SM-B15761@kickern-hamburg.de
PRIORITY:5
SEQUENCE:1
CATEGORIES:SPORT
DTSTAMP:20260420T140821
BEGIN:VALARM
ACTION:DISPLAY
TRIGGER:-PT2H
END:VALARM
END:VEVENT
BEGIN:VEVENT
CLASS:PUBLIC
DTSTART:20240601T170000Z
DURATION:PT2H30M
STATUS:CONFIRMED
SUMMARY:Torfabrik Silpion (NR) vs. Die Ilohhminauten FC St. Pauli
DESCRIPTION:Ligapokal 3. Liga (Platz 3)\nErgebnis: 14:18 (77:77)
LOCATION:Die Torfabrik, Zum Sportplatz 10, 21220 Seevetal
UID:SM-B15768@kickern-hamburg.de
PRIORITY:5
SEQUENCE:1
CATEGORIES:SPORT
DTSTAMP:20260420T140821
BEGIN:VALARM
ACTION:DISPLAY
TRIGGER:-PT2H
END:VALARM
END:VEVENT
BEGIN:VEVENT
CLASS:PUBLIC
DTSTART:20240606T173000Z
DURATION:PT2H30M
STATUS:CONFIRMED
SUMMARY:Bolzen Edel vs. Torfabrik Silpion (NR)
DESCRIPTION:3.Liga, Gruppe B (16. Spieltag)\nErgebnis: 9:23 (62:86)
LOCATION:Sidekick, Winsener Straße 190, 21077 Hamburg-Harburg
UID:SM-B15153@kickern-hamburg.de
PRIORITY:5
SEQUENCE:1
CATEGORIES:SPORT
DTSTAMP:20260420T140821
BEGIN:VALARM
ACTION:DISPLAY
TRIGGER:-PT2H
END:VALARM
END:VEVENT
BEGIN:VEVENT
CLASS:PUBLIC
DTSTART:20240627T180000Z
DURATION:PT2H30M
STATUS:CONFIRMED
SUMMARY:Torfabrik Silpion (NR) vs. Buffplatzmafia TF
DESCRIPTION:3.Liga, Gruppe B (17. Spieltag)\nErgebnis: 2:0 (2:0)
LOCATION:Die Torfabrik, Zum Sportplatz 10, 21220 Seevetal
UID:SM-B15159@kickern-hamburg.de
PRIORITY:5
SEQUENCE:1
CATEGORIES:SPORT
DTSTAMP:20260420T140821
BEGIN:VALARM
ACTION:DISPLAY
TRIGGER:-PT2H
END:VALARM
END:VEVENT
BEGIN:VEVENT
CLASS:PUBLIC
DTSTART:20240704T180000Z
DURATION:PT2H30M
STATUS:CONFIRMED
SUMMARY:Bergbarbaren vs. Torfabrik Silpion (NR)
DESCRIPTION:3.Liga, Gruppe B (18. Spieltag)\nErgebnis: 17:15 (73:72)
LOCATION:KIXX, Nobistor 38, 22767 Hamburg-Altona-Altstadt
UID:SM-B15169@kickern-hamburg.de
PRIORITY:5
SEQUENCE:1
CATEGORIES:SPORT
DTSTAMP:20260420T140821
BEGIN:VALARM
ACTION:DISPLAY
TRIGGER:-PT2H
END:VALARM
END:VEVENT
END:VCALENDAR
