BEGIN:VCALENDAR
VERSION:2.0
PRODID:PHP
METHOD:REQUEST
X-ORIGINAL-URL:https://kickern-hamburg.de/liga/aktuelle-partien?task=team_begegnungen_ical&id=4418
X-WR-CALNAME;VALUE=TEXT:Monkey Inferno
BEGIN:VEVENT
CLASS:PUBLIC
DTSTART:20231019T180000Z
DURATION:PT2H30M
STATUS:CONFIRMED
SUMMARY:Dynamo & Durchstarters Grete Hamburg vs. Monkey Inferno
DESCRIPTION:Landespokal (1. Runde)\nErgebnis: 5:27 (51:91)
LOCATION:Grete (Kulturverein), Margaretenstraße 33, 20357 Hamburg
UID:SM-B15252@kickern-hamburg.de
PRIORITY:5
SEQUENCE:1
CATEGORIES:SPORT
DTSTAMP:20260420T182659
BEGIN:VALARM
ACTION:DISPLAY
TRIGGER:-PT2H
END:VALARM
END:VEVENT
BEGIN:VEVENT
CLASS:PUBLIC
DTSTART:20231207T180000Z
DURATION:PT2H30M
STATUS:CONFIRMED
SUMMARY:Kickerbande (NR) vs. Monkey Inferno
DESCRIPTION:Landespokal (2. Runde)\nErgebnis: 19:13 (82:71)
LOCATION:HBT Hamburger Berater Team, Stadthausbrücke 3, 20355 Hamburg-Neustadt
UID:SM-B15701@kickern-hamburg.de
PRIORITY:5
SEQUENCE:1
CATEGORIES:SPORT
DTSTAMP:20260420T182659
BEGIN:VALARM
ACTION:DISPLAY
TRIGGER:-PT2H
END:VALARM
END:VEVENT
END:VCALENDAR
