BEGIN:VCALENDAR
VERSION:2.0
PRODID:PHP
METHOD:REQUEST
X-ORIGINAL-URL:https://kickern-hamburg.de/liga/aktuelle-partien?task=team_begegnungen_ical&id=4384
X-WR-CALNAME;VALUE=TEXT:Cim Bom Bom II (NR)
BEGIN:VEVENT
CLASS:PUBLIC
DTSTART:20230905T173000Z
DURATION:PT2H30M
STATUS:CONFIRMED
SUMMARY:Cim Bom Bom II (NR) vs. HSV II Kurbelkraft (NR)
DESCRIPTION:1.Liga (1. Spieltag)\nErgebnis: 21:11 (83:63)
LOCATION:KIXX, Nobistor 38, 22767 Hamburg-Altona-Altstadt
UID:SM-B14746@kickern-hamburg.de
PRIORITY:5
SEQUENCE:1
CATEGORIES:SPORT
DTSTAMP:20260420T182603
BEGIN:VALARM
ACTION:DISPLAY
TRIGGER:-PT2H
END:VALARM
END:VEVENT
BEGIN:VEVENT
CLASS:PUBLIC
DTSTART:20230928T173000Z
DURATION:PT2H30M
STATUS:CONFIRMED
SUMMARY:Gadgettos II (NR) vs. Cim Bom Bom II (NR)
DESCRIPTION:1.Liga (2. Spieltag)\nErgebnis: 9:23 (63:86)
LOCATION:KIXX, Nobistor 38, 22767 Hamburg-Altona-Altstadt
UID:SM-B14754@kickern-hamburg.de
PRIORITY:5
SEQUENCE:1
CATEGORIES:SPORT
DTSTAMP:20260420T182603
BEGIN:VALARM
ACTION:DISPLAY
TRIGGER:-PT2H
END:VALARM
END:VEVENT
BEGIN:VEVENT
CLASS:PUBLIC
DTSTART:20231010T173000Z
DURATION:PT2H30M
STATUS:CONFIRMED
SUMMARY:Cim Bom Bom II (NR) vs. Die Maschinerie II
DESCRIPTION:1.Liga (3. Spieltag)\nErgebnis: 21:11 (79:65)
LOCATION:KIXX, Nobistor 38, 22767 Hamburg-Altona-Altstadt
UID:SM-B14764@kickern-hamburg.de
PRIORITY:5
SEQUENCE:1
CATEGORIES:SPORT
DTSTAMP:20260420T182603
BEGIN:VALARM
ACTION:DISPLAY
TRIGGER:-PT2H
END:VALARM
END:VEVENT
BEGIN:VEVENT
CLASS:PUBLIC
DTSTART:20231102T190000Z
DURATION:PT2H30M
STATUS:CONFIRMED
SUMMARY:Chupacabras vs. Cim Bom Bom II (NR)
DESCRIPTION:1.Liga (4. Spieltag)\nErgebnis: 12:20 (64:79)
LOCATION:KIXX, Nobistor 38, 22767 Hamburg-Altona-Altstadt
UID:SM-B14772@kickern-hamburg.de
PRIORITY:5
SEQUENCE:1
CATEGORIES:SPORT
DTSTAMP:20260420T182603
BEGIN:VALARM
ACTION:DISPLAY
TRIGGER:-PT2H
END:VALARM
END:VEVENT
BEGIN:VEVENT
CLASS:PUBLIC
DTSTART:20231107T183000Z
DURATION:PT2H30M
STATUS:CONFIRMED
SUMMARY:HSV BAMbole (NR) vs. Cim Bom Bom II (NR)
DESCRIPTION:Landespokal (2. Runde)\nErgebnis: 6:26 (58:89)
LOCATION:KIXX, Nobistor 38, 22767 Hamburg-Altona-Altstadt
UID:SM-B15699@kickern-hamburg.de
PRIORITY:5
SEQUENCE:1
CATEGORIES:SPORT
DTSTAMP:20260420T182603
BEGIN:VALARM
ACTION:DISPLAY
TRIGGER:-PT2H
END:VALARM
END:VEVENT
BEGIN:VEVENT
CLASS:PUBLIC
DTSTART:20231121T183000Z
DURATION:PT2H30M
STATUS:CONFIRMED
SUMMARY:Fivebar II vs. Cim Bom Bom II (NR)
DESCRIPTION:1.Liga (5. Spieltag)\nErgebnis: 12:20 (71:80)
LOCATION:KIXX, Nobistor 38, 22767 Hamburg-Altona-Altstadt
UID:SM-B14790@kickern-hamburg.de
PRIORITY:5
SEQUENCE:1
CATEGORIES:SPORT
DTSTAMP:20260420T182603
BEGIN:VALARM
ACTION:DISPLAY
TRIGGER:-PT2H
END:VALARM
END:VEVENT
BEGIN:VEVENT
CLASS:PUBLIC
DTSTART:20231205T183000Z
DURATION:PT2H30M
STATUS:CONFIRMED
SUMMARY:Cim Bom Bom II (NR) vs. BSC Überbande II
DESCRIPTION:1.Liga (6. Spieltag)\nErgebnis: 22:10 (82:64)
LOCATION:KIXX, Nobistor 38, 22767 Hamburg-Altona-Altstadt
UID:SM-B14800@kickern-hamburg.de
PRIORITY:5
SEQUENCE:1
CATEGORIES:SPORT
DTSTAMP:20260420T182603
BEGIN:VALARM
ACTION:DISPLAY
TRIGGER:-PT2H
END:VALARM
END:VEVENT
BEGIN:VEVENT
CLASS:PUBLIC
DTSTART:20231219T183000Z
DURATION:PT2H30M
STATUS:CONFIRMED
SUMMARY:Cim Bom Bom II (NR) vs. Chupacabras
DESCRIPTION:Landespokal (3. Runde)\nErgebnis: 19:13 (80:68)
LOCATION:KIXX, Nobistor 38, 22767 Hamburg-Altona-Altstadt
UID:SM-B15714@kickern-hamburg.de
PRIORITY:5
SEQUENCE:1
CATEGORIES:SPORT
DTSTAMP:20260420T182603
BEGIN:VALARM
ACTION:DISPLAY
TRIGGER:-PT2H
END:VALARM
END:VEVENT
BEGIN:VEVENT
CLASS:PUBLIC
DTSTART:20240116T183000Z
DURATION:PT2H30M
STATUS:CONFIRMED
SUMMARY:Cim Bom Bom II (NR) vs. Fightclub FC St. Pauli II
DESCRIPTION:1.Liga (7. Spieltag)\nErgebnis: 19:13 (79:68)
LOCATION:KIXX, Nobistor 38, 22767 Hamburg-Altona-Altstadt
UID:SM-B14806@kickern-hamburg.de
PRIORITY:5
SEQUENCE:1
CATEGORIES:SPORT
DTSTAMP:20260420T182603
BEGIN:VALARM
ACTION:DISPLAY
TRIGGER:-PT2H
END:VALARM
END:VEVENT
BEGIN:VEVENT
CLASS:PUBLIC
DTSTART:20240130T190000Z
DURATION:PT2H30M
STATUS:CONFIRMED
SUMMARY:JLZ NortHHunters (NR) vs. Cim Bom Bom II (NR)
DESCRIPTION:1.Liga (8. Spieltag)\nErgebnis: 13:19 (68:80)
LOCATION:Jugendleistungszentrum HdJ Lattenkamp, Bebelallee 22, 22299 Hamburg-Winterhude
UID:SM-B14814@kickern-hamburg.de
PRIORITY:5
SEQUENCE:1
CATEGORIES:SPORT
DTSTAMP:20260420T182603
BEGIN:VALARM
ACTION:DISPLAY
TRIGGER:-PT2H
END:VALARM
END:VEVENT
BEGIN:VEVENT
CLASS:PUBLIC
DTSTART:20240206T183000Z
DURATION:PT2H30M
STATUS:CONFIRMED
SUMMARY:Cim Bom Bom II (NR) vs. Lotterie (NR)
DESCRIPTION:1.Liga (9. Spieltag)\nErgebnis: 25:7 (86:60)
LOCATION:KIXX, Nobistor 38, 22767 Hamburg-Altona-Altstadt
UID:SM-B14830@kickern-hamburg.de
PRIORITY:5
SEQUENCE:1
CATEGORIES:SPORT
DTSTAMP:20260420T182603
BEGIN:VALARM
ACTION:DISPLAY
TRIGGER:-PT2H
END:VALARM
END:VEVENT
BEGIN:VEVENT
CLASS:PUBLIC
DTSTART:20240221T190000Z
DURATION:PT2H30M
STATUS:CONFIRMED
SUMMARY:Foosball Club FC St. Pauli vs. Cim Bom Bom II (NR)
DESCRIPTION:Landespokal (4. Runde)\nErgebnis: 5:27 (56:90)
LOCATION:The Pub formerly known as Froggys (RAUCH, Eimbütteler Chaussee 29, 20259 Hamburg-Eimsbüttel
UID:SM-B15738@kickern-hamburg.de
PRIORITY:5
SEQUENCE:1
CATEGORIES:SPORT
DTSTAMP:20260420T182603
BEGIN:VALARM
ACTION:DISPLAY
TRIGGER:-PT2H
END:VALARM
END:VEVENT
BEGIN:VEVENT
CLASS:PUBLIC
DTSTART:20240227T180000Z
DURATION:PT2H30M
STATUS:CONFIRMED
SUMMARY:HSV II Kurbelkraft (NR) vs. Cim Bom Bom II (NR)
DESCRIPTION:1.Liga (10. Spieltag)\nErgebnis: 8:24 (61:88)
LOCATION:KIXX, Nobistor 38, 22767 Hamburg-Altona-Altstadt
UID:SM-B14747@kickern-hamburg.de
PRIORITY:5
SEQUENCE:1
CATEGORIES:SPORT
DTSTAMP:20260420T182603
BEGIN:VALARM
ACTION:DISPLAY
TRIGGER:-PT2H
END:VALARM
END:VEVENT
BEGIN:VEVENT
CLASS:PUBLIC
DTSTART:20240312T183000Z
DURATION:PT2H30M
STATUS:CONFIRMED
SUMMARY:Cim Bom Bom II (NR) vs. Gadgettos II (NR)
DESCRIPTION:1.Liga (11. Spieltag)\nErgebnis: 24:8 (85:65)
LOCATION:KIXX, Nobistor 38, 22767 Hamburg-Altona-Altstadt
UID:SM-B14755@kickern-hamburg.de
PRIORITY:5
SEQUENCE:1
CATEGORIES:SPORT
DTSTAMP:20260420T182603
BEGIN:VALARM
ACTION:DISPLAY
TRIGGER:-PT2H
END:VALARM
END:VEVENT
BEGIN:VEVENT
CLASS:PUBLIC
DTSTART:20240326T180000Z
DURATION:PT2H30M
STATUS:CONFIRMED
SUMMARY:Kickerbande (NR) vs. Cim Bom Bom II (NR)
DESCRIPTION:Landespokal (5. Runde)\nErgebnis: 4:18 (37:61)
LOCATION:HBT Hamburger Berater Team, Stadthausbrücke 3, 20355 Hamburg-Neustadt
UID:SM-B15751@kickern-hamburg.de
PRIORITY:5
SEQUENCE:1
CATEGORIES:SPORT
DTSTAMP:20260420T182603
BEGIN:VALARM
ACTION:DISPLAY
TRIGGER:-PT2H
END:VALARM
END:VEVENT
BEGIN:VEVENT
CLASS:PUBLIC
DTSTART:20240409T180000Z
DURATION:PT2H30M
STATUS:CONFIRMED
SUMMARY:Die Maschinerie II vs. Cim Bom Bom II (NR)
DESCRIPTION:1.Liga (12. Spieltag)\nErgebnis: 11:21 (70:83)
LOCATION:KIXX, Nobistor 38, 22767 Hamburg-Altona-Altstadt
UID:SM-B14765@kickern-hamburg.de
PRIORITY:5
SEQUENCE:1
CATEGORIES:SPORT
DTSTAMP:20260420T182603
BEGIN:VALARM
ACTION:DISPLAY
TRIGGER:-PT2H
END:VALARM
END:VEVENT
BEGIN:VEVENT
CLASS:PUBLIC
DTSTART:20240423T173000Z
DURATION:PT2H30M
STATUS:CONFIRMED
SUMMARY:Cim Bom Bom II (NR) vs. Chupacabras
DESCRIPTION:1.Liga (13. Spieltag)\nErgebnis: 29:3 (92:50)
LOCATION:KIXX, Nobistor 38, 22767 Hamburg-Altona-Altstadt
UID:SM-B14773@kickern-hamburg.de
PRIORITY:5
SEQUENCE:1
CATEGORIES:SPORT
DTSTAMP:20260420T182603
BEGIN:VALARM
ACTION:DISPLAY
TRIGGER:-PT2H
END:VALARM
END:VEVENT
BEGIN:VEVENT
CLASS:PUBLIC
DTSTART:20240507T173000Z
DURATION:PT2H30M
STATUS:CONFIRMED
SUMMARY:Cim Bom Bom II (NR) vs. Fivebar II
DESCRIPTION:1.Liga (14. Spieltag)\nErgebnis: 18:14 (75:75)
LOCATION:KIXX, Nobistor 38, 22767 Hamburg-Altona-Altstadt
UID:SM-B14791@kickern-hamburg.de
PRIORITY:5
SEQUENCE:1
CATEGORIES:SPORT
DTSTAMP:20260420T182603
BEGIN:VALARM
ACTION:DISPLAY
TRIGGER:-PT2H
END:VALARM
END:VEVENT
BEGIN:VEVENT
CLASS:PUBLIC
DTSTART:20240516T180000Z
DURATION:PT2H30M
STATUS:CONFIRMED
SUMMARY:BSC Überbande II vs. Cim Bom Bom II (NR)
DESCRIPTION:1.Liga (15. Spieltag)\nErgebnis: 9:23 (66:84)
LOCATION:KIXX, Nobistor 38, 22767 Hamburg-Altona-Altstadt
UID:SM-B14801@kickern-hamburg.de
PRIORITY:5
SEQUENCE:1
CATEGORIES:SPORT
DTSTAMP:20260420T182603
BEGIN:VALARM
ACTION:DISPLAY
TRIGGER:-PT2H
END:VALARM
END:VEVENT
BEGIN:VEVENT
CLASS:PUBLIC
DTSTART:20240601T140000Z
DURATION:PT2H30M
STATUS:CONFIRMED
SUMMARY:Die Maschinerie II vs. Cim Bom Bom II (NR)
DESCRIPTION:Landespokal (Halbfinale)\nErgebnis: 4:18 (32:60)
LOCATION:KIXX, Nobistor 38, 22767 Hamburg-Altona-Altstadt
UID:SM-B15760@kickern-hamburg.de
PRIORITY:5
SEQUENCE:1
CATEGORIES:SPORT
DTSTAMP:20260420T182603
BEGIN:VALARM
ACTION:DISPLAY
TRIGGER:-PT2H
END:VALARM
END:VEVENT
BEGIN:VEVENT
CLASS:PUBLIC
DTSTART:20240601T170000Z
DURATION:PT2H30M
STATUS:CONFIRMED
SUMMARY:BSC Überbande II vs. Cim Bom Bom II (NR)
DESCRIPTION:Landespokal (Finale)\nErgebnis: 17:5 (57:35)
LOCATION:KIXX, Nobistor 38, 22767 Hamburg-Altona-Altstadt
UID:SM-B15769@kickern-hamburg.de
PRIORITY:5
SEQUENCE:1
CATEGORIES:SPORT
DTSTAMP:20260420T182603
BEGIN:VALARM
ACTION:DISPLAY
TRIGGER:-PT2H
END:VALARM
END:VEVENT
BEGIN:VEVENT
CLASS:PUBLIC
DTSTART:20240614T180000Z
DURATION:PT2H30M
STATUS:CONFIRMED
SUMMARY:Fightclub FC St. Pauli II vs. Cim Bom Bom II (NR)
DESCRIPTION:1.Liga (16. Spieltag)\nErgebnis: 10:22 (62:81)
LOCATION:FC St. Pauli Clubheim, Harald-Stender-Platz 1, 20359 Hamburg-St. Pauli
UID:SM-B14807@kickern-hamburg.de
PRIORITY:5
SEQUENCE:1
CATEGORIES:SPORT
DTSTAMP:20260420T182603
BEGIN:VALARM
ACTION:DISPLAY
TRIGGER:-PT2H
END:VALARM
END:VEVENT
BEGIN:VEVENT
CLASS:PUBLIC
DTSTART:20240618T173000Z
DURATION:PT2H30M
STATUS:CONFIRMED
SUMMARY:Cim Bom Bom II (NR) vs. JLZ NortHHunters (NR)
DESCRIPTION:1.Liga (17. Spieltag)\nErgebnis: 29:3 (92:54)
LOCATION:KIXX, Nobistor 38, 22767 Hamburg-Altona-Altstadt
UID:SM-B14815@kickern-hamburg.de
PRIORITY:5
SEQUENCE:1
CATEGORIES:SPORT
DTSTAMP:20260420T182603
BEGIN:VALARM
ACTION:DISPLAY
TRIGGER:-PT2H
END:VALARM
END:VEVENT
BEGIN:VEVENT
CLASS:PUBLIC
DTSTART:20240711T180000Z
DURATION:PT2H30M
STATUS:CONFIRMED
SUMMARY:Lotterie (NR) vs. Cim Bom Bom II (NR)
DESCRIPTION:1.Liga (18. Spieltag)\nErgebnis: 10:22 (66:80)
LOCATION:Deutsche Seemannsmission Hamburg-Altona, Große Elbstraße 132, 22767 Hamburg-Altona
UID:SM-B14831@kickern-hamburg.de
PRIORITY:5
SEQUENCE:1
CATEGORIES:SPORT
DTSTAMP:20260420T182603
BEGIN:VALARM
ACTION:DISPLAY
TRIGGER:-PT2H
END:VALARM
END:VEVENT
END:VCALENDAR
