BEGIN:VCALENDAR
VERSION:2.0
PRODID:PHP
METHOD:REQUEST
X-ORIGINAL-URL:https://kickern-hamburg.de/liga/aktuelle-partien?task=team_begegnungen_ical&id=4350
X-WR-CALNAME;VALUE=TEXT:Chupacabras
BEGIN:VEVENT
CLASS:PUBLIC
DTSTART:20230914T180000Z
DURATION:PT2H30M
STATUS:CONFIRMED
SUMMARY:Chupacabras vs. Gadgettos II (NR)
DESCRIPTION:1.Liga (1. Spieltag)\nErgebnis: 18:14 (75:72)
LOCATION:KIXX, Nobistor 38, 22767 Hamburg-Altona-Altstadt
UID:SM-B14744@kickern-hamburg.de
PRIORITY:5
SEQUENCE:1
CATEGORIES:SPORT
DTSTAMP:20260420T182725
BEGIN:VALARM
ACTION:DISPLAY
TRIGGER:-PT2H
END:VALARM
END:VEVENT
BEGIN:VEVENT
CLASS:PUBLIC
DTSTART:20230926T173000Z
DURATION:PT2H30M
STATUS:CONFIRMED
SUMMARY:Fivebar II vs. Chupacabras
DESCRIPTION:1.Liga (2. Spieltag)\nErgebnis: 18:14 (78:64)
LOCATION:KIXX, Nobistor 38, 22767 Hamburg-Altona-Altstadt
UID:SM-B14752@kickern-hamburg.de
PRIORITY:5
SEQUENCE:1
CATEGORIES:SPORT
DTSTAMP:20260420T182725
BEGIN:VALARM
ACTION:DISPLAY
TRIGGER:-PT2H
END:VALARM
END:VEVENT
BEGIN:VEVENT
CLASS:PUBLIC
DTSTART:20231010T173000Z
DURATION:PT2H30M
STATUS:CONFIRMED
SUMMARY:BSC Überbande II vs. Chupacabras
DESCRIPTION:1.Liga (3. Spieltag)\nErgebnis: 23:9 (87:68)
LOCATION:KIXX, Nobistor 38, 22767 Hamburg-Altona-Altstadt
UID:SM-B14762@kickern-hamburg.de
PRIORITY:5
SEQUENCE:1
CATEGORIES:SPORT
DTSTAMP:20260420T182725
BEGIN:VALARM
ACTION:DISPLAY
TRIGGER:-PT2H
END:VALARM
END:VEVENT
BEGIN:VEVENT
CLASS:PUBLIC
DTSTART:20231017T180000Z
DURATION:PT2H30M
STATUS:CONFIRMED
SUMMARY:Beginners (NR) vs. Chupacabras
DESCRIPTION:Landespokal (1. Runde)\nErgebnis: 10:22 (58:83)
LOCATION:KIXX, Nobistor 38, 22767 Hamburg-Altona-Altstadt
UID:SM-B15246@kickern-hamburg.de
PRIORITY:5
SEQUENCE:1
CATEGORIES:SPORT
DTSTAMP:20260420T182725
BEGIN:VALARM
ACTION:DISPLAY
TRIGGER:-PT2H
END:VALARM
END:VEVENT
BEGIN:VEVENT
CLASS:PUBLIC
DTSTART:20231025T180000Z
DURATION:PT2H30M
STATUS:CONFIRMED
SUMMARY:FC St. Pauli Waldmeisterin vs. Chupacabras
DESCRIPTION:Landespokal (2. Runde)\nErgebnis: 7:25 (56:88)
LOCATION:FC St. Pauli Clubheim, Harald-Stender-Platz 1, 20359 Hamburg-St. Pauli
UID:SM-B15700@kickern-hamburg.de
PRIORITY:5
SEQUENCE:1
CATEGORIES:SPORT
DTSTAMP:20260420T182725
BEGIN:VALARM
ACTION:DISPLAY
TRIGGER:-PT2H
END:VALARM
END:VEVENT
BEGIN:VEVENT
CLASS:PUBLIC
DTSTART:20231102T190000Z
DURATION:PT2H30M
STATUS:CONFIRMED
SUMMARY:Chupacabras vs. Cim Bom Bom II (NR)
DESCRIPTION:1.Liga (4. Spieltag)\nErgebnis: 12:20 (64:79)
LOCATION:KIXX, Nobistor 38, 22767 Hamburg-Altona-Altstadt
UID:SM-B14772@kickern-hamburg.de
PRIORITY:5
SEQUENCE:1
CATEGORIES:SPORT
DTSTAMP:20260420T182725
BEGIN:VALARM
ACTION:DISPLAY
TRIGGER:-PT2H
END:VALARM
END:VEVENT
BEGIN:VEVENT
CLASS:PUBLIC
DTSTART:20231123T190000Z
DURATION:PT2H30M
STATUS:CONFIRMED
SUMMARY:Chupacabras vs. Fightclub FC St. Pauli II
DESCRIPTION:1.Liga (5. Spieltag)\nErgebnis: 14:18 (67:77)
LOCATION:KIXX, Nobistor 38, 22767 Hamburg-Altona-Altstadt
UID:SM-B14786@kickern-hamburg.de
PRIORITY:5
SEQUENCE:1
CATEGORIES:SPORT
DTSTAMP:20260420T182725
BEGIN:VALARM
ACTION:DISPLAY
TRIGGER:-PT2H
END:VALARM
END:VEVENT
BEGIN:VEVENT
CLASS:PUBLIC
DTSTART:20231128T190000Z
DURATION:PT2H30M
STATUS:CONFIRMED
SUMMARY:JLZ NortHHunters (NR) vs. Chupacabras
DESCRIPTION:1.Liga (6. Spieltag)\nErgebnis: 15:17 (70:79)
LOCATION:Jugendleistungszentrum HdJ Lattenkamp, Bebelallee 22, 22299 Hamburg-Winterhude
UID:SM-B14794@kickern-hamburg.de
PRIORITY:5
SEQUENCE:1
CATEGORIES:SPORT
DTSTAMP:20260420T182725
BEGIN:VALARM
ACTION:DISPLAY
TRIGGER:-PT2H
END:VALARM
END:VEVENT
BEGIN:VEVENT
CLASS:PUBLIC
DTSTART:20231219T183000Z
DURATION:PT2H30M
STATUS:CONFIRMED
SUMMARY:Cim Bom Bom II (NR) vs. Chupacabras
DESCRIPTION:Landespokal (3. Runde)\nErgebnis: 19:13 (80:68)
LOCATION:KIXX, Nobistor 38, 22767 Hamburg-Altona-Altstadt
UID:SM-B15714@kickern-hamburg.de
PRIORITY:5
SEQUENCE:1
CATEGORIES:SPORT
DTSTAMP:20260420T182725
BEGIN:VALARM
ACTION:DISPLAY
TRIGGER:-PT2H
END:VALARM
END:VEVENT
BEGIN:VEVENT
CLASS:PUBLIC
DTSTART:20240116T190000Z
DURATION:PT2H30M
STATUS:CONFIRMED
SUMMARY:Chupacabras vs. Die Maschinerie II
DESCRIPTION:1.Liga (7. Spieltag)\nErgebnis: 10:22 (65:85)
LOCATION:KIXX, Nobistor 38, 22767 Hamburg-Altona-Altstadt
UID:SM-B14810@kickern-hamburg.de
PRIORITY:5
SEQUENCE:1
CATEGORIES:SPORT
DTSTAMP:20260420T182725
BEGIN:VALARM
ACTION:DISPLAY
TRIGGER:-PT2H
END:VALARM
END:VEVENT
BEGIN:VEVENT
CLASS:PUBLIC
DTSTART:20240201T190000Z
DURATION:PT2H30M
STATUS:CONFIRMED
SUMMARY:Lotterie (NR) vs. Chupacabras
DESCRIPTION:1.Liga (8. Spieltag)\nErgebnis: 22:10 (86:53)
LOCATION:Deutsche Seemannsmission Hamburg-Altona, Große Elbstraße 132, 22767 Hamburg-Altona
UID:SM-B14818@kickern-hamburg.de
PRIORITY:5
SEQUENCE:1
CATEGORIES:SPORT
DTSTAMP:20260420T182725
BEGIN:VALARM
ACTION:DISPLAY
TRIGGER:-PT2H
END:VALARM
END:VEVENT
BEGIN:VEVENT
CLASS:PUBLIC
DTSTART:20240208T190000Z
DURATION:PT2H30M
STATUS:CONFIRMED
SUMMARY:Chupacabras vs. HSV II Kurbelkraft (NR)
DESCRIPTION:1.Liga (9. Spieltag)\nErgebnis: 9:23 (68:83)
LOCATION:KIXX, Nobistor 38, 22767 Hamburg-Altona-Altstadt
UID:SM-B14826@kickern-hamburg.de
PRIORITY:5
SEQUENCE:1
CATEGORIES:SPORT
DTSTAMP:20260420T182725
BEGIN:VALARM
ACTION:DISPLAY
TRIGGER:-PT2H
END:VALARM
END:VEVENT
BEGIN:VEVENT
CLASS:PUBLIC
DTSTART:20240229T190000Z
DURATION:PT2H30M
STATUS:CONFIRMED
SUMMARY:Gadgettos II (NR) vs. Chupacabras
DESCRIPTION:1.Liga (10. Spieltag)\nErgebnis: 17:15 (77:73)
LOCATION:KIXX, Nobistor 38, 22767 Hamburg-Altona-Altstadt
UID:SM-B14745@kickern-hamburg.de
PRIORITY:5
SEQUENCE:1
CATEGORIES:SPORT
DTSTAMP:20260420T182725
BEGIN:VALARM
ACTION:DISPLAY
TRIGGER:-PT2H
END:VALARM
END:VEVENT
BEGIN:VEVENT
CLASS:PUBLIC
DTSTART:20240312T190000Z
DURATION:PT2H30M
STATUS:CONFIRMED
SUMMARY:Chupacabras vs. Fivebar II
DESCRIPTION:1.Liga (11. Spieltag)\nErgebnis: 11:21 (61:82)
LOCATION:KIXX, Nobistor 38, 22767 Hamburg-Altona-Altstadt
UID:SM-B14753@kickern-hamburg.de
PRIORITY:5
SEQUENCE:1
CATEGORIES:SPORT
DTSTAMP:20260420T182725
BEGIN:VALARM
ACTION:DISPLAY
TRIGGER:-PT2H
END:VALARM
END:VEVENT
BEGIN:VEVENT
CLASS:PUBLIC
DTSTART:20240411T180000Z
DURATION:PT2H30M
STATUS:CONFIRMED
SUMMARY:Chupacabras vs. BSC Überbande II
DESCRIPTION:1.Liga (12. Spieltag)\nErgebnis: 9:23 (67:83)
LOCATION:KIXX, Nobistor 38, 22767 Hamburg-Altona-Altstadt
UID:SM-B14763@kickern-hamburg.de
PRIORITY:5
SEQUENCE:1
CATEGORIES:SPORT
DTSTAMP:20260420T182725
BEGIN:VALARM
ACTION:DISPLAY
TRIGGER:-PT2H
END:VALARM
END:VEVENT
BEGIN:VEVENT
CLASS:PUBLIC
DTSTART:20240423T173000Z
DURATION:PT2H30M
STATUS:CONFIRMED
SUMMARY:Cim Bom Bom II (NR) vs. Chupacabras
DESCRIPTION:1.Liga (13. Spieltag)\nErgebnis: 29:3 (92:50)
LOCATION:KIXX, Nobistor 38, 22767 Hamburg-Altona-Altstadt
UID:SM-B14773@kickern-hamburg.de
PRIORITY:5
SEQUENCE:1
CATEGORIES:SPORT
DTSTAMP:20260420T182725
BEGIN:VALARM
ACTION:DISPLAY
TRIGGER:-PT2H
END:VALARM
END:VEVENT
BEGIN:VEVENT
CLASS:PUBLIC
DTSTART:20240510T180000Z
DURATION:PT2H30M
STATUS:CONFIRMED
SUMMARY:Fightclub FC St. Pauli II vs. Chupacabras
DESCRIPTION:1.Liga (14. Spieltag)\nErgebnis: 20:12 (82:70)
LOCATION:FC St. Pauli Clubheim, Harald-Stender-Platz 1, 20359 Hamburg-St. Pauli
UID:SM-B14787@kickern-hamburg.de
PRIORITY:5
SEQUENCE:1
CATEGORIES:SPORT
DTSTAMP:20260420T182725
BEGIN:VALARM
ACTION:DISPLAY
TRIGGER:-PT2H
END:VALARM
END:VEVENT
BEGIN:VEVENT
CLASS:PUBLIC
DTSTART:20240516T180000Z
DURATION:PT2H30M
STATUS:CONFIRMED
SUMMARY:Chupacabras vs. JLZ NortHHunters (NR)
DESCRIPTION:1.Liga (15. Spieltag)\nErgebnis: 16:16 (76:73)
LOCATION:KIXX, Nobistor 38, 22767 Hamburg-Altona-Altstadt
UID:SM-B14795@kickern-hamburg.de
PRIORITY:5
SEQUENCE:1
CATEGORIES:SPORT
DTSTAMP:20260420T182725
BEGIN:VALARM
ACTION:DISPLAY
TRIGGER:-PT2H
END:VALARM
END:VEVENT
BEGIN:VEVENT
CLASS:PUBLIC
DTSTART:20240611T180000Z
DURATION:PT2H30M
STATUS:CONFIRMED
SUMMARY:Die Maschinerie II vs. Chupacabras
DESCRIPTION:1.Liga (16. Spieltag)\nErgebnis: 20:12 (79:70)
LOCATION:KIXX, Nobistor 38, 22767 Hamburg-Altona-Altstadt
UID:SM-B14811@kickern-hamburg.de
PRIORITY:5
SEQUENCE:1
CATEGORIES:SPORT
DTSTAMP:20260420T182725
BEGIN:VALARM
ACTION:DISPLAY
TRIGGER:-PT2H
END:VALARM
END:VEVENT
BEGIN:VEVENT
CLASS:PUBLIC
DTSTART:20240627T180000Z
DURATION:PT2H30M
STATUS:CONFIRMED
SUMMARY:Chupacabras vs. Lotterie (NR)
DESCRIPTION:1.Liga (17. Spieltag)\nErgebnis: 0:2 (0:2)
LOCATION:KIXX, Nobistor 38, 22767 Hamburg-Altona-Altstadt
UID:SM-B14819@kickern-hamburg.de
PRIORITY:5
SEQUENCE:1
CATEGORIES:SPORT
DTSTAMP:20260420T182725
BEGIN:VALARM
ACTION:DISPLAY
TRIGGER:-PT2H
END:VALARM
END:VEVENT
BEGIN:VEVENT
CLASS:PUBLIC
DTSTART:20240709T170000Z
DURATION:PT2H30M
STATUS:CONFIRMED
SUMMARY:HSV II Kurbelkraft (NR) vs. Chupacabras
DESCRIPTION:1.Liga (18. Spieltag)\nErgebnis: 2:0 (2:0)
LOCATION:KIXX, Nobistor 38, 22767 Hamburg-Altona-Altstadt
UID:SM-B14827@kickern-hamburg.de
PRIORITY:5
SEQUENCE:1
CATEGORIES:SPORT
DTSTAMP:20260420T182725
BEGIN:VALARM
ACTION:DISPLAY
TRIGGER:-PT2H
END:VALARM
END:VEVENT
END:VCALENDAR
